PDS_VERSION_ID = PDS3
/* FILE DATA ELEMENTS */
RECORD_TYPE = STREAM
/* POINTERS TO DATA OBJECTS */
^COMPRESSED_FILE = "H8541_0000_GR3.JP2"
/* IDENTIFICATION DATA ELEMENTS */
DATA_SET_ID = "MEX-M-HRSC-5-REFDR-MAPPROJECTED-V3.0"
DATA_SET_NAME = "MARS EXPRESS HRSC MAP PROJECTED REFDR V3.0"
DETECTOR_ID = MEX_HRSC_GREEN
EVENT_TYPE = "MARS-REGIONAL-MAPPING-Im-Fl"
INSTRUMENT_HOST_ID = MEX
INSTRUMENT_HOST_NAME = "MARS EXPRESS"
INSTRUMENT_ID = HRSC
INSTRUMENT_NAME = "HIGH RESOLUTION STEREO CAMERA"
MISSION_NAME = "MARS EXPRESS"
MISSION_PHASE_NAME = ME_Phase_21
PROCESSING_LEVEL_ID = 3
PRODUCT_CREATION_TIME = 2016-10-25T23:07:55.000Z
PRODUCT_ID = "H8541_0000_GR3.JP2"
RELEASE_ID = 0092
REVISION_ID = 0000
/* QUALITY DATA ELEMENTS */
DATA_QUALITY_ID = 1
DATA_QUALITY_DESC = "Data calculated based on original SPICE kernels"
/* TIME DATA ELEMENTS */
SPACECRAFT_CLOCK_START_COUNT = "1/0231755481.07289"
SPACECRAFT_CLOCK_STOP_COUNT = "1/0231755708.56027"
START_TIME = 2010-09-05T08:32:04.826Z
STOP_TIME = 2010-09-05T08:34:26.741Z
/* ORBITAL DATA ELEMENTS */
ASCENDING_NODE_LONGITUDE = 54.16
MAXIMUM_RESOLUTION = 63.4
FOOTPRINT_POINT_LATITUDE = (-38.0936,-38.0906,-38.087,-38.0829, -38.0781,-38.0729,-38.067,-37.7434, -37.4202,-37.0976,-36.7754,-36.5319, -36.3669,-36.2022,-36.0373,-35.8718, -35.7076,-35.5437,-35.3765,-35.2083, -34.9563,-34.7884,-34.5366,-34.3669, -34.1955,-34.0241,-33.8528,-33.6815, -33.5104,-33.3362,-33.1614,-32.9864, -32.7244,-32.5501,-32.3724,-32.1943, -32.0165,-31.839,-31.6619,-31.39, -31.2089,-31.0279,-30.8471,-30.5719, -30.3876,-30.1112,-29.9273,-29.7437, -29.5609,-29.4031,-29.407,-29.4086, -29.41,-29.4105,-29.4116,-29.5954, -29.7794,-29.9636,-30.148,-30.3326, -30.5174,-30.7947,-30.9759,-31.1573, -31.3389,-31.5207,-31.7013,-31.8793, -32.0575,-32.2359,-32.4144,-32.5922, -32.7669,-32.9419,-33.117,-33.2923, -33.5538,-33.7251,-33.8965,-34.0683, -34.2402,-34.498,-34.666,-34.9184, -35.0868,-35.2553,-35.424,-35.5911, -35.7558,-35.9206,-36.0856,-36.3333, -36.4987,-36.6638,-36.9864,-37.3094, -37.4713,-37.6332,-37.7952,-38.0936)
FOOTPRINT_POINT_LONGITUDE = (166.899,166.644,166.389,166.131, 165.873,165.613,165.351,165.146,165.155 ,165.164,165.172,165.179,165.183, 165.186,165.19,165.198,165.2,165.202, 165.204,165.206,165.21,165.213,165.218, 165.221,165.222,165.224,165.226,165.229 ,165.231,165.234,165.236,165.239, 165.243,165.244,165.245,165.246,165.247 ,165.247,165.246,165.249,165.25,165.25, 165.251,165.251,165.251,165.252,165.252 ,165.251,165.249,165.6,166.037,166.309, 166.652,166.939,167.196,167.191,167.186 ,167.18,167.175,167.17,167.165,167.157, 167.151,167.146,167.14,167.135,167.13, 167.124,167.119,167.113,167.107,167.102 ,167.096,167.091,167.085,167.079, 167.071,167.065,167.059,167.053,167.047 ,167.039,167.033,167.024,167.018, 167.012,167.006,166.999,166.993,166.987 ,166.981,166.972,166.965,166.959, 166.947,166.934,166.927,166.921,166.914 ,166.899)
ORBIT_NUMBER = 8541
ORBITAL_ECCENTRICITY = 0.579
ORBITAL_INCLINATION = 86.83
ORBITAL_SEMIMAJOR_AXIS = 8787.9
PERIAPSIS_ALTITUDE = 321.92
PERIAPSIS_ARGUMENT_ANGLE = 302.49
PERIAPSIS_TIME = 2010-09-05T08:27:02.000Z
SPACECRAFT_ORIENTATION = (0.0,1.0,0.0)
^MEX_ORIENTATION_DESC = "MEX_ORIENTATION_DESC.TXT"
SPACECRAFT_POINTING_MODE = ACROSSTRACK
^MEX_POINTING_DESC = "MEX_POINTING_DESC.TXT"
RIGHT_ASCENSION = -1e+32
DECLINATION = -1e+32
OFFSET_ANGLE = 0.55
SPACECRAFT_SOLAR_DISTANCE = 2.3246e+08
TARGET_NAME = MARS
/* CAMERA DATA ELEMENTS */
DETECTOR_TEMPERATURE = 18.3705
FOCAL_PLANE_TEMPERATURE = 8.3794
INST_CMPRS_NAME = "DISCRETE COSINE TRANSFORMATION (DCT)"
INST_CMPRS_RATIO = 7.50432
INST_CMPRS_QUALITY = 0
INST_CMPRS_QUANTZ_TBL_ID = 0
INSTRUMENT_TEMPERATURE = 12.0496
LENS_TEMPERATURE = 8.9911
MACROPIXEL_SIZE = 4
MISSING_FRAMES = 0
PIXEL_SUBSAMPLING_FLAG = N
SIGNAL_CHAIN_ID = 2
/* RADIOMETRIC DATA ELEMENTS */
BANDWIDTH = 88.0
CENTER_FILTER_WAVELENGTH = 538.0
RADIANCE_OFFSET = 0.249257
RADIANCE_SCALING_FACTOR = 0.00632487
REFLECTANCE_SCALING_FACTOR = 0.000294262
MEX:REFLECTANCE_OFFSET = 0.0115966
/* IMAGE OBJECT DEFINITIONS */
OBJECT = IMAGE
  INTERCHANGE_FORMAT = BINARY
  LINES = 10308
  LINE_SAMPLES = 2108
  SAMPLE_TYPE = UNSIGNED_INTEGER
  SAMPLE_BITS = 8
  BANDS = 1
  BAND_STORAGE_TYPE = BAND_SEQUENTIAL
  MAXIMUM = 255
  MEAN = 125.322
  MINIMUM = 1
  STANDARD_DEVIATION = 19.1924
END_OBJECT = IMAGE
/* MAP OBJECT DEFINITIONS */
OBJECT = IMAGE_MAP_PROJECTION
  ^DATA_SET_MAP_PROJECTION_CATALOG= "DSMAP.CAT"
  A_AXIS_RADIUS = 3396.0
  B_AXIS_RADIUS = 3396.0
  C_AXIS_RADIUS = 3396.0
  CENTER_LATITUDE = 0.0
  CENTER_LONGITUDE = 166.0
  COORDINATE_SYSTEM_NAME = PLANETOGRAPHIC
  COORDINATE_SYSTEM_TYPE = "BODY-FIXED ROTATING"
  EASTERNMOST_LONGITUDE = 167.196
  FIRST_STANDARD_PARALLEL = "N/A"
  LINE_FIRST_PIXEL = 1
  LINE_LAST_PIXEL = 10308
  LINE_PROJECTION_OFFSET = -34856.125
  MAP_PROJECTION_ROTATION = 0.0
  MAP_PROJECTION_TYPE = SINUSOIDAL
  MAP_RESOLUTION = 1185.42760773333
  MAP_SCALE = 0.05
  MAXIMUM_LATITUDE = -29.4031
  MINIMUM_LATITUDE = -38.0936
  POSITIVE_LONGITUDE_DIRECTION = EAST
  REFERENCE_LATITUDE = "N/A"
  REFERENCE_LONGITUDE = "N/A"
  SAMPLE_FIRST_PIXEL = 1
  SAMPLE_LAST_PIXEL = 2108
  SAMPLE_PROJECTION_OFFSET = 872.875
  SECOND_STANDARD_PARALLEL = "N/A"
  WESTERNMOST_LONGITUDE = 165.146
END_OBJECT = IMAGE_MAP_PROJECTION
/* The JPEG2000 image data file associated with this label. */
OBJECT = COMPRESSED_FILE
  FILE_NAME = "H8541_0000_GR3.JP2"
  RECORD_TYPE = UNDEFINED
  FILE_RECORDS = UNK
  ENCODING_TYPE = "JP2"
  INTERCHANGE_FORMAT = BINARY
  UNCOMPRESSED_FILE_NAME = "H8541_0000_GR3.IMG"
  REQUIRED_STORAGE_BYTES = "21750344"
  ^DESCRIPTION = "JP2INFO.TXT"
END_OBJECT = COMPRESSED_FILE
END
