PDS_VERSION_ID = PDS3
/* FILE DATA ELEMENTS */
RECORD_TYPE = STREAM
/* POINTERS TO DATA OBJECTS */
^COMPRESSED_FILE = "H8542_0000_P23.JP2"
/* IDENTIFICATION DATA ELEMENTS */
DATA_SET_ID = "MEX-M-HRSC-5-REFDR-MAPPROJECTED-V3.0"
DATA_SET_NAME = "MARS EXPRESS HRSC MAP PROJECTED REFDR V3.0"
DETECTOR_ID = MEX_HRSC_P2
EVENT_TYPE = "MARS-REGIONAL-MAPPING-Im-Lc-La"
INSTRUMENT_HOST_ID = MEX
INSTRUMENT_HOST_NAME = "MARS EXPRESS"
INSTRUMENT_ID = HRSC
INSTRUMENT_NAME = "HIGH RESOLUTION STEREO CAMERA"
MISSION_NAME = "MARS EXPRESS"
MISSION_PHASE_NAME = ME_Phase_21
PROCESSING_LEVEL_ID = 3
PRODUCT_CREATION_TIME = 2016-10-25T23:07:55.000Z
PRODUCT_ID = "H8542_0000_P23.JP2"
RELEASE_ID = 0092
REVISION_ID = 0000
/* QUALITY DATA ELEMENTS */
DATA_QUALITY_ID = 1
DATA_QUALITY_DESC = "Data calculated based on original SPICE kernels"
/* TIME DATA ELEMENTS */
SPACECRAFT_CLOCK_START_COUNT = "1/0231780578.09060"
SPACECRAFT_CLOCK_STOP_COUNT = "1/0231780864.00724"
START_TIME = 2010-09-05T15:29:51.235Z
STOP_TIME = 2010-09-05T15:33:08.068Z
/* ORBITAL DATA ELEMENTS */
ASCENDING_NODE_LONGITUDE = 54.14
MAXIMUM_RESOLUTION = 58.6
FOOTPRINT_POINT_LATITUDE = (-43.6444,-43.6454,-43.6437,-43.5739, -43.128,-42.9036,-42.6794,-42.4556, -42.2322,-42.0095,-41.7864,-41.4511, -40.8951,-40.6723,-40.4492,-40.2203, -39.9544,-39.6887,-39.2903,-39.0252, -38.628,-38.2306,-37.9683,-37.7048, -37.3068,-37.042,-36.7779,-36.5139, -36.2504,-35.9875,-35.7235,-35.4613, -35.1985,-34.935,-34.6678,-34.4027, -34.1331,-33.8621,-33.5929,-33.3176, -33.0467,-32.772,-32.4991,-32.2166, -31.9358,-31.6552,-31.3703,-31.0812, -30.7976,-30.736,-30.7322,-30.7283, -30.7236,-30.7149,-31.0021,-31.2901, -31.7162,-31.9977,-32.2785,-32.5596, -32.8349,-33.1099,-33.3857,-33.6587, -33.9245,-34.1947,-34.5977,-34.9966, -35.2627,-35.5253,-35.7895,-36.0521, -36.3156,-36.5799,-36.9758,-37.24, -37.5045,-37.9028,-38.1687,-38.4337, -38.6989,-38.965,-39.3632,-39.6286, -39.8935,-40.2854,-40.6202,-40.8435, -41.0668,-41.2907,-41.5148,-41.7378, -41.9617,-42.2971,-42.5216,-42.7458, -42.969,-43.1929,-43.5295,-43.6444)
FOOTPRINT_POINT_LONGITUDE = (65.5223,65.0243,64.5328,64.1609, 64.1746,64.181,64.1873,64.1933,64.1992, 64.2049,64.2104,64.2182,64.2303,64.2348 ,64.2391,64.2433,64.248,64.2524,64.2586 ,64.2624,64.2677,64.2724,64.2755, 64.2782,64.2816,64.2836,64.2854,64.287, 64.2884,64.2897,64.2906,64.2915,64.2921 ,64.2923,64.2921,64.2926,64.2924, 64.2916,64.2909,64.2901,64.2896,64.2885 ,64.2873,64.2855,64.2837,64.2817,64.279 ,64.2762,64.274,64.5449,65.0419,65.3183 ,65.6307,66.1264,66.1234,66.1198, 66.1141,66.1105,66.1079,66.1033,66.0997 ,66.0964,66.0926,66.0894,66.0887,66.084 ,66.0795,66.0719,66.0651,66.0617, 66.0569,66.0537,66.0498,66.0452,66.0389 ,66.0346,66.0302,66.022,66.0163,66.0115 ,66.0067,66.001,65.9934,65.9885,65.9842 ,65.9763,65.9691,65.9642,65.9593, 65.9538,65.9481,65.9436,65.9381,65.9303 ,65.9242,65.9183,65.9135,65.908,65.8988 ,65.5223)
ORBIT_NUMBER = 8542
ORBITAL_ECCENTRICITY = 0.579
ORBITAL_INCLINATION = 86.84
ORBITAL_SEMIMAJOR_AXIS = 8789.23
PERIAPSIS_ALTITUDE = 320.78
PERIAPSIS_ARGUMENT_ANGLE = 302.31
PERIAPSIS_TIME = 2010-09-05T15:26:39.000Z
SPACECRAFT_ORIENTATION = (0.0,1.0,0.0)
^MEX_ORIENTATION_DESC = "MEX_ORIENTATION_DESC.TXT"
SPACECRAFT_POINTING_MODE = ACROSSTRACK
^MEX_POINTING_DESC = "MEX_POINTING_DESC.TXT"
RIGHT_ASCENSION = -1e+32
DECLINATION = -1e+32
OFFSET_ANGLE = -0.5
SPACECRAFT_SOLAR_DISTANCE = 2.32406e+08
TARGET_NAME = MARS
/* CAMERA DATA ELEMENTS */
DETECTOR_TEMPERATURE = 18.5744
FOCAL_PLANE_TEMPERATURE = 8.1755
INST_CMPRS_NAME = "DISCRETE COSINE TRANSFORMATION (DCT)"
INST_CMPRS_RATIO = 13.0223
INST_CMPRS_QUALITY = 0
INST_CMPRS_QUANTZ_TBL_ID = 0
INSTRUMENT_TEMPERATURE = 11.234
LENS_TEMPERATURE = 8.5833
MACROPIXEL_SIZE = 4
MISSING_FRAMES = 0
PIXEL_SUBSAMPLING_FLAG = N
SIGNAL_CHAIN_ID = 3
/* RADIOMETRIC DATA ELEMENTS */
BANDWIDTH = 177.0
CENTER_FILTER_WAVELENGTH = 676.5
RADIANCE_OFFSET = 2.77538
RADIANCE_SCALING_FACTOR = 0.011813
REFLECTANCE_SCALING_FACTOR = 0.000338304
MEX:REFLECTANCE_OFFSET = 0.0794824
/* IMAGE OBJECT DEFINITIONS */
OBJECT = IMAGE
  INTERCHANGE_FORMAT = BINARY
  LINES = 15247
  LINE_SAMPLES = 1999
  SAMPLE_TYPE = UNSIGNED_INTEGER
  SAMPLE_BITS = 8
  BANDS = 1
  BAND_STORAGE_TYPE = BAND_SEQUENTIAL
  MAXIMUM = 255
  MEAN = 127.682
  MINIMUM = 1
  STANDARD_DEVIATION = 30.831
END_OBJECT = IMAGE
/* MAP OBJECT DEFINITIONS */
OBJECT = IMAGE_MAP_PROJECTION
  ^DATA_SET_MAP_PROJECTION_CATALOG= "DSMAP.CAT"
  A_AXIS_RADIUS = 3396.0
  B_AXIS_RADIUS = 3396.0
  C_AXIS_RADIUS = 3396.0
  CENTER_LATITUDE = 0.0
  CENTER_LONGITUDE = 65.0
  COORDINATE_SYSTEM_NAME = PLANETOGRAPHIC
  COORDINATE_SYSTEM_TYPE = "BODY-FIXED ROTATING"
  EASTERNMOST_LONGITUDE = 66.1264
  FIRST_STANDARD_PARALLEL = "N/A"
  LINE_FIRST_PIXEL = 1
  LINE_LAST_PIXEL = 15247
  LINE_PROJECTION_OFFSET = -36452.625
  MAP_PROJECTION_ROTATION = 0.0
  MAP_PROJECTION_TYPE = SINUSOIDAL
  MAP_RESOLUTION = 1185.42760773333
  MAP_SCALE = 0.05
  MAXIMUM_LATITUDE = -30.7149
  MINIMUM_LATITUDE = -43.6454
  POSITIVE_LONGITUDE_DIRECTION = EAST
  REFERENCE_LATITUDE = "N/A"
  REFERENCE_LONGITUDE = "N/A"
  SAMPLE_FIRST_PIXEL = 1
  SAMPLE_LAST_PIXEL = 1999
  SAMPLE_PROJECTION_OFFSET = 789.875
  SECOND_STANDARD_PARALLEL = "N/A"
  WESTERNMOST_LONGITUDE = 64.1609
END_OBJECT = IMAGE_MAP_PROJECTION
/* The JPEG2000 image data file associated with this label. */
OBJECT = COMPRESSED_FILE
  FILE_NAME = "H8542_0000_P23.JP2"
  RECORD_TYPE = UNDEFINED
  FILE_RECORDS = UNK
  ENCODING_TYPE = "JP2"
  INTERCHANGE_FORMAT = BINARY
  UNCOMPRESSED_FILE_NAME = "H8542_0000_P23.IMG"
  REQUIRED_STORAGE_BYTES = "30498743"
  ^DESCRIPTION = "JP2INFO.TXT"
END_OBJECT = COMPRESSED_FILE
END
