PDS_VERSION_ID = PDS3
/* FILE DATA ELEMENTS */
RECORD_TYPE = STREAM
/* POINTERS TO DATA OBJECTS */
^COMPRESSED_FILE = "H8546_0000_GR3.JP2"
/* IDENTIFICATION DATA ELEMENTS */
DATA_SET_ID = "MEX-M-HRSC-5-REFDR-MAPPROJECTED-V3.0"
DATA_SET_NAME = "MARS EXPRESS HRSC MAP PROJECTED REFDR V3.0"
DETECTOR_ID = MEX_HRSC_GREEN
EVENT_TYPE = "MARS-REGIONAL-MAPPING-Im-Pf"
INSTRUMENT_HOST_ID = MEX
INSTRUMENT_HOST_NAME = "MARS EXPRESS"
INSTRUMENT_ID = HRSC
INSTRUMENT_NAME = "HIGH RESOLUTION STEREO CAMERA"
MISSION_NAME = "MARS EXPRESS"
MISSION_PHASE_NAME = ME_Phase_21
PROCESSING_LEVEL_ID = 3
PRODUCT_CREATION_TIME = 2016-10-25T23:07:55.000Z
PRODUCT_ID = "H8546_0000_GR3.JP2"
RELEASE_ID = 0092
REVISION_ID = 0000
/* QUALITY DATA ELEMENTS */
DATA_QUALITY_ID = 1
DATA_QUALITY_DESC = "Data calculated based on original SPICE kernels"
/* TIME DATA ELEMENTS */
SPACECRAFT_CLOCK_START_COUNT = "1/0231881298.09037"
SPACECRAFT_CLOCK_STOP_COUNT = "1/0231881553.48937"
START_TIME = 2010-09-06T19:28:58.075Z
STOP_TIME = 2010-09-06T19:31:54.839Z
/* ORBITAL DATA ELEMENTS */
ASCENDING_NODE_LONGITUDE = 54.07
MAXIMUM_RESOLUTION = 115.7
FOOTPRINT_POINT_LATITUDE = (-43.6138,-43.6028,-43.4998,-43.1284, -42.7576,-42.5418,-42.3209,-42.1002, -41.8797,-41.6594,-41.4392,-41.2194, -40.9997,-40.7803,-40.561,-40.3419, -40.1231,-39.9043,-39.6856,-39.4676, -39.2497,-39.032,-38.8146,-38.5973, -38.3801,-38.1634,-37.9468,-37.7304, -37.5143,-37.2944,-37.0729,-36.8519, -36.631,-36.4104,-36.0725,-35.8467, -35.6212,-35.396,-35.0519,-34.8216, -34.5924,-34.363,-34.1281,-33.8929, -33.6587,-33.4248,-33.0663,-32.8273, -32.5867,-32.591,-32.5961,-32.5979, -32.5992,-32.602,-32.841,-33.0804, -33.4396,-33.6743,-33.9093,-34.1445, -34.3793,-34.6094,-34.8399,-35.0707, -35.4155,-35.6411,-35.8681,-36.0943, -36.4329,-36.654,-36.8745,-37.0965, -37.3191,-37.5396,-37.7562,-37.9729, -38.1899,-38.4072,-38.6247,-38.8412, -39.1682,-39.3865,-39.6053,-39.8241, -40.0431,-40.2623,-40.4817,-40.7015, -40.9214,-41.1412,-41.3615,-41.5819, -41.8026,-42.0235,-42.2446,-42.4658, -42.793,-43.1647,-43.5368,-43.6138)
FOOTPRINT_POINT_LONGITUDE = (15.322,14.8468,14.302,14.3173,14.3317, 14.34,14.3481,14.3561,14.3638,14.3714, 14.3787,14.3856,14.3924,14.3987,14.4051 ,14.4111,14.4171,14.4231,14.4293, 14.4341,14.4392,14.4438,14.4483,14.4527 ,14.4573,14.4613,14.4653,14.469,14.4725 ,14.4759,14.4793,14.4818,14.4846, 14.4873,14.4913,14.4936,14.4958,14.4977 ,14.5006,14.5023,14.5018,14.5026, 14.5048,14.5068,14.5072,14.5073,14.5083 ,14.5086,14.6639,14.9979,15.5068, 15.8403,16.121,16.3785,16.3725,16.3665, 16.3575,16.3518,16.3459,16.3397,16.3333 ,16.327,16.321,16.3149,16.3052,16.2986, 16.2945,16.288,16.2782,16.2716,16.2629, 16.257,16.2519,16.2452,16.2385,16.2316, 16.2246,16.2176,16.2105,16.2003,16.1895 ,16.1822,16.1752,16.1679,16.1604, 16.1527,16.1449,16.1373,16.1295,16.1208 ,16.1126,16.1042,16.0959,16.0874, 16.0788,16.0702,16.0569,16.0417,16.0258 ,15.322)
ORBIT_NUMBER = 8546
ORBITAL_ECCENTRICITY = 0.579
ORBITAL_INCLINATION = 86.83
ORBITAL_SEMIMAJOR_AXIS = 8787.46
PERIAPSIS_ALTITUDE = 321.49
PERIAPSIS_ARGUMENT_ANGLE = 301.61
PERIAPSIS_TIME = 2010-09-06T19:25:09.000Z
SPACECRAFT_ORIENTATION = (0.0,1.0,0.0)
^MEX_ORIENTATION_DESC = "MEX_ORIENTATION_DESC.TXT"
SPACECRAFT_POINTING_MODE = NADIR
^MEX_POINTING_DESC = "MEX_POINTING_DESC.TXT"
RIGHT_ASCENSION = -1e+32
DECLINATION = -1e+32
OFFSET_ANGLE = -1e+32
SPACECRAFT_SOLAR_DISTANCE = 2.32188e+08
TARGET_NAME = MARS
/* CAMERA DATA ELEMENTS */
DETECTOR_TEMPERATURE = 18.1666
FOCAL_PLANE_TEMPERATURE = 7.5638
INST_CMPRS_NAME = "DISCRETE COSINE TRANSFORMATION (DCT)"
INST_CMPRS_RATIO = 12.3998
INST_CMPRS_QUALITY = 0
INST_CMPRS_QUANTZ_TBL_ID = 0
INSTRUMENT_TEMPERATURE = 11.0301
LENS_TEMPERATURE = 7.9716
MACROPIXEL_SIZE = 8
MISSING_FRAMES = 0
PIXEL_SUBSAMPLING_FLAG = N
SIGNAL_CHAIN_ID = 2
/* RADIOMETRIC DATA ELEMENTS */
BANDWIDTH = 88.0
CENTER_FILTER_WAVELENGTH = 538.0
RADIANCE_OFFSET = 0.508256
RADIANCE_SCALING_FACTOR = 0.00427801
REFLECTANCE_SCALING_FACTOR = 0.000198567
MEX:REFLECTANCE_OFFSET = 0.0235911
/* IMAGE OBJECT DEFINITIONS */
OBJECT = IMAGE
  INTERCHANGE_FORMAT = BINARY
  LINES = 6551
  LINE_SAMPLES = 1017
  SAMPLE_TYPE = UNSIGNED_INTEGER
  SAMPLE_BITS = 8
  BANDS = 1
  BAND_STORAGE_TYPE = BAND_SEQUENTIAL
  MAXIMUM = 255
  MEAN = 123.776
  MINIMUM = 1
  STANDARD_DEVIATION = 23.7634
END_OBJECT = IMAGE
/* MAP OBJECT DEFINITIONS */
OBJECT = IMAGE_MAP_PROJECTION
  ^DATA_SET_MAP_PROJECTION_CATALOG= "DSMAP.CAT"
  A_AXIS_RADIUS = 3396.0
  B_AXIS_RADIUS = 3396.0
  C_AXIS_RADIUS = 3396.0
  CENTER_LATITUDE = 0.0
  CENTER_LONGITUDE = 15.0
  COORDINATE_SYSTEM_NAME = PLANETOGRAPHIC
  COORDINATE_SYSTEM_TYPE = "BODY-FIXED ROTATING"
  EASTERNMOST_LONGITUDE = 16.3785
  FIRST_STANDARD_PARALLEL = "N/A"
  LINE_FIRST_PIXEL = 1
  LINE_LAST_PIXEL = 6551
  LINE_PROJECTION_OFFSET = -19318.9375
  MAP_PROJECTION_ROTATION = 0.0
  MAP_PROJECTION_TYPE = SINUSOIDAL
  MAP_RESOLUTION = 592.713803866667
  MAP_SCALE = 0.1
  MAXIMUM_LATITUDE = -32.5867
  MINIMUM_LATITUDE = -43.6138
  POSITIVE_LONGITUDE_DIRECTION = EAST
  REFERENCE_LATITUDE = "N/A"
  REFERENCE_LONGITUDE = "N/A"
  SAMPLE_FIRST_PIXEL = 1
  SAMPLE_LAST_PIXEL = 1017
  SAMPLE_PROJECTION_OFFSET = 321.6875
  SECOND_STANDARD_PARALLEL = "N/A"
  WESTERNMOST_LONGITUDE = 14.302
END_OBJECT = IMAGE_MAP_PROJECTION
/* The JPEG2000 image data file associated with this label. */
OBJECT = COMPRESSED_FILE
  FILE_NAME = "H8546_0000_GR3.JP2"
  RECORD_TYPE = UNDEFINED
  FILE_RECORDS = UNK
  ENCODING_TYPE = "JP2"
  INTERCHANGE_FORMAT = BINARY
  UNCOMPRESSED_FILE_NAME = "H8546_0000_GR3.IMG"
  REQUIRED_STORAGE_BYTES = "6680673"
  ^DESCRIPTION = "JP2INFO.TXT"
END_OBJECT = COMPRESSED_FILE
END
