PDS_VERSION_ID = PDS3
/* FILE DATA ELEMENTS */
RECORD_TYPE = STREAM
/* POINTERS TO DATA OBJECTS */
^COMPRESSED_FILE = "H8551_0000_P13.JP2"
/* IDENTIFICATION DATA ELEMENTS */
DATA_SET_ID = "MEX-M-HRSC-5-REFDR-MAPPROJECTED-V3.0"
DATA_SET_NAME = "MARS EXPRESS HRSC MAP PROJECTED REFDR V3.0"
DETECTOR_ID = MEX_HRSC_P1
EVENT_TYPE = "MARS-REGIONAL-MAPPING-Vo"
INSTRUMENT_HOST_ID = MEX
INSTRUMENT_HOST_NAME = "MARS EXPRESS"
INSTRUMENT_ID = HRSC
INSTRUMENT_NAME = "HIGH RESOLUTION STEREO CAMERA"
MISSION_NAME = "MARS EXPRESS"
MISSION_PHASE_NAME = ME_Phase_21
PROCESSING_LEVEL_ID = 3
PRODUCT_CREATION_TIME = 2016-10-25T23:07:55.000Z
PRODUCT_ID = "H8551_0000_P13.JP2"
RELEASE_ID = 0092
REVISION_ID = 0000
/* QUALITY DATA ELEMENTS */
DATA_QUALITY_ID = 1
DATA_QUALITY_DESC = "Data calculated based on original SPICE kernels"
/* TIME DATA ELEMENTS */
SPACECRAFT_CLOCK_START_COUNT = "1/0232007410.09057"
SPACECRAFT_CLOCK_STOP_COUNT = "1/0232007696.56112"
START_TIME = 2010-09-08T06:31:31.525Z
STOP_TIME = 2010-09-08T06:34:28.666Z
/* ORBITAL DATA ELEMENTS */
ASCENDING_NODE_LONGITUDE = 53.97
MAXIMUM_RESOLUTION = 42.9
FOOTPRINT_POINT_LATITUDE = (-29.6357,-29.6335,-29.6308,-29.6277, -29.6241,-29.6201,-29.6258,-29.1967, -28.852,-28.5028,-28.2405,-27.9755, -27.6214,-27.3528,-26.9943,-26.8125, -26.6307,-26.4492,-26.2657,-26.0815, -25.8978,-25.6191,-25.4328,-25.2474, -25.0573,-24.8694,-24.6799,-24.4891, -24.2987,-24.1065,-23.9134,-23.6235, -23.4286,-23.1352,-22.9381,-22.7414, -22.5423,-22.2439,-21.942,-21.7412, -21.4364,-21.1284,-20.9232,-20.7161, -20.5089,-20.3004,-20.1882,-20.1877, -20.1864,-20.1856,-20.1848,-20.1833, -20.1822,-20.1811,-20.18,-20.1788, -20.1775,-20.282,-20.4916,-20.6995, -20.9076,-21.1135,-21.4221,-21.6259, -21.8298,-22.0314,-22.3337,-22.5334, -22.7334,-22.9309,-23.1287,-23.4232, -23.6189,-23.9098,-24.1035,-24.2965, -24.4876,-24.679,-24.9636,-25.1527, -25.3414,-25.5279,-25.7149,-25.9009, -26.0851,-26.2698,-26.454,-26.6361, -26.8186,-27.0011,-27.1807,-27.3608, -27.5411,-27.8971,-28.2517,-28.6021, -28.865,-29.2105,-29.4699,-29.6357)
FOOTPRINT_POINT_LONGITUDE = (225.527,225.199,224.872,224.547, 224.223,223.901,223.59,223.582,223.575, 223.567,223.561,223.555,223.546,223.539 ,223.53,223.525,223.52,223.515,223.51, 223.505,223.5,223.491,223.486,223.48, 223.474,223.468,223.462,223.456,223.45, 223.443,223.437,223.427,223.42,223.409, 223.402,223.395,223.387,223.376,223.364 ,223.356,223.344,223.331,223.323, 223.314,223.305,223.296,223.462,223.659 ,223.98,224.177,224.375,224.648,224.846 ,225.045,225.245,225.445,225.645, 225.853,225.85,225.847,225.843,225.84, 225.835,225.832,225.829,225.826,225.821 ,225.818,225.814,225.811,225.808, 225.803,225.8,225.795,225.792,225.789, 225.786,225.783,225.779,225.775,225.772 ,225.769,225.766,225.763,225.76,225.757 ,225.754,225.751,225.748,225.745, 225.742,225.739,225.736,225.731,225.725 ,225.719,225.714,225.708,225.703, 225.527)
ORBIT_NUMBER = 8551
ORBITAL_ECCENTRICITY = 0.579
ORBITAL_INCLINATION = 86.84
ORBITAL_SEMIMAJOR_AXIS = 8783.81
PERIAPSIS_ALTITUDE = 320.39
PERIAPSIS_ARGUMENT_ANGLE = 300.75
PERIAPSIS_TIME = 2010-09-08T06:23:17.000Z
SPACECRAFT_ORIENTATION = (0.0,1.0,0.0)
^MEX_ORIENTATION_DESC = "MEX_ORIENTATION_DESC.TXT"
SPACECRAFT_POINTING_MODE = ACROSSTRACK
^MEX_POINTING_DESC = "MEX_POINTING_DESC.TXT"
RIGHT_ASCENSION = -1e+32
DECLINATION = -1e+32
OFFSET_ANGLE = -0.5
SPACECRAFT_SOLAR_DISTANCE = 2.31914e+08
TARGET_NAME = MARS
/* CAMERA DATA ELEMENTS */
DETECTOR_TEMPERATURE = 16.9432
FOCAL_PLANE_TEMPERATURE = 7.7677
INST_CMPRS_NAME = "DISCRETE COSINE TRANSFORMATION (DCT)"
INST_CMPRS_RATIO = 8.94462
INST_CMPRS_QUALITY = 0
INST_CMPRS_QUANTZ_TBL_ID = 0
INSTRUMENT_TEMPERATURE = 10.8262
LENS_TEMPERATURE = 7.7677
MACROPIXEL_SIZE = 2
MISSING_FRAMES = 0
PIXEL_SUBSAMPLING_FLAG = N
SIGNAL_CHAIN_ID = 3
/* RADIOMETRIC DATA ELEMENTS */
BANDWIDTH = 174.0
CENTER_FILTER_WAVELENGTH = 675.0
RADIANCE_OFFSET = 1.70203
RADIANCE_SCALING_FACTOR = 0.0331769
REFLECTANCE_SCALING_FACTOR = 0.000959781
MEX:REFLECTANCE_OFFSET = 0.0492385
/* IMAGE OBJECT DEFINITIONS */
OBJECT = IMAGE
  INTERCHANGE_FORMAT = BINARY
  LINES = 11226
  LINE_SAMPLES = 2727
  SAMPLE_TYPE = UNSIGNED_INTEGER
  SAMPLE_BITS = 8
  BANDS = 1
  BAND_STORAGE_TYPE = BAND_SEQUENTIAL
  MAXIMUM = 255
  MEAN = 127.446
  MINIMUM = 1
  STANDARD_DEVIATION = 27.7818
END_OBJECT = IMAGE
/* MAP OBJECT DEFINITIONS */
OBJECT = IMAGE_MAP_PROJECTION
  ^DATA_SET_MAP_PROJECTION_CATALOG= "DSMAP.CAT"
  A_AXIS_RADIUS = 3396.0
  B_AXIS_RADIUS = 3396.0
  C_AXIS_RADIUS = 3396.0
  CENTER_LATITUDE = 0.0
  CENTER_LONGITUDE = 225.0
  COORDINATE_SYSTEM_NAME = PLANETOGRAPHIC
  COORDINATE_SYSTEM_TYPE = "BODY-FIXED ROTATING"
  EASTERNMOST_LONGITUDE = 225.853
  FIRST_STANDARD_PARALLEL = "N/A"
  LINE_FIRST_PIXEL = 1
  LINE_LAST_PIXEL = 11226
  LINE_PROJECTION_OFFSET = -23936.75
  MAP_PROJECTION_ROTATION = 0.0
  MAP_PROJECTION_TYPE = SINUSOIDAL
  MAP_RESOLUTION = 1185.42760773333
  MAP_SCALE = 0.05
  MAXIMUM_LATITUDE = -20.1775
  MINIMUM_LATITUDE = -29.6357
  POSITIVE_LONGITUDE_DIRECTION = EAST
  REFERENCE_LATITUDE = "N/A"
  REFERENCE_LONGITUDE = "N/A"
  SAMPLE_FIRST_PIXEL = 1
  SAMPLE_LAST_PIXEL = 2727
  SAMPLE_PROJECTION_OFFSET = 1820.25
  SECOND_STANDARD_PARALLEL = "N/A"
  WESTERNMOST_LONGITUDE = 223.296
END_OBJECT = IMAGE_MAP_PROJECTION
/* The JPEG2000 image data file associated with this label. */
OBJECT = COMPRESSED_FILE
  FILE_NAME = "H8551_0000_P13.JP2"
  RECORD_TYPE = UNDEFINED
  FILE_RECORDS = UNK
  ENCODING_TYPE = "JP2"
  INTERCHANGE_FORMAT = BINARY
  UNCOMPRESSED_FILE_NAME = "H8551_0000_P13.IMG"
  REQUIRED_STORAGE_BYTES = "30635118"
  ^DESCRIPTION = "JP2INFO.TXT"
END_OBJECT = COMPRESSED_FILE
END
