PDS_VERSION_ID = PDS3
/* FILE DATA ELEMENTS */
RECORD_TYPE = STREAM
/* POINTERS TO DATA OBJECTS */
^COMPRESSED_FILE = "H8564_0000_P23.JP2"
/* IDENTIFICATION DATA ELEMENTS */
DATA_SET_ID = "MEX-M-HRSC-5-REFDR-MAPPROJECTED-V3.0"
DATA_SET_NAME = "MARS EXPRESS HRSC MAP PROJECTED REFDR V3.0"
DETECTOR_ID = MEX_HRSC_P2
EVENT_TYPE = "MARS-REGIONAL-MAPPING-Im"
INSTRUMENT_HOST_ID = MEX
INSTRUMENT_HOST_NAME = "MARS EXPRESS"
INSTRUMENT_ID = HRSC
INSTRUMENT_NAME = "HIGH RESOLUTION STEREO CAMERA"
MISSION_NAME = "MARS EXPRESS"
MISSION_PHASE_NAME = ME_Phase_21
PROCESSING_LEVEL_ID = 3
PRODUCT_CREATION_TIME = 2016-10-25T23:07:55.000Z
PRODUCT_ID = "H8564_0000_P23.JP2"
RELEASE_ID = 0092
REVISION_ID = 0000
/* QUALITY DATA ELEMENTS */
DATA_QUALITY_ID = 1
DATA_QUALITY_DESC = "Data calculated based on original SPICE kernels"
/* TIME DATA ELEMENTS */
SPACECRAFT_CLOCK_START_COUNT = "1/0232334524.08244"
SPACECRAFT_CLOCK_STOP_COUNT = "1/0232334797.16209"
START_TIME = 2010-09-12T01:22:17.534Z
STOP_TIME = 2010-09-12T01:25:19.330Z
/* ORBITAL DATA ELEMENTS */
ASCENDING_NODE_LONGITUDE = 53.73
MAXIMUM_RESOLUTION = 58.9
FOOTPRINT_POINT_LATITUDE = (-45.7535,-45.7539,-45.7536,-45.7505, -45.7065,-45.5091,-45.3132,-45.1147, -44.8163,-44.6173,-44.4187,-44.2198, -43.8668,-43.6303,-43.3941,-43.1581, -42.804,-42.567,-42.2134,-41.9786, -41.7393,-41.5015,-41.2682,-40.9181, -40.5653,-40.3293,-40.0939,-39.8601, -39.6251,-39.2736,-39.0408,-38.8072, -38.4511,-38.2113,-37.9717,-37.7311, -37.4925,-37.2478,-37.0029,-36.7577, -36.5126,-36.2641,-36.0136,-35.7632, -35.5131,-35.2599,-35.0039,-34.7481, -34.4924,-34.2331,-33.8833,-33.8821, -33.8795,-33.877,-33.8734,-33.8673, -34.1287,-34.3906,-34.6467,-34.9029, -35.1595,-35.5408,-35.9172,-36.1682, -36.542,-36.9101,-37.1557,-37.5241, -37.8841,-38.2445,-38.4849,-38.7231, -39.0738,-39.3082,-39.5432,-39.7785, -40.0135,-40.2452,-40.593,-40.9447, -41.1801,-41.4158,-41.6518,-41.8918, -42.2518,-42.4873,-42.7237,-42.9601, -43.3152,-43.552,-43.7902,-44.1467, -44.3565,-44.5557,-44.7508,-44.9503, -45.2498,-45.4488,-45.6483,-45.7535)
FOOTPRINT_POINT_LONGITUDE = (335.284,335.019,334.755,334.233, 333.774,333.782,333.789,333.796,333.806 ,333.813,333.819,333.825,333.836, 333.843,333.849,333.856,333.865,333.87, 333.878,333.884,333.888,333.893,333.897 ,333.904,333.91,333.913,333.917,333.92, 333.923,333.927,333.93,333.932,333.935, 333.937,333.939,333.941,333.942,333.943 ,333.944,333.945,333.946,333.946, 333.947,333.947,333.947,333.946,333.946 ,333.945,333.944,333.943,334.099, 334.577,334.951,335.201,335.453,335.858 ,335.854,335.85,335.846,335.841,335.837 ,335.83,335.823,335.819,335.811,335.804 ,335.799,335.792,335.784,335.777, 335.771,335.767,335.76,335.755,335.749, 335.743,335.738,335.736,335.733,335.726 ,335.72,335.715,335.708,335.698,335.683 ,335.677,335.671,335.664,335.654, 335.647,335.639,335.627,335.62,335.613, 335.612,335.605,335.594,335.588,335.581 ,335.284)
ORBIT_NUMBER = 8564
ORBITAL_ECCENTRICITY = 0.578
ORBITAL_INCLINATION = 86.84
ORBITAL_SEMIMAJOR_AXIS = 8780.2
PERIAPSIS_ALTITUDE = 320.85
PERIAPSIS_ARGUMENT_ANGLE = 298.54
PERIAPSIS_TIME = 2010-09-12T01:18:40.000Z
SPACECRAFT_ORIENTATION = (0.0,1.0,0.0)
^MEX_ORIENTATION_DESC = "MEX_ORIENTATION_DESC.TXT"
SPACECRAFT_POINTING_MODE = ACROSSTRACK
^MEX_POINTING_DESC = "MEX_POINTING_DESC.TXT"
RIGHT_ASCENSION = -1e+32
DECLINATION = -1e+32
OFFSET_ANGLE = -0.5
SPACECRAFT_SOLAR_DISTANCE = 2.31199e+08
TARGET_NAME = MARS
/* CAMERA DATA ELEMENTS */
DETECTOR_TEMPERATURE = 18.7783
FOCAL_PLANE_TEMPERATURE = 8.1755
INST_CMPRS_NAME = "DISCRETE COSINE TRANSFORMATION (DCT)"
INST_CMPRS_RATIO = 7.7395
INST_CMPRS_QUALITY = 0
INST_CMPRS_QUANTZ_TBL_ID = 0
INSTRUMENT_TEMPERATURE = 10.8262
LENS_TEMPERATURE = 8.5833
MACROPIXEL_SIZE = 4
MISSING_FRAMES = 0
PIXEL_SUBSAMPLING_FLAG = N
SIGNAL_CHAIN_ID = 3
/* RADIOMETRIC DATA ELEMENTS */
BANDWIDTH = 177.0
CENTER_FILTER_WAVELENGTH = 676.5
RADIANCE_OFFSET = 1.25231
RADIANCE_SCALING_FACTOR = 0.0123439
REFLECTANCE_SCALING_FACTOR = 0.000349849
MEX:REFLECTANCE_OFFSET = 0.0354927
/* IMAGE OBJECT DEFINITIONS */
OBJECT = IMAGE
  INTERCHANGE_FORMAT = BINARY
  LINES = 14060
  LINE_SAMPLES = 2036
  SAMPLE_TYPE = UNSIGNED_INTEGER
  SAMPLE_BITS = 8
  BANDS = 1
  BAND_STORAGE_TYPE = BAND_SEQUENTIAL
  MAXIMUM = 255
  MEAN = 133.454
  MINIMUM = 1
  STANDARD_DEVIATION = 16.4252
END_OBJECT = IMAGE
/* MAP OBJECT DEFINITIONS */
OBJECT = IMAGE_MAP_PROJECTION
  ^DATA_SET_MAP_PROJECTION_CATALOG= "DSMAP.CAT"
  A_AXIS_RADIUS = 3396.0
  B_AXIS_RADIUS = 3396.0
  C_AXIS_RADIUS = 3396.0
  CENTER_LATITUDE = 0.0
  CENTER_LONGITUDE = 335.0
  COORDINATE_SYSTEM_NAME = PLANETOGRAPHIC
  COORDINATE_SYSTEM_TYPE = "BODY-FIXED ROTATING"
  EASTERNMOST_LONGITUDE = 335.858
  FIRST_STANDARD_PARALLEL = "N/A"
  LINE_FIRST_PIXEL = 1
  LINE_LAST_PIXEL = 14060
  LINE_PROJECTION_OFFSET = -40133.125
  MAP_PROJECTION_ROTATION = 0.0
  MAP_PROJECTION_TYPE = SINUSOIDAL
  MAP_RESOLUTION = 1185.42760773333
  MAP_SCALE = 0.05
  MAXIMUM_LATITUDE = -33.8673
  MINIMUM_LATITUDE = -45.7539
  POSITIVE_LONGITUDE_DIRECTION = EAST
  REFERENCE_LATITUDE = "N/A"
  REFERENCE_LONGITUDE = "N/A"
  SAMPLE_FIRST_PIXEL = 1
  SAMPLE_LAST_PIXEL = 2036
  SAMPLE_PROJECTION_OFFSET = 1100.875
  SECOND_STANDARD_PARALLEL = "N/A"
  WESTERNMOST_LONGITUDE = 333.774
END_OBJECT = IMAGE_MAP_PROJECTION
/* The JPEG2000 image data file associated with this label. */
OBJECT = COMPRESSED_FILE
  FILE_NAME = "H8564_0000_P23.JP2"
  RECORD_TYPE = UNDEFINED
  FILE_RECORDS = UNK
  ENCODING_TYPE = "JP2"
  INTERCHANGE_FORMAT = BINARY
  UNCOMPRESSED_FILE_NAME = "H8564_0000_P23.IMG"
  REQUIRED_STORAGE_BYTES = "28646520"
  ^DESCRIPTION = "JP2INFO.TXT"
END_OBJECT = COMPRESSED_FILE
END
