PDS_VERSION_ID = PDS3
/* FILE DATA ELEMENTS */
RECORD_TYPE = STREAM
/* POINTERS TO DATA OBJECTS */
^COMPRESSED_FILE = "H8564_0000_S13.JP2"
/* IDENTIFICATION DATA ELEMENTS */
DATA_SET_ID = "MEX-M-HRSC-5-REFDR-MAPPROJECTED-V3.0"
DATA_SET_NAME = "MARS EXPRESS HRSC MAP PROJECTED REFDR V3.0"
DETECTOR_ID = MEX_HRSC_S1
EVENT_TYPE = "MARS-REGIONAL-MAPPING-Im"
INSTRUMENT_HOST_ID = MEX
INSTRUMENT_HOST_NAME = "MARS EXPRESS"
INSTRUMENT_ID = HRSC
INSTRUMENT_NAME = "HIGH RESOLUTION STEREO CAMERA"
MISSION_NAME = "MARS EXPRESS"
MISSION_PHASE_NAME = ME_Phase_21
PROCESSING_LEVEL_ID = 3
PRODUCT_CREATION_TIME = 2016-10-25T23:07:55.000Z
PRODUCT_ID = "H8564_0000_S13.JP2"
RELEASE_ID = 0092
REVISION_ID = 0000
/* QUALITY DATA ELEMENTS */
DATA_QUALITY_ID = 1
DATA_QUALITY_DESC = "Data calculated based on original SPICE kernels"
/* TIME DATA ELEMENTS */
SPACECRAFT_CLOCK_START_COUNT = "1/0232334524.08244"
SPACECRAFT_CLOCK_STOP_COUNT = "1/0232334797.16209"
START_TIME = 2010-09-12T01:23:14.116Z
STOP_TIME = 2010-09-12T01:26:37.891Z
/* ORBITAL DATA ELEMENTS */
ASCENDING_NODE_LONGITUDE = 53.73
MAXIMUM_RESOLUTION = 32.5
FOOTPRINT_POINT_LATITUDE = (-45.6632,-45.6428,-45.6208,-45.6591, -45.4326,-45.2028,-44.9802,-44.7559, -44.5333,-44.3107,-44.0892,-43.8669, -43.6451,-43.3124,-43.0907,-42.87, -42.6502,-42.4268,-42.2008,-41.863, -41.4191,-41.185,-40.9531,-40.725, -40.3801,-40.1489,-39.9158,-39.6837, -39.4481,-39.2102,-38.9713,-38.735, -38.4942,-38.133,-37.8929,-37.65, -37.4037,-37.0362,-36.787,-36.539, -36.2915,-36.0392,-35.787,-35.5357, -35.2797,-34.8962,-34.6384,-34.379, -34.1201,-33.8336,-33.8451,-33.8507, -33.8581,-33.8639,-33.8709,-34.2684, -34.5281,-34.9179,-35.1736,-35.4303, -35.8104,-36.063,-36.316,-36.6893, -36.9383,-37.1863,-37.4305,-37.6752, -38.0408,-38.4016,-38.6425,-38.8849, -39.1221,-39.4779,-39.7137,-39.9463, -40.1831,-40.5385,-40.7763,-41.0058, -41.2355,-41.4658,-41.8043,-42.2424, -42.4692,-42.6947,-42.9156,-43.1369, -43.3585,-43.5803,-43.8007,-44.0227, -44.3555,-44.5785,-44.8083,-45.0306, -45.2548,-45.48,-45.7046,-45.6632)
FOOTPRINT_POINT_LONGITUDE = (335.331,334.743,334.162,333.716, 333.724,333.732,333.738,333.745,333.751 ,333.757,333.763,333.769,333.774, 333.782,333.787,333.792,333.796,333.8, 333.804,333.81,333.816,333.82,333.823, 333.826,333.83,333.832,333.834,333.836, 333.837,333.839,333.841,333.842,333.843 ,333.844,333.844,333.844,333.844, 333.844,333.844,333.843,333.842,333.841 ,333.839,333.838,333.836,333.833,333.83 ,333.828,333.825,333.945,334.404, 334.739,335.118,335.456,335.861,335.988 ,335.982,335.973,335.966,335.96,335.951 ,335.944,335.938,335.929,335.922, 335.916,335.909,335.903,335.893,335.883 ,335.875,335.871,335.864,335.854, 335.847,335.84,335.835,335.828,335.827, 335.82,335.813,335.806,335.795,335.772, 335.765,335.758,335.751,335.744,335.737 ,335.729,335.72,335.712,335.699,335.691 ,335.687,335.677,335.669,335.661, 335.652,335.331)
ORBIT_NUMBER = 8564
ORBITAL_ECCENTRICITY = 0.578
ORBITAL_INCLINATION = 86.84
ORBITAL_SEMIMAJOR_AXIS = 8780.2
PERIAPSIS_ALTITUDE = 320.85
PERIAPSIS_ARGUMENT_ANGLE = 298.54
PERIAPSIS_TIME = 2010-09-12T01:18:40.000Z
SPACECRAFT_ORIENTATION = (0.0,1.0,0.0)
^MEX_ORIENTATION_DESC = "MEX_ORIENTATION_DESC.TXT"
SPACECRAFT_POINTING_MODE = ACROSSTRACK
^MEX_POINTING_DESC = "MEX_POINTING_DESC.TXT"
RIGHT_ASCENSION = -1e+32
DECLINATION = -1e+32
OFFSET_ANGLE = -0.5
SPACECRAFT_SOLAR_DISTANCE = 2.31199e+08
TARGET_NAME = MARS
/* CAMERA DATA ELEMENTS */
DETECTOR_TEMPERATURE = 17.351
FOCAL_PLANE_TEMPERATURE = 8.1755
INST_CMPRS_NAME = "DISCRETE COSINE TRANSFORMATION (DCT)"
INST_CMPRS_RATIO = 8.35286
INST_CMPRS_QUALITY = 0
INST_CMPRS_QUANTZ_TBL_ID = 0
INSTRUMENT_TEMPERATURE = 10.8262
LENS_TEMPERATURE = 8.5833
MACROPIXEL_SIZE = 2
MISSING_FRAMES = 0
PIXEL_SUBSAMPLING_FLAG = N
SIGNAL_CHAIN_ID = 1
/* RADIOMETRIC DATA ELEMENTS */
BANDWIDTH = 180.0
CENTER_FILTER_WAVELENGTH = 677.0
RADIANCE_OFFSET = 1.69776
RADIANCE_SCALING_FACTOR = 0.0133158
REFLECTANCE_SCALING_FACTOR = 0.000371348
MEX:REFLECTANCE_OFFSET = 0.0473469
/* IMAGE OBJECT DEFINITIONS */
OBJECT = IMAGE
  INTERCHANGE_FORMAT = BINARY
  LINES = 28119
  LINE_SAMPLES = 4071
  SAMPLE_TYPE = UNSIGNED_INTEGER
  SAMPLE_BITS = 8
  BANDS = 1
  BAND_STORAGE_TYPE = BAND_SEQUENTIAL
  MAXIMUM = 255
  MEAN = 134.04
  MINIMUM = 1
  STANDARD_DEVIATION = 16.3477
END_OBJECT = IMAGE
/* MAP OBJECT DEFINITIONS */
OBJECT = IMAGE_MAP_PROJECTION
  ^DATA_SET_MAP_PROJECTION_CATALOG= "DSMAP.CAT"
  A_AXIS_RADIUS = 3396.0
  B_AXIS_RADIUS = 3396.0
  C_AXIS_RADIUS = 3396.0
  CENTER_LATITUDE = 0.0
  CENTER_LONGITUDE = 335.0
  COORDINATE_SYSTEM_NAME = PLANETOGRAPHIC
  COORDINATE_SYSTEM_TYPE = "BODY-FIXED ROTATING"
  EASTERNMOST_LONGITUDE = 335.988
  FIRST_STANDARD_PARALLEL = "N/A"
  LINE_FIRST_PIXEL = 1
  LINE_LAST_PIXEL = 28119
  LINE_PROJECTION_OFFSET = -80265.75
  MAP_PROJECTION_ROTATION = 0.0
  MAP_PROJECTION_TYPE = SINUSOIDAL
  MAP_RESOLUTION = 2370.85521546667
  MAP_SCALE = 0.025
  MAXIMUM_LATITUDE = -33.8336
  MINIMUM_LATITUDE = -45.7046
  POSITIVE_LONGITUDE_DIRECTION = EAST
  REFERENCE_LATITUDE = "N/A"
  REFERENCE_LONGITUDE = "N/A"
  SAMPLE_FIRST_PIXEL = 1
  SAMPLE_LAST_PIXEL = 4071
  SAMPLE_PROJECTION_OFFSET = 2202.25
  SECOND_STANDARD_PARALLEL = "N/A"
  WESTERNMOST_LONGITUDE = 333.716
END_OBJECT = IMAGE_MAP_PROJECTION
/* The JPEG2000 image data file associated with this label. */
OBJECT = COMPRESSED_FILE
  FILE_NAME = "H8564_0000_S13.JP2"
  RECORD_TYPE = UNDEFINED
  FILE_RECORDS = UNK
  ENCODING_TYPE = "JP2"
  INTERCHANGE_FORMAT = BINARY
  UNCOMPRESSED_FILE_NAME = "H8564_0000_S13.IMG"
  REQUIRED_STORAGE_BYTES = "114496875"
  ^DESCRIPTION = "JP2INFO.TXT"
END_OBJECT = COMPRESSED_FILE
END
