PDS_VERSION_ID = PDS3
/* FILE DATA ELEMENTS */
RECORD_TYPE = STREAM
/* POINTERS TO DATA OBJECTS */
^COMPRESSED_FILE = "H8571_0000_S13.JP2"
/* IDENTIFICATION DATA ELEMENTS */
DATA_SET_ID = "MEX-M-HRSC-5-REFDR-MAPPROJECTED-V3.0"
DATA_SET_NAME = "MARS EXPRESS HRSC MAP PROJECTED REFDR V3.0"
DETECTOR_ID = MEX_HRSC_S1
EVENT_TYPE = "MARS-REGIONAL-MAPPING-Im-Fl-Pf"
INSTRUMENT_HOST_ID = MEX
INSTRUMENT_HOST_NAME = "MARS EXPRESS"
INSTRUMENT_ID = HRSC
INSTRUMENT_NAME = "HIGH RESOLUTION STEREO CAMERA"
MISSION_NAME = "MARS EXPRESS"
MISSION_PHASE_NAME = ME_Phase_21
PROCESSING_LEVEL_ID = 3
PRODUCT_CREATION_TIME = 2016-10-25T23:07:55.000Z
PRODUCT_ID = "H8571_0000_S13.JP2"
RELEASE_ID = 0092
REVISION_ID = 0000
/* QUALITY DATA ELEMENTS */
DATA_QUALITY_ID = 1
DATA_QUALITY_DESC = "Data calculated based on original SPICE kernels"
/* TIME DATA ELEMENTS */
SPACECRAFT_CLOCK_START_COUNT = "1/0232510758.09123"
SPACECRAFT_CLOCK_STOP_COUNT = "1/0232511038.38663"
START_TIME = 2010-09-14T02:20:26.755Z
STOP_TIME = 2010-09-14T02:23:59.235Z
/* ORBITAL DATA ELEMENTS */
ASCENDING_NODE_LONGITUDE = 53.59
MAXIMUM_RESOLUTION = 31.6
FOOTPRINT_POINT_LATITUDE = (-48.1333,-48.1112,-48.0873,-48.006, -47.7653,-47.524,-47.2824,-47.0419, -46.8073,-46.569,-46.3272,-46.0903, -45.6234,-45.268,-45.0271,-44.6689, -44.2032,-43.9693,-43.7325,-43.4935, -43.2546,-43.017,-42.7795,-42.4159, -42.0527,-41.8104,-41.5623,-41.3139, -40.9395,-40.6903,-40.4375,-40.1883, -39.9362,-39.6789,-39.4235,-39.1684, -38.7855,-38.5259,-38.2607,-37.8648, -37.6017,-37.335,-37.0672,-36.801, -36.5292,-36.2581,-35.9853,-35.7101, -35.6921,-35.709,-35.7127,-35.723, -35.7272,-36.1441,-36.4157,-36.687, -36.9573,-37.3598,-37.6288,-37.8925, -38.1571,-38.4205,-38.6804,-38.9409, -39.2019,-39.4571,-39.7135,-39.9708, -40.2237,-40.4754,-40.7275,-40.9778, -41.2242,-41.4723,-41.7216,-41.9702, -42.2139,-42.4564,-42.698,-42.9404, -43.3003,-43.5401,-43.7796,-44.017, -44.2505,-44.4841,-44.7202,-45.0812, -45.3213,-45.5588,-45.9112,-46.2592, -46.4962,-46.736,-46.9741,-47.2132, -47.4526,-47.7066,-47.9498,-48.1333)
FOOTPRINT_POINT_LONGITUDE = (339.222,338.623,338.033,337.585, 337.595,337.606,337.616,337.626,337.634 ,337.643,337.653,337.661,337.676, 337.687,337.695,337.705,337.717,337.723 ,337.729,337.734,337.739,337.744, 337.749,337.755,337.761,337.764,337.768 ,337.771,337.777,337.779,337.782, 337.784,337.786,337.788,337.789,337.791 ,337.791,337.792,337.793,337.793, 337.793,337.793,337.792,337.791,337.79, 337.788,337.787,337.785,338.075,338.62, 338.999,339.487,339.827,339.953,339.945 ,339.938,339.93,339.92,339.913,339.906, 339.899,339.891,339.884,339.877,339.87, 339.863,339.855,339.848,339.841,339.833 ,339.825,339.817,339.809,339.801, 339.794,339.788,339.78,339.772,339.762, 339.754,339.743,339.735,339.726,339.717 ,339.708,339.699,339.691,339.683, 339.677,339.669,339.652,339.632,339.621 ,339.612,339.602,339.591,339.581, 339.581,339.573,339.222)
ORBIT_NUMBER = 8571
ORBITAL_ECCENTRICITY = 0.578
ORBITAL_INCLINATION = 86.84
ORBITAL_SEMIMAJOR_AXIS = 8778.85
PERIAPSIS_ALTITUDE = 320.78
PERIAPSIS_ARGUMENT_ANGLE = 297.35
PERIAPSIS_TIME = 2010-09-14T02:16:14.000Z
SPACECRAFT_ORIENTATION = (0.0,1.0,0.0)
^MEX_ORIENTATION_DESC = "MEX_ORIENTATION_DESC.TXT"
SPACECRAFT_POINTING_MODE = ACROSSTRACK
^MEX_POINTING_DESC = "MEX_POINTING_DESC.TXT"
RIGHT_ASCENSION = -1e+32
DECLINATION = -1e+32
OFFSET_ANGLE = -0.5
SPACECRAFT_SOLAR_DISTANCE = 2.30812e+08
TARGET_NAME = MARS
/* CAMERA DATA ELEMENTS */
DETECTOR_TEMPERATURE = 17.351
FOCAL_PLANE_TEMPERATURE = 8.1755
INST_CMPRS_NAME = "DISCRETE COSINE TRANSFORMATION (DCT)"
INST_CMPRS_RATIO = 9.52378
INST_CMPRS_QUALITY = 0
INST_CMPRS_QUANTZ_TBL_ID = 0
INSTRUMENT_TEMPERATURE = 11.234
LENS_TEMPERATURE = 8.3794
MACROPIXEL_SIZE = 2
MISSING_FRAMES = 0
PIXEL_SUBSAMPLING_FLAG = N
SIGNAL_CHAIN_ID = 1
/* RADIOMETRIC DATA ELEMENTS */
BANDWIDTH = 180.0
CENTER_FILTER_WAVELENGTH = 677.0
RADIANCE_OFFSET = 1.69776
RADIANCE_SCALING_FACTOR = 0.0153287
REFLECTANCE_SCALING_FACTOR = 0.000426049
MEX:REFLECTANCE_OFFSET = 0.0471882
/* IMAGE OBJECT DEFINITIONS */
OBJECT = IMAGE
  INTERCHANGE_FORMAT = BINARY
  LINES = 29612
  LINE_SAMPLES = 3986
  SAMPLE_TYPE = UNSIGNED_INTEGER
  SAMPLE_BITS = 8
  BANDS = 1
  BAND_STORAGE_TYPE = BAND_SEQUENTIAL
  MAXIMUM = 255
  MEAN = 131.259
  MINIMUM = 1
  STANDARD_DEVIATION = 20.4293
END_OBJECT = IMAGE
/* MAP OBJECT DEFINITIONS */
OBJECT = IMAGE_MAP_PROJECTION
  ^DATA_SET_MAP_PROJECTION_CATALOG= "DSMAP.CAT"
  A_AXIS_RADIUS = 3396.0
  B_AXIS_RADIUS = 3396.0
  C_AXIS_RADIUS = 3396.0
  CENTER_LATITUDE = 0.0
  CENTER_LONGITUDE = 339.0
  COORDINATE_SYSTEM_NAME = PLANETOGRAPHIC
  COORDINATE_SYSTEM_TYPE = "BODY-FIXED ROTATING"
  EASTERNMOST_LONGITUDE = 339.953
  FIRST_STANDARD_PARALLEL = "N/A"
  LINE_FIRST_PIXEL = 1
  LINE_LAST_PIXEL = 29612
  LINE_PROJECTION_OFFSET = -84691.75
  MAP_PROJECTION_ROTATION = 0.0
  MAP_PROJECTION_TYPE = SINUSOIDAL
  MAP_RESOLUTION = 2370.85521546667
  MAP_SCALE = 0.025
  MAXIMUM_LATITUDE = -35.6921
  MINIMUM_LATITUDE = -48.1333
  POSITIVE_LONGITUDE_DIRECTION = EAST
  REFERENCE_LATITUDE = "N/A"
  REFERENCE_LONGITUDE = "N/A"
  SAMPLE_FIRST_PIXEL = 1
  SAMPLE_LAST_PIXEL = 3986
  SAMPLE_PROJECTION_OFFSET = 2223.75
  SECOND_STANDARD_PARALLEL = "N/A"
  WESTERNMOST_LONGITUDE = 337.585
END_OBJECT = IMAGE_MAP_PROJECTION
/* The JPEG2000 image data file associated with this label. */
OBJECT = COMPRESSED_FILE
  FILE_NAME = "H8571_0000_S13.JP2"
  RECORD_TYPE = UNDEFINED
  FILE_RECORDS = UNK
  ENCODING_TYPE = "JP2"
  INTERCHANGE_FORMAT = BINARY
  UNCOMPRESSED_FILE_NAME = "H8571_0000_S13.IMG"
  REQUIRED_STORAGE_BYTES = "118057348"
  ^DESCRIPTION = "JP2INFO.TXT"
END_OBJECT = COMPRESSED_FILE
END
