PDS_VERSION_ID = PDS3
/* FILE DATA ELEMENTS */
RECORD_TYPE = STREAM
/* POINTERS TO DATA OBJECTS */
^COMPRESSED_FILE = "H8574_0000_RE3.JP2"
/* IDENTIFICATION DATA ELEMENTS */
DATA_SET_ID = "MEX-M-HRSC-5-REFDR-MAPPROJECTED-V3.0"
DATA_SET_NAME = "MARS EXPRESS HRSC MAP PROJECTED REFDR V3.0"
DETECTOR_ID = MEX_HRSC_RED
EVENT_TYPE = "MARS-REGIONAL-MAPPING-Im-Fl-Pf"
INSTRUMENT_HOST_ID = MEX
INSTRUMENT_HOST_NAME = "MARS EXPRESS"
INSTRUMENT_ID = HRSC
INSTRUMENT_NAME = "HIGH RESOLUTION STEREO CAMERA"
MISSION_NAME = "MARS EXPRESS"
MISSION_PHASE_NAME = ME_Phase_21
PROCESSING_LEVEL_ID = 3
PRODUCT_CREATION_TIME = 2016-10-25T23:07:55.000Z
PRODUCT_ID = "H8574_0000_RE3.JP2"
RELEASE_ID = 0092
REVISION_ID = 0000
/* QUALITY DATA ELEMENTS */
DATA_QUALITY_ID = 1
DATA_QUALITY_DESC = "Data calculated based on original SPICE kernels"
/* TIME DATA ELEMENTS */
SPACECRAFT_CLOCK_START_COUNT = "1/0232586418.09063"
SPACECRAFT_CLOCK_STOP_COUNT = "1/0232586716.63898"
START_TIME = 2010-09-14T23:20:26.836Z
STOP_TIME = 2010-09-14T23:23:29.515Z
/* ORBITAL DATA ELEMENTS */
ASCENDING_NODE_LONGITUDE = 53.53
MAXIMUM_RESOLUTION = 133.9
FOOTPRINT_POINT_LATITUDE = (-40.7079,-40.715,-40.7264,-40.7339, -40.3872,-40.0765,-39.8643,-39.6481, -39.2272,-39.0114,-38.7945,-38.5771, -38.3604,-38.145,-37.9254,-37.7012, -37.4807,-37.2594,-37.0354,-36.8096, -36.5825,-36.3562,-36.1283,-35.7836, -35.5523,-35.3203,-35.088,-34.7343, -34.4978,-34.2621,-34.0246,-33.7833, -33.5417,-33.301,-33.0573,-32.8109, -32.565,-32.19,-31.9298,-31.6814, -31.4408,-31.1853,-30.9291,-30.6735, -30.413,-30.1519,-29.7601,-29.4958, -29.2318,-28.9639,-28.9196,-28.9057, -28.8927,-28.879,-28.8671,-29.1358, -29.4006,-29.6659,-30.0604,-30.3214, -30.582,-30.8334,-31.0928,-31.4798, -31.7313,-31.9826,-32.2333,-32.4813, -32.7277,-32.9748,-33.2196,-33.5836, -33.826,-34.0659,-34.2977,-34.6556, -34.8961,-35.1258,-35.3584,-35.5915, -35.8231,-36.0499,-36.2713,-36.4983, -36.7259,-36.9533,-37.1718,-37.3941, -37.6149,-37.8401,-38.0656,-38.3989, -38.8274,-39.0464,-39.2655,-39.688, -39.9029,-40.1157,-40.4309,-40.7079)
FOOTPRINT_POINT_LONGITUDE = (32.9753,32.6946,32.1406,31.5964, 31.3928,31.3947,31.3962,31.398,31.4, 31.401,31.4017,31.4024,31.4029,31.4032, 31.4035,31.4038,31.4036,31.4034,31.4032 ,31.4027,31.4021,31.4013,31.4005, 31.3989,31.3975,31.3961,31.3945,31.3919 ,31.3899,31.3877,31.3854,31.3829, 31.3803,31.3775,31.3746,31.3714,31.3682 ,31.3629,31.3592,31.3553,31.3513,31.347 ,31.3426,31.338,31.3331,31.3281,31.3203 ,31.3148,31.3092,31.3034,31.6681, 32.2155,32.6504,33.0296,33.4054,33.4032 ,33.401,33.3985,33.3944,33.3916,33.3893 ,33.3909,33.3857,33.379,33.3761,33.3735 ,33.3716,33.3679,33.3654,33.3624, 33.3598,33.3545,33.3513,33.3494,33.351, 33.3448,33.3391,33.3392,33.3359,33.3323 ,33.3301,33.3292,33.3315,33.3289, 33.3257,33.3223,33.3227,33.3198,33.3182 ,33.3127,33.3049,33.2932,33.2931, 33.2886,33.2801,33.2757,33.27,33.2665, 33.2614,32.9753)
ORBIT_NUMBER = 8574
ORBITAL_ECCENTRICITY = 0.578
ORBITAL_INCLINATION = 86.83
ORBITAL_SEMIMAJOR_AXIS = 8781.39
PERIAPSIS_ALTITUDE = 321.08
PERIAPSIS_ARGUMENT_ANGLE = 296.84
PERIAPSIS_TIME = 2010-09-14T23:15:13.000Z
SPACECRAFT_ORIENTATION = (0.0,1.0,0.0)
^MEX_ORIENTATION_DESC = "MEX_ORIENTATION_DESC.TXT"
SPACECRAFT_POINTING_MODE = ACROSSTRACK
^MEX_POINTING_DESC = "MEX_POINTING_DESC.TXT"
RIGHT_ASCENSION = -1e+32
DECLINATION = -1e+32
OFFSET_ANGLE = -0.8
SPACECRAFT_SOLAR_DISTANCE = 2.30645e+08
TARGET_NAME = MARS
/* CAMERA DATA ELEMENTS */
DETECTOR_TEMPERATURE = 18.5744
FOCAL_PLANE_TEMPERATURE = 7.7677
INST_CMPRS_NAME = "DISCRETE COSINE TRANSFORMATION (DCT)"
INST_CMPRS_RATIO = 14.7089
INST_CMPRS_QUALITY = 0
INST_CMPRS_QUANTZ_TBL_ID = 0
INSTRUMENT_TEMPERATURE = 10.0106
LENS_TEMPERATURE = 8.7872
MACROPIXEL_SIZE = 8
MISSING_FRAMES = 0
PIXEL_SUBSAMPLING_FLAG = N
SIGNAL_CHAIN_ID = 2
/* RADIOMETRIC DATA ELEMENTS */
BANDWIDTH = 48.0
CENTER_FILTER_WAVELENGTH = 748.0
RADIANCE_OFFSET = 0.369797
RADIANCE_SCALING_FACTOR = 0.00445798
REFLECTANCE_SCALING_FACTOR = 0.000541193
MEX:REFLECTANCE_OFFSET = 0.0448929
/* IMAGE OBJECT DEFINITIONS */
OBJECT = IMAGE
  INTERCHANGE_FORMAT = BINARY
  LINES = 6994
  LINE_SAMPLES = 1211
  SAMPLE_TYPE = UNSIGNED_INTEGER
  SAMPLE_BITS = 8
  BANDS = 1
  BAND_STORAGE_TYPE = BAND_SEQUENTIAL
  MAXIMUM = 255
  MEAN = 111.556
  MINIMUM = 1
  STANDARD_DEVIATION = 30.0617
END_OBJECT = IMAGE
/* MAP OBJECT DEFINITIONS */
OBJECT = IMAGE_MAP_PROJECTION
  ^DATA_SET_MAP_PROJECTION_CATALOG= "DSMAP.CAT"
  A_AXIS_RADIUS = 3396.0
  B_AXIS_RADIUS = 3396.0
  C_AXIS_RADIUS = 3396.0
  CENTER_LATITUDE = 0.0
  CENTER_LONGITUDE = 32.0
  COORDINATE_SYSTEM_NAME = PLANETOGRAPHIC
  COORDINATE_SYSTEM_TYPE = "BODY-FIXED ROTATING"
  EASTERNMOST_LONGITUDE = 33.4054
  FIRST_STANDARD_PARALLEL = "N/A"
  LINE_FIRST_PIXEL = 1
  LINE_LAST_PIXEL = 6994
  LINE_PROJECTION_OFFSET = -17103.5625
  MAP_PROJECTION_ROTATION = 0.0
  MAP_PROJECTION_TYPE = SINUSOIDAL
  MAP_RESOLUTION = 592.713803866667
  MAP_SCALE = 0.1
  MAXIMUM_LATITUDE = -28.8671
  MINIMUM_LATITUDE = -40.7339
  POSITIVE_LONGITUDE_DIRECTION = EAST
  REFERENCE_LATITUDE = "N/A"
  REFERENCE_LONGITUDE = "N/A"
  SAMPLE_FIRST_PIXEL = 1
  SAMPLE_LAST_PIXEL = 1211
  SAMPLE_PROJECTION_OFFSET = 413.5625
  SECOND_STANDARD_PARALLEL = "N/A"
  WESTERNMOST_LONGITUDE = 31.3034
END_OBJECT = IMAGE_MAP_PROJECTION
/* The JPEG2000 image data file associated with this label. */
OBJECT = COMPRESSED_FILE
  FILE_NAME = "H8574_0000_RE3.JP2"
  RECORD_TYPE = UNDEFINED
  FILE_RECORDS = UNK
  ENCODING_TYPE = "JP2"
  INTERCHANGE_FORMAT = BINARY
  UNCOMPRESSED_FILE_NAME = "H8574_0000_RE3.IMG"
  REQUIRED_STORAGE_BYTES = "8487899"
  ^DESCRIPTION = "JP2INFO.TXT"
END_OBJECT = COMPRESSED_FILE
END
