PDS_VERSION_ID = PDS3
/* FILE DATA ELEMENTS */
RECORD_TYPE = STREAM
/* POINTERS TO DATA OBJECTS */
^COMPRESSED_FILE = "H8580_0000_GR3.JP2"
/* IDENTIFICATION DATA ELEMENTS */
DATA_SET_ID = "MEX-M-HRSC-5-REFDR-MAPPROJECTED-V3.0"
DATA_SET_NAME = "MARS EXPRESS HRSC MAP PROJECTED REFDR V3.0"
DETECTOR_ID = MEX_HRSC_GREEN
EVENT_TYPE = "MARS-REGIONAL-MAPPING-Im-Fl-Pf"
INSTRUMENT_HOST_ID = MEX
INSTRUMENT_HOST_NAME = "MARS EXPRESS"
INSTRUMENT_ID = HRSC
INSTRUMENT_NAME = "HIGH RESOLUTION STEREO CAMERA"
MISSION_NAME = "MARS EXPRESS"
MISSION_PHASE_NAME = ME_Phase_21
PROCESSING_LEVEL_ID = 3
PRODUCT_CREATION_TIME = 2016-10-25T23:07:55.000Z
PRODUCT_ID = "H8580_0000_GR3.JP2"
RELEASE_ID = 0092
REVISION_ID = 0000
/* QUALITY DATA ELEMENTS */
DATA_QUALITY_ID = 1
DATA_QUALITY_DESC = "Data calculated based on original SPICE kernels"
/* TIME DATA ELEMENTS */
SPACECRAFT_CLOCK_START_COUNT = "1/0232737501.07283"
SPACECRAFT_CLOCK_STOP_COUNT = "1/0232737840.26479"
START_TIME = 2010-09-16T17:19:08.256Z
STOP_TIME = 2010-09-16T17:23:02.210Z
/* ORBITAL DATA ELEMENTS */
ASCENDING_NODE_LONGITUDE = 53.42
MAXIMUM_RESOLUTION = 67.7
FOOTPRINT_POINT_LATITUDE = (-41.4709,-41.4632,-41.4528,-41.3309, -41.0891,-40.6065,-40.2424,-39.9961, -39.7416,-39.4961,-39.1213,-38.8706, -38.6204,-38.2396,-37.9854,-37.7306, -37.342,-37.0814,-36.8224,-36.558, -36.2939,-36.0303,-35.7619,-35.3593, -35.0883,-34.8153,-34.5428,-34.2659, -33.8509,-33.4294,-33.1487,-32.7198, -32.4342,-32.1446,-31.8558,-31.4152, -31.1214,-30.824,-30.5258,-30.2242, -29.9222,-29.6164,-29.3111,-29.0011, -28.5338,-28.2197,-27.9023,-27.6756, -27.6766,-27.6764,-27.6752,-27.6736, -27.671,-27.8298,-28.1483,-28.4633, -28.7773,-29.0883,-29.3981,-29.7052, -30.1619,-30.4656,-30.7642,-31.2111, -31.5059,-31.8002,-32.0906,-32.3819, -32.6681,-32.955,-33.2395,-33.5214, -33.8051,-34.0814,-34.3596,-34.6356, -34.9089,-35.3185,-35.7229,-35.9928, -36.2575,-36.6528,-36.9162,-37.176, -37.4363,-37.6961,-37.9521,-38.3353, -38.5908,-38.8416,-39.0928,-39.4696, -39.7157,-39.9706,-40.2174,-40.4626, -40.9457,-41.1876,-41.4292,-41.4709)
FOOTPRINT_POINT_LONGITUDE = (138.94,138.352,137.773,137.411,137.414 ,137.418,137.42,137.422,137.423,137.424 ,137.425,137.426,137.426,137.426, 137.426,137.425,137.424,137.424,137.423 ,137.421,137.42,137.418,137.416,137.412 ,137.41,137.407,137.404,137.4,137.395, 137.389,137.384,137.378,137.373,137.368 ,137.362,137.354,137.348,137.341, 137.335,137.328,137.321,137.313,137.305 ,137.296,137.284,137.275,137.266, 137.542,137.96,138.425,138.76,139.051, 139.388,139.644,139.637,139.633,139.627 ,139.623,139.619,139.614,139.607, 139.603,139.599,139.592,139.588,139.584 ,139.579,139.576,139.571,139.568, 139.565,139.559,139.562,139.552,139.548 ,139.543,139.538,139.531,139.529, 139.525,139.52,139.504,139.499,139.494, 139.488,139.482,139.48,139.47,139.467, 139.462,139.457,139.449,139.443,139.437 ,139.431,139.425,139.412,139.406,139.4, 138.94)
ORBIT_NUMBER = 8580
ORBITAL_ECCENTRICITY = 0.578
ORBITAL_INCLINATION = 86.82
ORBITAL_SEMIMAJOR_AXIS = 8780.61
PERIAPSIS_ALTITUDE = 321.23
PERIAPSIS_ARGUMENT_ANGLE = 295.83
PERIAPSIS_TIME = 2010-09-16T17:13:13.000Z
SPACECRAFT_ORIENTATION = (0.0,1.0,0.0)
^MEX_ORIENTATION_DESC = "MEX_ORIENTATION_DESC.TXT"
SPACECRAFT_POINTING_MODE = ACROSSTRACK
^MEX_POINTING_DESC = "MEX_POINTING_DESC.TXT"
RIGHT_ASCENSION = -1e+32
DECLINATION = -1e+32
OFFSET_ANGLE = -0.7
SPACECRAFT_SOLAR_DISTANCE = 2.30311e+08
TARGET_NAME = MARS
/* CAMERA DATA ELEMENTS */
DETECTOR_TEMPERATURE = 17.9627
FOCAL_PLANE_TEMPERATURE = 8.3794
INST_CMPRS_NAME = "DISCRETE COSINE TRANSFORMATION (DCT)"
INST_CMPRS_RATIO = 7.85023
INST_CMPRS_QUALITY = 0
INST_CMPRS_QUANTZ_TBL_ID = 0
INSTRUMENT_TEMPERATURE = 11.0301
LENS_TEMPERATURE = 8.5833
MACROPIXEL_SIZE = 4
MISSING_FRAMES = 1
PIXEL_SUBSAMPLING_FLAG = N
SIGNAL_CHAIN_ID = 2
/* RADIOMETRIC DATA ELEMENTS */
BANDWIDTH = 88.0
CENTER_FILTER_WAVELENGTH = 538.0
RADIANCE_OFFSET = 0.645137
RADIANCE_SCALING_FACTOR = 0.00574988
REFLECTANCE_SCALING_FACTOR = 0.000262589
MEX:REFLECTANCE_OFFSET = 0.0294624
/* IMAGE OBJECT DEFINITIONS */
OBJECT = IMAGE
  INTERCHANGE_FORMAT = BINARY
  LINES = 16360
  LINE_SAMPLES = 2544
  SAMPLE_TYPE = UNSIGNED_INTEGER
  SAMPLE_BITS = 8
  BANDS = 1
  BAND_STORAGE_TYPE = BAND_SEQUENTIAL
  MAXIMUM = 255
  MEAN = 130.845
  MINIMUM = 1
  STANDARD_DEVIATION = 21.6454
END_OBJECT = IMAGE
/* MAP OBJECT DEFINITIONS */
OBJECT = IMAGE_MAP_PROJECTION
  ^DATA_SET_MAP_PROJECTION_CATALOG= "DSMAP.CAT"
  A_AXIS_RADIUS = 3396.0
  B_AXIS_RADIUS = 3396.0
  C_AXIS_RADIUS = 3396.0
  CENTER_LATITUDE = 0.0
  CENTER_LONGITUDE = 138.0
  COORDINATE_SYSTEM_NAME = PLANETOGRAPHIC
  COORDINATE_SYSTEM_TYPE = "BODY-FIXED ROTATING"
  EASTERNMOST_LONGITUDE = 139.644
  FIRST_STANDARD_PARALLEL = "N/A"
  LINE_FIRST_PIXEL = 1
  LINE_LAST_PIXEL = 16360
  LINE_PROJECTION_OFFSET = -32803.375
  MAP_PROJECTION_ROTATION = 0.0
  MAP_PROJECTION_TYPE = SINUSOIDAL
  MAP_RESOLUTION = 1185.42760773333
  MAP_SCALE = 0.05
  MAXIMUM_LATITUDE = -27.671
  MINIMUM_LATITUDE = -41.4709
  POSITIVE_LONGITUDE_DIRECTION = EAST
  REFERENCE_LATITUDE = "N/A"
  REFERENCE_LONGITUDE = "N/A"
  SAMPLE_FIRST_PIXEL = 1
  SAMPLE_LAST_PIXEL = 2544
  SAMPLE_PROJECTION_OFFSET = 773.875
  SECOND_STANDARD_PARALLEL = "N/A"
  WESTERNMOST_LONGITUDE = 137.266
END_OBJECT = IMAGE_MAP_PROJECTION
/* The JPEG2000 image data file associated with this label. */
OBJECT = COMPRESSED_FILE
  FILE_NAME = "H8580_0000_GR3.JP2"
  RECORD_TYPE = UNDEFINED
  FILE_RECORDS = UNK
  ENCODING_TYPE = "JP2"
  INTERCHANGE_FORMAT = BINARY
  UNCOMPRESSED_FILE_NAME = "H8580_0000_GR3.IMG"
  REQUIRED_STORAGE_BYTES = "41640192"
  ^DESCRIPTION = "JP2INFO.TXT"
END_OBJECT = COMPRESSED_FILE
END
