PDS_VERSION_ID = PDS3
/* FILE DATA ELEMENTS */
RECORD_TYPE = STREAM
/* POINTERS TO DATA OBJECTS */
^COMPRESSED_FILE = "H8591_0000_IR3.JP2"
/* IDENTIFICATION DATA ELEMENTS */
DATA_SET_ID = "MEX-M-HRSC-5-REFDR-MAPPROJECTED-V3.0"
DATA_SET_NAME = "MARS EXPRESS HRSC MAP PROJECTED REFDR V3.0"
DETECTOR_ID = MEX_HRSC_IR
EVENT_TYPE = "MARS-REGIONAL-MAPPING-Vo-Fl-Gl"
INSTRUMENT_HOST_ID = MEX
INSTRUMENT_HOST_NAME = "MARS EXPRESS"
INSTRUMENT_ID = HRSC
INSTRUMENT_NAME = "HIGH RESOLUTION STEREO CAMERA"
MISSION_NAME = "MARS EXPRESS"
MISSION_PHASE_NAME = ME_Phase_21
PROCESSING_LEVEL_ID = 3
PRODUCT_CREATION_TIME = 2016-10-25T23:07:55.000Z
PRODUCT_ID = "H8591_0000_IR3.JP2"
RELEASE_ID = 0092
REVISION_ID = 0000
/* QUALITY DATA ELEMENTS */
DATA_QUALITY_ID = 1
DATA_QUALITY_DESC = "Data calculated based on original SPICE kernels"
/* TIME DATA ELEMENTS */
SPACECRAFT_CLOCK_START_COUNT = "1/0233014353.07301"
SPACECRAFT_CLOCK_STOP_COUNT = "1/0233014694.06348"
START_TIME = 2010-09-19T22:13:34.617Z
STOP_TIME = 2010-09-19T22:18:04.660Z
/* ORBITAL DATA ELEMENTS */
ASCENDING_NODE_LONGITUDE = 53.21
MAXIMUM_RESOLUTION = 61.3
FOOTPRINT_POINT_LATITUDE = (-51.963,-51.9385,-51.9119,-51.701, -51.3963,-50.9459,-50.6431,-50.3355, -50.0313,-49.7337,-49.4332,-49.1376, -48.8403,-48.5461,-48.25,-47.9545, -47.6563,-47.3623,-46.9219,-46.6281, -46.3263,-45.8738,-45.5738,-45.2677, -44.9601,-44.6554,-44.3456,-43.8773, -43.5653,-43.089,-42.7713,-42.4486, -42.1254,-41.803,-41.4731,-41.1449, -40.6458,-40.3127,-39.9753,-39.4711, -39.1223,-38.78,-38.431,-38.082, -37.7293,-37.3758,-37.0168,-36.4761, -36.1136,-36.1174,-36.1219,-36.1296, -36.1383,-36.1459,-36.1533,-36.5177, -37.06,-37.4216,-37.7761,-38.3061, -38.6577,-39.003,-39.3465,-39.8584, -40.367,-40.7012,-41.0357,-41.3646, -41.6926,-42.182,-42.5055,-42.8281, -43.1462,-43.4652,-43.9375,-44.2505, -44.5634,-45.0256,-45.3337,-45.6397, -45.9411,-46.2427,-46.5425,-46.8407, -47.1332,-47.5744,-47.8695,-48.3153, -48.6129,-48.9085,-49.2102,-49.6641, -49.9654,-50.2675,-50.5683,-51.0139, -51.3123,-51.6183,-51.9128,-51.963)
FOOTPRINT_POINT_LONGITUDE = (92.991,92.384,91.7863,91.6446,91.663, 91.6889,91.7057,91.7224,91.7382,91.7528 ,91.7671,91.7804,91.7934,91.8056, 91.8175,91.8288,91.8401,91.8504,91.865, 91.8742,91.8834,91.8963,91.9042,91.9118 ,91.9192,91.9258,91.9322,91.941,91.9465 ,91.9538,91.9583,91.9624,91.9661, 91.9692,91.9722,91.9747,91.9777,91.979, 91.98,91.9801,91.9808,91.9801,91.9793, 91.978,91.9761,91.9739,91.9713,91.9664, 91.9624,92.3066,92.5451,92.893,93.3527, 93.8156,94.3111,94.3024,94.2894,94.2822 ,94.2736,94.2613,94.2536,94.2441, 94.2339,94.2205,94.2067,94.1975,94.1875 ,94.1782,94.1674,94.1534,94.1432, 94.1332,94.1234,94.1134,94.0981,94.0878 ,94.0764,94.0617,94.0513,94.0391, 94.0283,94.0169,94.0029,93.9908,93.9759 ,93.9544,93.94,93.9199,93.9058,93.8887, 93.8772,93.8596,93.8455,93.8312,93.8147 ,93.7819,93.7602,93.746,93.7352,92.991)
ORBIT_NUMBER = 8591
ORBITAL_ECCENTRICITY = 0.579
ORBITAL_INCLINATION = 86.84
ORBITAL_SEMIMAJOR_AXIS = 8777.84
PERIAPSIS_ALTITUDE = 319.88
PERIAPSIS_ARGUMENT_ANGLE = 293.95
PERIAPSIS_TIME = 2010-09-19T22:09:35.000Z
SPACECRAFT_ORIENTATION = (0.0,1.0,0.0)
^MEX_ORIENTATION_DESC = "MEX_ORIENTATION_DESC.TXT"
SPACECRAFT_POINTING_MODE = ACROSSTRACK
^MEX_POINTING_DESC = "MEX_POINTING_DESC.TXT"
RIGHT_ASCENSION = -1e+32
DECLINATION = -1e+32
OFFSET_ANGLE = -0.6
SPACECRAFT_SOLAR_DISTANCE = 2.29696e+08
TARGET_NAME = MARS
/* CAMERA DATA ELEMENTS */
DETECTOR_TEMPERATURE = 17.1471
FOCAL_PLANE_TEMPERATURE = 8.3794
INST_CMPRS_NAME = "DISCRETE COSINE TRANSFORMATION (DCT)"
INST_CMPRS_RATIO = 9.49581
INST_CMPRS_QUALITY = 0
INST_CMPRS_QUANTZ_TBL_ID = 0
INSTRUMENT_TEMPERATURE = 11.0301
LENS_TEMPERATURE = 8.9911
MACROPIXEL_SIZE = 4
MISSING_FRAMES = 0
PIXEL_SUBSAMPLING_FLAG = N
SIGNAL_CHAIN_ID = 2
/* RADIOMETRIC DATA ELEMENTS */
BANDWIDTH = 81.0
CENTER_FILTER_WAVELENGTH = 955.5
RADIANCE_OFFSET = 0.720967
RADIANCE_SCALING_FACTOR = 0.00290927
REFLECTANCE_SCALING_FACTOR = 0.000331144
MEX:REFLECTANCE_OFFSET = 0.0820631
/* IMAGE OBJECT DEFINITIONS */
OBJECT = IMAGE
  INTERCHANGE_FORMAT = BINARY
  LINES = 18871
  LINE_SAMPLES = 2186
  SAMPLE_TYPE = UNSIGNED_INTEGER
  SAMPLE_BITS = 8
  BANDS = 1
  BAND_STORAGE_TYPE = BAND_SEQUENTIAL
  MAXIMUM = 255
  MEAN = 96.8495
  MINIMUM = 1
  STANDARD_DEVIATION = 38.3141
END_OBJECT = IMAGE
/* MAP OBJECT DEFINITIONS */
OBJECT = IMAGE_MAP_PROJECTION
  ^DATA_SET_MAP_PROJECTION_CATALOG= "DSMAP.CAT"
  A_AXIS_RADIUS = 3396.0
  B_AXIS_RADIUS = 3396.0
  C_AXIS_RADIUS = 3396.0
  CENTER_LATITUDE = 0.0
  CENTER_LONGITUDE = 93.0
  COORDINATE_SYSTEM_NAME = PLANETOGRAPHIC
  COORDINATE_SYSTEM_TYPE = "BODY-FIXED ROTATING"
  EASTERNMOST_LONGITUDE = 94.3111
  FIRST_STANDARD_PARALLEL = "N/A"
  LINE_FIRST_PIXEL = 1
  LINE_LAST_PIXEL = 18871
  LINE_PROJECTION_OFFSET = -42808.375
  MAP_PROJECTION_ROTATION = 0.0
  MAP_PROJECTION_TYPE = SINUSOIDAL
  MAP_RESOLUTION = 1185.42760773333
  MAP_SCALE = 0.05
  MAXIMUM_LATITUDE = -36.1136
  MINIMUM_LATITUDE = -51.963
  POSITIVE_LONGITUDE_DIRECTION = EAST
  REFERENCE_LATITUDE = "N/A"
  REFERENCE_LONGITUDE = "N/A"
  SAMPLE_FIRST_PIXEL = 1
  SAMPLE_LAST_PIXEL = 2186
  SAMPLE_PROJECTION_OFFSET = 987.875
  SECOND_STANDARD_PARALLEL = "N/A"
  WESTERNMOST_LONGITUDE = 91.6446
END_OBJECT = IMAGE_MAP_PROJECTION
/* The JPEG2000 image data file associated with this label. */
OBJECT = COMPRESSED_FILE
  FILE_NAME = "H8591_0000_IR3.JP2"
  RECORD_TYPE = UNDEFINED
  FILE_RECORDS = UNK
  ENCODING_TYPE = "JP2"
  INTERCHANGE_FORMAT = BINARY
  UNCOMPRESSED_FILE_NAME = "H8591_0000_IR3.IMG"
  REQUIRED_STORAGE_BYTES = "41273866"
  ^DESCRIPTION = "JP2INFO.TXT"
END_OBJECT = COMPRESSED_FILE
END
