PDS_VERSION_ID = PDS3
/* FILE DATA ELEMENTS */
RECORD_TYPE = STREAM
/* POINTERS TO DATA OBJECTS */
^COMPRESSED_FILE = "H8591_0000_S13.JP2"
/* IDENTIFICATION DATA ELEMENTS */
DATA_SET_ID = "MEX-M-HRSC-5-REFDR-MAPPROJECTED-V3.0"
DATA_SET_NAME = "MARS EXPRESS HRSC MAP PROJECTED REFDR V3.0"
DETECTOR_ID = MEX_HRSC_S1
EVENT_TYPE = "MARS-REGIONAL-MAPPING-Vo-Fl-Gl"
INSTRUMENT_HOST_ID = MEX
INSTRUMENT_HOST_NAME = "MARS EXPRESS"
INSTRUMENT_ID = HRSC
INSTRUMENT_NAME = "HIGH RESOLUTION STEREO CAMERA"
MISSION_NAME = "MARS EXPRESS"
MISSION_PHASE_NAME = ME_Phase_21
PROCESSING_LEVEL_ID = 3
PRODUCT_CREATION_TIME = 2016-10-25T23:07:55.000Z
PRODUCT_ID = "H8591_0000_S13.JP2"
RELEASE_ID = 0092
REVISION_ID = 0000
/* QUALITY DATA ELEMENTS */
DATA_QUALITY_ID = 1
DATA_QUALITY_DESC = "Data calculated based on original SPICE kernels"
/* TIME DATA ELEMENTS */
SPACECRAFT_CLOCK_START_COUNT = "1/0233014353.07301"
SPACECRAFT_CLOCK_STOP_COUNT = "1/0233014694.06348"
START_TIME = 2010-09-19T22:13:40.742Z
STOP_TIME = 2010-09-19T22:18:14.749Z
/* ORBITAL DATA ELEMENTS */
ASCENDING_NODE_LONGITUDE = 53.21
MAXIMUM_RESOLUTION = 31.4
FOOTPRINT_POINT_LATITUDE = (-51.9417,-51.9138,-51.8839,-51.4973, -51.2021,-50.902,-50.6014,-50.2951, -49.9951,-49.702,-49.4039,-49.113, -48.8207,-48.5297,-48.2366,-47.9451, -47.506,-47.0696,-46.774,-46.3268, -46.0296,-45.5744,-45.2709,-44.9678, -44.6602,-44.3512,-44.0443,-43.7285, -43.4159,-42.9417,-42.6217,-42.3024, -41.9777,-41.6536,-41.3262,-40.9963, -40.666,-40.3312,-39.9977,-39.6576, -39.1481,-38.8051,-38.2845,-37.9363, -37.5837,-37.23,-36.8722,-36.5131, -36.1515,-36.1128,-36.1255,-36.1336, -36.1413,-36.1485,-36.3356,-36.6992, -37.0581,-37.5947,-37.9488,-38.2997, -38.6541,-38.9946,-39.3376,-39.6775, -40.0183,-40.3533,-40.8547,-41.1834, -41.5145,-41.8377,-42.1643,-42.487, -42.9668,-43.2863,-43.6004,-43.916, -44.2286,-44.5368,-44.8478,-45.3086, -45.7633,-46.068,-46.3653,-46.8104, -47.1067,-47.6877,-47.9779,-48.2728, -48.5668,-48.8586,-49.1559,-49.4569, -49.755,-50.2029,-50.5017,-50.9404, -51.236,-51.6913,-51.9973,-51.9417)
FOOTPRINT_POINT_LONGITUDE = (93.0521,92.4147,91.7874,91.6466, 91.6637,91.6807,91.6972,91.7136,91.7289 ,91.743,91.7571,91.7699,91.7824,91.7942 ,91.8058,91.8168,91.8327,91.8474, 91.8566,91.87,91.8783,91.8903,91.8978, 91.9048,91.9112,91.9174,91.9231,91.9287 ,91.9335,91.9403,91.9444,91.948,91.9512 ,91.954,91.9565,91.9585,91.9602,91.9613 ,91.962,91.9624,91.9621,91.9611,91.9594 ,91.9574,91.9551,91.9524,91.9492, 91.9455,91.9411,92.3065,92.8819,93.2525 ,93.6256,94.0473,94.3342,94.3252, 94.3159,94.3038,94.2944,94.2862,94.2804 ,94.2683,94.2579,94.2486,94.2392,94.23, 94.215,94.2044,94.1947,94.1836,94.1745, 94.164,94.1486,94.1386,94.1281,94.1178, 94.1071,94.0956,94.0855,94.07,94.0518, 94.0409,94.0288,94.0084,93.9937,93.9654 ,93.9499,93.9374,93.9234,93.9067, 93.8939,93.8836,93.8699,93.8485,93.8334 ,93.8004,93.7801,93.7589,93.746, 93.0521)
ORBIT_NUMBER = 8591
ORBITAL_ECCENTRICITY = 0.579
ORBITAL_INCLINATION = 86.84
ORBITAL_SEMIMAJOR_AXIS = 8777.84
PERIAPSIS_ALTITUDE = 319.88
PERIAPSIS_ARGUMENT_ANGLE = 293.95
PERIAPSIS_TIME = 2010-09-19T22:09:35.000Z
SPACECRAFT_ORIENTATION = (0.0,1.0,0.0)
^MEX_ORIENTATION_DESC = "MEX_ORIENTATION_DESC.TXT"
SPACECRAFT_POINTING_MODE = ACROSSTRACK
^MEX_POINTING_DESC = "MEX_POINTING_DESC.TXT"
RIGHT_ASCENSION = -1e+32
DECLINATION = -1e+32
OFFSET_ANGLE = -0.6
SPACECRAFT_SOLAR_DISTANCE = 2.29696e+08
TARGET_NAME = MARS
/* CAMERA DATA ELEMENTS */
DETECTOR_TEMPERATURE = 17.1471
FOCAL_PLANE_TEMPERATURE = 8.3794
INST_CMPRS_NAME = "DISCRETE COSINE TRANSFORMATION (DCT)"
INST_CMPRS_RATIO = 9.54365
INST_CMPRS_QUALITY = 0
INST_CMPRS_QUANTZ_TBL_ID = 0
INSTRUMENT_TEMPERATURE = 11.0301
LENS_TEMPERATURE = 8.9911
MACROPIXEL_SIZE = 2
MISSING_FRAMES = 0
PIXEL_SUBSAMPLING_FLAG = N
SIGNAL_CHAIN_ID = 1
/* RADIOMETRIC DATA ELEMENTS */
BANDWIDTH = 180.0
CENTER_FILTER_WAVELENGTH = 677.0
RADIANCE_OFFSET = 3.67191
RADIANCE_SCALING_FACTOR = 0.0116126
REFLECTANCE_SCALING_FACTOR = 0.000319653
MEX:REFLECTANCE_OFFSET = 0.101074
/* IMAGE OBJECT DEFINITIONS */
OBJECT = IMAGE
  INTERCHANGE_FORMAT = BINARY
  LINES = 37742
  LINE_SAMPLES = 4371
  SAMPLE_TYPE = UNSIGNED_INTEGER
  SAMPLE_BITS = 8
  BANDS = 1
  BAND_STORAGE_TYPE = BAND_SEQUENTIAL
  MAXIMUM = 255
  MEAN = 94.9477
  MINIMUM = 1
  STANDARD_DEVIATION = 36.6483
END_OBJECT = IMAGE
/* MAP OBJECT DEFINITIONS */
OBJECT = IMAGE_MAP_PROJECTION
  ^DATA_SET_MAP_PROJECTION_CATALOG= "DSMAP.CAT"
  A_AXIS_RADIUS = 3396.0
  B_AXIS_RADIUS = 3396.0
  C_AXIS_RADIUS = 3396.0
  CENTER_LATITUDE = 0.0
  CENTER_LONGITUDE = 93.0
  COORDINATE_SYSTEM_NAME = PLANETOGRAPHIC
  COORDINATE_SYSTEM_TYPE = "BODY-FIXED ROTATING"
  EASTERNMOST_LONGITUDE = 94.3342
  FIRST_STANDARD_PARALLEL = "N/A"
  LINE_FIRST_PIXEL = 1
  LINE_LAST_PIXEL = 37742
  LINE_PROJECTION_OFFSET = -85616.25
  MAP_PROJECTION_ROTATION = 0.0
  MAP_PROJECTION_TYPE = SINUSOIDAL
  MAP_RESOLUTION = 2370.85521546667
  MAP_SCALE = 0.025
  MAXIMUM_LATITUDE = -36.1128
  MINIMUM_LATITUDE = -51.9973
  POSITIVE_LONGITUDE_DIRECTION = EAST
  REFERENCE_LATITUDE = "N/A"
  REFERENCE_LONGITUDE = "N/A"
  SAMPLE_FIRST_PIXEL = 1
  SAMPLE_LAST_PIXEL = 4371
  SAMPLE_PROJECTION_OFFSET = 1976.25
  SECOND_STANDARD_PARALLEL = "N/A"
  WESTERNMOST_LONGITUDE = 91.64660000000001
END_OBJECT = IMAGE_MAP_PROJECTION
/* The JPEG2000 image data file associated with this label. */
OBJECT = COMPRESSED_FILE
  FILE_NAME = "H8591_0000_S13.JP2"
  RECORD_TYPE = UNDEFINED
  FILE_RECORDS = UNK
  ENCODING_TYPE = "JP2"
  INTERCHANGE_FORMAT = BINARY
  UNCOMPRESSED_FILE_NAME = "H8591_0000_S13.IMG"
  REQUIRED_STORAGE_BYTES = "164996508"
  ^DESCRIPTION = "JP2INFO.TXT"
END_OBJECT = COMPRESSED_FILE
END
