PDS_VERSION_ID = PDS3
/* FILE DATA ELEMENTS */
RECORD_TYPE = STREAM
/* POINTERS TO DATA OBJECTS */
^COMPRESSED_FILE = "H8592_0000_RE3.JP2"
/* IDENTIFICATION DATA ELEMENTS */
DATA_SET_ID = "MEX-M-HRSC-5-REFDR-MAPPROJECTED-V3.0"
DATA_SET_NAME = "MARS EXPRESS HRSC MAP PROJECTED REFDR V3.0"
DETECTOR_ID = MEX_HRSC_RED
EVENT_TYPE = "MARS-REGIONAL-MAPPING-Te-Im-Fl"
INSTRUMENT_HOST_ID = MEX
INSTRUMENT_HOST_NAME = "MARS EXPRESS"
INSTRUMENT_ID = HRSC
INSTRUMENT_NAME = "HIGH RESOLUTION STEREO CAMERA"
MISSION_NAME = "MARS EXPRESS"
MISSION_PHASE_NAME = ME_Phase_21
PROCESSING_LEVEL_ID = 3
PRODUCT_CREATION_TIME = 2016-10-25T23:07:55.000Z
PRODUCT_ID = "H8592_0000_RE3.JP2"
RELEASE_ID = 0092
REVISION_ID = 0000
/* QUALITY DATA ELEMENTS */
DATA_QUALITY_ID = 1
DATA_QUALITY_DESC = "Data calculated based on original SPICE kernels"
/* TIME DATA ELEMENTS */
SPACECRAFT_CLOCK_START_COUNT = "1/0233039604.08263"
SPACECRAFT_CLOCK_STOP_COUNT = "1/0233039987.64323"
START_TIME = 2010-09-20T05:13:32.494Z
STOP_TIME = 2010-09-20T05:17:55.566Z
/* ORBITAL DATA ELEMENTS */
ASCENDING_NODE_LONGITUDE = 53.19
MAXIMUM_RESOLUTION = 62.5
FOOTPRINT_POINT_LATITUDE = (-47.3465,-47.337,-47.3283,-47.3197, -47.3029,-46.9386,-46.6246,-46.1684, -45.8607,-45.5532,-45.2461,-44.9388, -44.6319,-44.3251,-43.8651,-43.5585, -43.2519,-42.792,-42.4773,-42.0098, -41.6969,-41.2186,-40.898,-40.5774, -40.2498,-39.9213,-39.5939,-39.2619, -38.9258,-38.5913,-38.2515,-37.9092, -37.5675,-37.0439,-36.695,-36.1622, -35.8071,-35.4447,-35.0828,-34.7169, -34.3475,-33.9757,-33.5984,-33.0285, -32.6448,-32.2575,-31.6662,-31.2681, -30.8753,-30.673,-30.2717,-30.2798, -30.2862,-30.2883,-30.2888,-30.2885, -30.4917,-30.6934,-31.0969,-31.4947, -32.0855,-32.4778,-32.8626,-33.4376, -33.8151,-34.1906,-34.5634,-34.9335, -35.2966,-35.8401,-36.1963,-36.7306, -37.2557,-37.6056,-37.9483,-38.4597, -38.7996,-39.1349,-39.6355,-39.9641, -40.2932,-40.62,-40.9417,-41.2624, -41.7425,-42.2132,-42.5265,-42.9935, -43.2999,-43.6072,-44.0667,-44.5298, -44.8374,-45.2992,-45.6075,-45.9126, -46.2233,-46.5318,-46.8401,-47.3465)
FOOTPRINT_POINT_LONGITUDE = (350.631,350.157,349.805,349.507, 348.998,348.746,348.76,348.786,348.802, 348.816,348.831,348.845,348.858,348.871 ,348.889,348.9,348.911,348.926,348.935, 348.951,348.96,348.973,348.981,348.988, 348.995,349.002,349.008,349.014,349.02, 349.025,349.03,349.034,349.038,349.043, 349.046,349.05,349.052,349.053,349.055, 349.055,349.056,349.055,349.054,349.052 ,349.05,349.047,349.041,349.037,349.035 ,349.033,349.027,349.461,349.997, 350.327,350.761,351.05,351.239,351.235, 351.227,351.219,351.206,351.197,351.188 ,351.175,351.166,351.156,351.146, 351.137,351.127,351.113,351.103,351.088 ,351.072,351.061,351.051,351.036, 351.023,351.012,350.995,350.984,350.972 ,350.96,350.948,350.936,350.917,350.899 ,350.886,350.866,350.853,350.84,350.82, 350.797,350.783,350.761,350.745,350.731 ,350.714,350.698,350.682,350.631)
ORBIT_NUMBER = 8592
ORBITAL_ECCENTRICITY = 0.578
ORBITAL_INCLINATION = 86.83
ORBITAL_SEMIMAJOR_AXIS = 8775.05
PERIAPSIS_ALTITUDE = 320.8
PERIAPSIS_ARGUMENT_ANGLE = 293.78
PERIAPSIS_TIME = 2010-09-20T05:09:13.000Z
SPACECRAFT_ORIENTATION = (0.0,1.0,0.0)
^MEX_ORIENTATION_DESC = "MEX_ORIENTATION_DESC.TXT"
SPACECRAFT_POINTING_MODE = NADIR
^MEX_POINTING_DESC = "MEX_POINTING_DESC.TXT"
RIGHT_ASCENSION = -1e+32
DECLINATION = -1e+32
OFFSET_ANGLE = -1e+32
SPACECRAFT_SOLAR_DISTANCE = 2.2964e+08
TARGET_NAME = MARS
/* CAMERA DATA ELEMENTS */
DETECTOR_TEMPERATURE = 18.5744
FOCAL_PLANE_TEMPERATURE = 7.7677
INST_CMPRS_NAME = "DISCRETE COSINE TRANSFORMATION (DCT)"
INST_CMPRS_RATIO = 15.0185
INST_CMPRS_QUALITY = 0
INST_CMPRS_QUANTZ_TBL_ID = 0
INSTRUMENT_TEMPERATURE = 11.234
LENS_TEMPERATURE = 8.9911
MACROPIXEL_SIZE = 4
MISSING_FRAMES = 0
PIXEL_SUBSAMPLING_FLAG = N
SIGNAL_CHAIN_ID = 2
/* RADIOMETRIC DATA ELEMENTS */
BANDWIDTH = 48.0
CENTER_FILTER_WAVELENGTH = 748.0
RADIANCE_OFFSET = 0.39536
RADIANCE_SCALING_FACTOR = 0.00443744
REFLECTANCE_SCALING_FACTOR = 0.000534012
MEX:REFLECTANCE_OFFSET = 0.0475786
/* IMAGE OBJECT DEFINITIONS */
OBJECT = IMAGE
  INTERCHANGE_FORMAT = BINARY
  LINES = 20154
  LINE_SAMPLES = 2496
  SAMPLE_TYPE = UNSIGNED_INTEGER
  SAMPLE_BITS = 8
  BANDS = 1
  BAND_STORAGE_TYPE = BAND_SEQUENTIAL
  MAXIMUM = 255
  MEAN = 125.334
  MINIMUM = 1
  STANDARD_DEVIATION = 19.1367
END_OBJECT = IMAGE
/* MAP OBJECT DEFINITIONS */
OBJECT = IMAGE_MAP_PROJECTION
  ^DATA_SET_MAP_PROJECTION_CATALOG= "DSMAP.CAT"
  A_AXIS_RADIUS = 3396.0
  B_AXIS_RADIUS = 3396.0
  C_AXIS_RADIUS = 3396.0
  CENTER_LATITUDE = 0.0
  CENTER_LONGITUDE = 350.0
  COORDINATE_SYSTEM_NAME = PLANETOGRAPHIC
  COORDINATE_SYSTEM_TYPE = "BODY-FIXED ROTATING"
  EASTERNMOST_LONGITUDE = 351.239
  FIRST_STANDARD_PARALLEL = "N/A"
  LINE_FIRST_PIXEL = 1
  LINE_LAST_PIXEL = 20154
  LINE_PROJECTION_OFFSET = -35900.625
  MAP_PROJECTION_ROTATION = 0.0
  MAP_PROJECTION_TYPE = SINUSOIDAL
  MAP_RESOLUTION = 1185.42760773333
  MAP_SCALE = 0.05
  MAXIMUM_LATITUDE = -30.2717
  MINIMUM_LATITUDE = -47.3465
  POSITIVE_LONGITUDE_DIRECTION = EAST
  REFERENCE_LATITUDE = "N/A"
  REFERENCE_LONGITUDE = "N/A"
  SAMPLE_FIRST_PIXEL = 1
  SAMPLE_LAST_PIXEL = 2496
  SAMPLE_PROJECTION_OFFSET = 1118.125
  SECOND_STANDARD_PARALLEL = "N/A"
  WESTERNMOST_LONGITUDE = 348.746
END_OBJECT = IMAGE_MAP_PROJECTION
/* The JPEG2000 image data file associated with this label. */
OBJECT = COMPRESSED_FILE
  FILE_NAME = "H8592_0000_RE3.JP2"
  RECORD_TYPE = UNDEFINED
  FILE_RECORDS = UNK
  ENCODING_TYPE = "JP2"
  INTERCHANGE_FORMAT = BINARY
  UNCOMPRESSED_FILE_NAME = "H8592_0000_RE3.IMG"
  REQUIRED_STORAGE_BYTES = "50324352"
  ^DESCRIPTION = "JP2INFO.TXT"
END_OBJECT = COMPRESSED_FILE
END
