PDS_VERSION_ID = PDS3
/* FILE DATA ELEMENTS */
RECORD_TYPE = STREAM
/* POINTERS TO DATA OBJECTS */
^COMPRESSED_FILE = "H8596_0000_RE3.JP2"
/* IDENTIFICATION DATA ELEMENTS */
DATA_SET_ID = "MEX-M-HRSC-5-REFDR-MAPPROJECTED-V3.0"
DATA_SET_NAME = "MARS EXPRESS HRSC MAP PROJECTED REFDR V3.0"
DETECTOR_ID = MEX_HRSC_RED
EVENT_TYPE = "MARS-REGIONAL-MAPPING-Te-Im"
INSTRUMENT_HOST_ID = MEX
INSTRUMENT_HOST_NAME = "MARS EXPRESS"
INSTRUMENT_ID = HRSC
INSTRUMENT_NAME = "HIGH RESOLUTION STEREO CAMERA"
MISSION_NAME = "MARS EXPRESS"
MISSION_PHASE_NAME = ME_Phase_21
PROCESSING_LEVEL_ID = 3
PRODUCT_CREATION_TIME = 2016-10-25T23:07:55.000Z
PRODUCT_ID = "H8596_0000_RE3.JP2"
RELEASE_ID = 0092
REVISION_ID = 0000
/* QUALITY DATA ELEMENTS */
DATA_QUALITY_ID = 1
DATA_QUALITY_DESC = "Data calculated based on original SPICE kernels"
/* TIME DATA ELEMENTS */
SPACECRAFT_CLOCK_START_COUNT = "1/0233140304.08256"
SPACECRAFT_CLOCK_STOP_COUNT = "1/0233140604.05499"
START_TIME = 2010-09-21T09:11:52.356Z
STOP_TIME = 2010-09-21T09:15:11.480Z
/* ORBITAL DATA ELEMENTS */
ASCENDING_NODE_LONGITUDE = 53.11
MAXIMUM_RESOLUTION = 60.9
FOOTPRINT_POINT_LATITUDE = (-49.6752,-49.6753,-49.6745,-49.6728, -49.6665,-49.6048,-49.3927,-49.187, -48.8222,-48.5657,-48.3159,-47.948, -47.7036,-47.4539,-47.1994,-46.8187, -46.5741,-46.1982,-45.9468,-45.6991, -45.3301,-45.0802,-44.8285,-44.5789, -44.204,-43.9633,-43.7144,-43.4642, -43.2092,-42.955,-42.701,-42.4479, -42.1871,-41.93,-41.6705,-41.4112, -41.1465,-40.8803,-40.6134,-40.2138, -39.9415,-39.5332,-39.2614,-38.985, -38.7076,-38.4323,-38.0093,-37.7276, -37.4477,-37.0132,-36.7239,-36.6106, -36.6077,-36.6053,-36.6008,-36.5957, -36.8844,-37.1741,-37.6029,-37.8863, -38.3114,-38.5904,-38.8696,-39.1487, -39.4228,-39.6954,-39.9686,-40.2416, -40.6425,-40.9097,-41.3093,-41.5712, -41.8306,-42.2187,-42.4778,-42.7318, -42.9867,-43.3679,-43.622,-43.8699, -44.1147,-44.3638,-44.7345,-45.1096, -45.3569,-45.6077,-45.8585,-46.1089, -46.3543,-46.6109,-46.8601,-47.2353, -47.4848,-47.7394,-48.111,-48.4866, -48.7386,-48.9866,-49.3224,-49.6752)
FOOTPRINT_POINT_LONGITUDE = (302.031,301.702,301.412,301.123, 300.551,300.101,300.112,300.124,300.143 ,300.155,300.167,300.186,300.198, 300.209,300.219,300.234,300.245,300.259 ,300.268,300.277,300.29,300.298,300.305 ,300.313,300.323,300.331,300.337, 300.343,300.349,300.355,300.36,300.366, 300.371,300.376,300.38,300.385,300.389, 300.393,300.396,300.401,300.404,300.407 ,300.41,300.412,300.414,300.416,300.417 ,300.418,300.419,300.419,300.419, 300.801,301.342,301.672,302.062,302.501 ,302.495,302.489,302.48,302.474,302.465 ,302.458,302.45,302.443,302.436,302.429 ,302.422,302.414,302.403,302.395, 302.384,302.376,302.369,302.36,302.352, 302.345,302.337,302.326,302.317,302.31, 302.305,302.296,302.286,302.272,302.265 ,302.255,302.245,302.235,302.23,302.214 ,302.205,302.191,302.181,302.167, 302.155,302.14,302.128,302.119,302.105, 302.031)
ORBIT_NUMBER = 8596
ORBITAL_ECCENTRICITY = 0.578
ORBITAL_INCLINATION = 86.83
ORBITAL_SEMIMAJOR_AXIS = 8773.96
PERIAPSIS_ALTITUDE = 320.94
PERIAPSIS_ARGUMENT_ANGLE = 293.14
PERIAPSIS_TIME = 2010-09-21T09:07:58.000Z
SPACECRAFT_ORIENTATION = (0.0,1.0,0.0)
^MEX_ORIENTATION_DESC = "MEX_ORIENTATION_DESC.TXT"
SPACECRAFT_POINTING_MODE = ACROSSTRACK
^MEX_POINTING_DESC = "MEX_POINTING_DESC.TXT"
RIGHT_ASCENSION = -1e+32
DECLINATION = -1e+32
OFFSET_ANGLE = -0.458
SPACECRAFT_SOLAR_DISTANCE = 2.29415e+08
TARGET_NAME = MARS
/* CAMERA DATA ELEMENTS */
DETECTOR_TEMPERATURE = 17.9627
FOCAL_PLANE_TEMPERATURE = 7.9716
INST_CMPRS_NAME = "DISCRETE COSINE TRANSFORMATION (DCT)"
INST_CMPRS_RATIO = 20.2816
INST_CMPRS_QUALITY = 0
INST_CMPRS_QUANTZ_TBL_ID = 0
INSTRUMENT_TEMPERATURE = 11.0301
LENS_TEMPERATURE = 8.3794
MACROPIXEL_SIZE = 4
MISSING_FRAMES = 0
PIXEL_SUBSAMPLING_FLAG = N
SIGNAL_CHAIN_ID = 2
/* RADIOMETRIC DATA ELEMENTS */
BANDWIDTH = 48.0
CENTER_FILTER_WAVELENGTH = 748.0
RADIANCE_OFFSET = 0.398017
RADIANCE_SCALING_FACTOR = 0.00370144
REFLECTANCE_SCALING_FACTOR = 0.000444571
MEX:REFLECTANCE_OFFSET = 0.0478048
/* IMAGE OBJECT DEFINITIONS */
OBJECT = IMAGE
  INTERCHANGE_FORMAT = BINARY
  LINES = 15473
  LINE_SAMPLES = 2244
  SAMPLE_TYPE = UNSIGNED_INTEGER
  SAMPLE_BITS = 8
  BANDS = 1
  BAND_STORAGE_TYPE = BAND_SEQUENTIAL
  MAXIMUM = 255
  MEAN = 95.8422
  MINIMUM = 1
  STANDARD_DEVIATION = 21.2548
END_OBJECT = IMAGE
/* MAP OBJECT DEFINITIONS */
OBJECT = IMAGE_MAP_PROJECTION
  ^DATA_SET_MAP_PROJECTION_CATALOG= "DSMAP.CAT"
  A_AXIS_RADIUS = 3396.0
  B_AXIS_RADIUS = 3396.0
  C_AXIS_RADIUS = 3396.0
  CENTER_LATITUDE = 0.0
  CENTER_LONGITUDE = 301.0
  COORDINATE_SYSTEM_NAME = PLANETOGRAPHIC
  COORDINATE_SYSTEM_TYPE = "BODY-FIXED ROTATING"
  EASTERNMOST_LONGITUDE = 302.501
  FIRST_STANDARD_PARALLEL = "N/A"
  LINE_FIRST_PIXEL = 1
  LINE_LAST_PIXEL = 15473
  LINE_PROJECTION_OFFSET = -43352.875
  MAP_PROJECTION_ROTATION = 0.0
  MAP_PROJECTION_TYPE = SINUSOIDAL
  MAP_RESOLUTION = 1185.42760773333
  MAP_SCALE = 0.05
  MAXIMUM_LATITUDE = -36.5957
  MINIMUM_LATITUDE = -49.6753
  POSITIVE_LONGITUDE_DIRECTION = EAST
  REFERENCE_LATITUDE = "N/A"
  REFERENCE_LONGITUDE = "N/A"
  SAMPLE_FIRST_PIXEL = 1
  SAMPLE_LAST_PIXEL = 2244
  SAMPLE_PROJECTION_OFFSET = 725.625
  SECOND_STANDARD_PARALLEL = "N/A"
  WESTERNMOST_LONGITUDE = 300.101
END_OBJECT = IMAGE_MAP_PROJECTION
/* The JPEG2000 image data file associated with this label. */
OBJECT = COMPRESSED_FILE
  FILE_NAME = "H8596_0000_RE3.JP2"
  RECORD_TYPE = UNDEFINED
  FILE_RECORDS = UNK
  ENCODING_TYPE = "JP2"
  INTERCHANGE_FORMAT = BINARY
  UNCOMPRESSED_FILE_NAME = "H8596_0000_RE3.IMG"
  REQUIRED_STORAGE_BYTES = "34743852"
  ^DESCRIPTION = "JP2INFO.TXT"
END_OBJECT = COMPRESSED_FILE
END
