PDS_VERSION_ID = PDS3
/* FILE DATA ELEMENTS */
RECORD_TYPE = STREAM
/* POINTERS TO DATA OBJECTS */
^COMPRESSED_FILE = "H8601_0000_S23.JP2"
/* IDENTIFICATION DATA ELEMENTS */
DATA_SET_ID = "MEX-M-HRSC-5-REFDR-MAPPROJECTED-V3.0"
DATA_SET_NAME = "MARS EXPRESS HRSC MAP PROJECTED REFDR V3.0"
DETECTOR_ID = MEX_HRSC_S2
EVENT_TYPE = "MARS-REGIONAL-MAPPING-Im-Fl"
INSTRUMENT_HOST_ID = MEX
INSTRUMENT_HOST_NAME = "MARS EXPRESS"
INSTRUMENT_ID = HRSC
INSTRUMENT_NAME = "HIGH RESOLUTION STEREO CAMERA"
MISSION_NAME = "MARS EXPRESS"
MISSION_PHASE_NAME = ME_Phase_21
PROCESSING_LEVEL_ID = 3
PRODUCT_CREATION_TIME = 2016-10-25T23:07:55.000Z
PRODUCT_ID = "H8601_0000_S23.JP2"
RELEASE_ID = 0092
REVISION_ID = 0000
/* QUALITY DATA ELEMENTS */
DATA_QUALITY_ID = 1
DATA_QUALITY_DESC = "Data calculated based on original SPICE kernels"
/* TIME DATA ELEMENTS */
SPACECRAFT_CLOCK_START_COUNT = "1/0233266350.09131"
SPACECRAFT_CLOCK_STOP_COUNT = "1/0233266577.48866"
START_TIME = 2010-09-22T20:12:32.746Z
STOP_TIME = 2010-09-22T20:14:23.118Z
/* ORBITAL DATA ELEMENTS */
ASCENDING_NODE_LONGITUDE = 53.02
MAXIMUM_RESOLUTION = 37.4
FOOTPRINT_POINT_LATITUDE = (-40.7271,-40.7231,-40.7183,-40.7139, -40.7068,-40.6986,-40.6401,-40.3092, -40.0448,-39.7141,-39.5108,-39.3752, -39.1719,-38.9693,-38.8342,-38.6292, -38.4908,-38.3536,-38.2152,-38.0748, -37.9347,-37.7963,-37.6555,-37.5162, -37.3038,-37.1599,-37.0191,-36.8802, -36.6643,-36.52,-36.3758,-36.2319, -36.0876,-35.8677,-35.7203,-35.5735, -35.4266,-35.28,-35.0569,-34.8324, -34.6828,-34.5334,-34.3838,-34.2317, -34.0034,-33.7754,-33.4958,-33.5025, -33.5072,-33.5104,-33.5137,-33.5187, -33.519,-33.5199,-33.5228,-33.5219, -33.6772,-33.8292,-33.9818,-34.1336, -34.2854,-34.4379,-34.5881,-34.7381, -34.8879,-35.0382,-35.1885,-35.3375, -35.4846,-35.6324,-35.781,-35.9284, -36.0757,-36.2193,-36.4351,-36.5794, -36.7954,-36.9397,-37.0816,-37.2242, -37.3652,-37.5768,-37.7175,-37.8576, -37.9956,-38.2031,-38.3416,-38.549, -38.6879,-38.8253,-38.9616,-39.2321, -39.3679,-39.5042,-39.6406,-39.8426, -40.1059,-40.2411,-40.5065,-40.7271)
FOOTPRINT_POINT_LONGITUDE = (150.215,149.866,149.556,149.324, 149.015,148.705,148.296,148.304,148.309 ,148.316,148.32,148.322,148.325,148.329 ,148.331,148.334,148.336,148.338,148.34 ,148.341,148.342,148.344,148.345, 148.348,148.349,148.35,148.351,148.353, 148.355,148.355,148.356,148.357,148.358 ,148.358,148.359,148.359,148.36,148.36, 148.36,148.361,148.361,148.361,148.36, 148.36,148.36,148.359,148.359,148.613, 148.887,149.056,149.225,149.5,149.69, 149.859,150.176,150.472,150.54,150.536, 150.533,150.529,150.526,150.522,150.518 ,150.514,150.51,150.506,150.502,150.498 ,150.494,150.49,150.485,150.481,150.477 ,150.473,150.467,150.463,150.457, 150.453,150.448,150.444,150.44,150.433, 150.429,150.425,150.421,150.415,150.411 ,150.404,150.4,150.395,150.39,150.381, 150.377,150.372,150.367,150.36,150.351, 150.346,150.336,150.215)
ORBIT_NUMBER = 8601
ORBITAL_ECCENTRICITY = 0.578
ORBITAL_INCLINATION = 86.82
ORBITAL_SEMIMAJOR_AXIS = 8775.51
PERIAPSIS_ALTITUDE = 321.5
PERIAPSIS_ARGUMENT_ANGLE = 292.28
PERIAPSIS_TIME = 2010-09-22T20:06:16.000Z
SPACECRAFT_ORIENTATION = (0.0,1.0,0.0)
^MEX_ORIENTATION_DESC = "MEX_ORIENTATION_DESC.TXT"
SPACECRAFT_POINTING_MODE = NADIR
^MEX_POINTING_DESC = "MEX_POINTING_DESC.TXT"
RIGHT_ASCENSION = -1e+32
DECLINATION = -1e+32
OFFSET_ANGLE = -1e+32
SPACECRAFT_SOLAR_DISTANCE = 2.29134e+08
TARGET_NAME = MARS
/* CAMERA DATA ELEMENTS */
DETECTOR_TEMPERATURE = 18.3705
FOCAL_PLANE_TEMPERATURE = 7.9716
INST_CMPRS_NAME = "DISCRETE COSINE TRANSFORMATION (DCT)"
INST_CMPRS_RATIO = 11.0979
INST_CMPRS_QUALITY = 0
INST_CMPRS_QUANTZ_TBL_ID = 0
INSTRUMENT_TEMPERATURE = 11.0301
LENS_TEMPERATURE = 8.1755
MACROPIXEL_SIZE = 2
MISSING_FRAMES = 0
PIXEL_SUBSAMPLING_FLAG = N
SIGNAL_CHAIN_ID = 1
/* RADIOMETRIC DATA ELEMENTS */
BANDWIDTH = 178.0
CENTER_FILTER_WAVELENGTH = 679.0
RADIANCE_OFFSET = 2.52235
RADIANCE_SCALING_FACTOR = 0.0133025
REFLECTANCE_SCALING_FACTOR = 0.000369861
MEX:REFLECTANCE_OFFSET = 0.0701313
/* IMAGE OBJECT DEFINITIONS */
OBJECT = IMAGE
  INTERCHANGE_FORMAT = BINARY
  LINES = 17008
  LINE_SAMPLES = 4797
  SAMPLE_TYPE = UNSIGNED_INTEGER
  SAMPLE_BITS = 8
  BANDS = 1
  BAND_STORAGE_TYPE = BAND_SEQUENTIAL
  MAXIMUM = 255
  MEAN = 131.516
  MINIMUM = 1
  STANDARD_DEVIATION = 26.4409
END_OBJECT = IMAGE
/* MAP OBJECT DEFINITIONS */
OBJECT = IMAGE_MAP_PROJECTION
  ^DATA_SET_MAP_PROJECTION_CATALOG= "DSMAP.CAT"
  A_AXIS_RADIUS = 3396.0
  B_AXIS_RADIUS = 3396.0
  C_AXIS_RADIUS = 3396.0
  CENTER_LATITUDE = 0.0
  CENTER_LONGITUDE = 149.0
  COORDINATE_SYSTEM_NAME = PLANETOGRAPHIC
  COORDINATE_SYSTEM_TYPE = "BODY-FIXED ROTATING"
  EASTERNMOST_LONGITUDE = 150.54
  FIRST_STANDARD_PARALLEL = "N/A"
  LINE_FIRST_PIXEL = 1
  LINE_LAST_PIXEL = 17008
  LINE_PROJECTION_OFFSET = -79384.25
  MAP_PROJECTION_ROTATION = 0.0
  MAP_PROJECTION_TYPE = SINUSOIDAL
  MAP_RESOLUTION = 2370.85521546667
  MAP_SCALE = 0.025
  MAXIMUM_LATITUDE = -33.4958
  MINIMUM_LATITUDE = -40.7271
  POSITIVE_LONGITUDE_DIRECTION = EAST
  REFERENCE_LATITUDE = "N/A"
  REFERENCE_LONGITUDE = "N/A"
  SAMPLE_FIRST_PIXEL = 1
  SAMPLE_LAST_PIXEL = 4797
  SAMPLE_PROJECTION_OFFSET = 1520.75
  SECOND_STANDARD_PARALLEL = "N/A"
  WESTERNMOST_LONGITUDE = 148.296
END_OBJECT = IMAGE_MAP_PROJECTION
/* The JPEG2000 image data file associated with this label. */
OBJECT = COMPRESSED_FILE
  FILE_NAME = "H8601_0000_S23.JP2"
  RECORD_TYPE = UNDEFINED
  FILE_RECORDS = UNK
  ENCODING_TYPE = "JP2"
  INTERCHANGE_FORMAT = BINARY
  UNCOMPRESSED_FILE_NAME = "H8601_0000_S23.IMG"
  REQUIRED_STORAGE_BYTES = "81611361"
  ^DESCRIPTION = "JP2INFO.TXT"
END_OBJECT = COMPRESSED_FILE
END
