PDS_VERSION_ID = PDS3
/* FILE DATA ELEMENTS */
RECORD_TYPE = STREAM
/* POINTERS TO DATA OBJECTS */
^COMPRESSED_FILE = "H8602_0000_BL3.JP2"
/* IDENTIFICATION DATA ELEMENTS */
DATA_SET_ID = "MEX-M-HRSC-5-REFDR-MAPPROJECTED-V3.0"
DATA_SET_NAME = "MARS EXPRESS HRSC MAP PROJECTED REFDR V3.0"
DETECTOR_ID = MEX_HRSC_BLUE
EVENT_TYPE = "MARS-REGIONAL-MAPPING-Vo-Fl-Gl"
INSTRUMENT_HOST_ID = MEX
INSTRUMENT_HOST_NAME = "MARS EXPRESS"
INSTRUMENT_ID = HRSC
INSTRUMENT_NAME = "HIGH RESOLUTION STEREO CAMERA"
MISSION_NAME = "MARS EXPRESS"
MISSION_PHASE_NAME = ME_Phase_21
PROCESSING_LEVEL_ID = 3
PRODUCT_CREATION_TIME = 2016-10-25T23:07:55.000Z
PRODUCT_ID = "H8602_0000_BL3.JP2"
RELEASE_ID = 0092
REVISION_ID = 0000
/* QUALITY DATA ELEMENTS */
DATA_QUALITY_ID = 1
DATA_QUALITY_DESC = "Data calculated based on original SPICE kernels"
/* TIME DATA ELEMENTS */
SPACECRAFT_CLOCK_START_COUNT = "1/0233291258.09063"
SPACECRAFT_CLOCK_STOP_COUNT = "1/0233291468.47894"
START_TIME = 2010-09-23T03:08:05.109Z
STOP_TIME = 2010-09-23T03:10:26.160Z
/* ORBITAL DATA ELEMENTS */
ASCENDING_NODE_LONGITUDE = 53.0
MAXIMUM_RESOLUTION = 53.1
FOOTPRINT_POINT_LATITUDE = (-58.8255,-58.7991,-58.7634,-58.6457, -58.3045,-57.9634,-57.6228,-57.3631, -57.0992,-56.9231,-56.7472,-56.5713, -56.3955,-56.2196,-56.044,-55.7804, -55.6048,-55.3466,-55.0836,-54.9083, -54.7329,-54.5578,-54.3824,-54.1197, -53.8571,-53.6822,-53.5073,-53.3326, -53.158,-52.9832,-52.8087,-52.6342, -52.4598,-52.2855,-52.1113,-51.8501, -51.676,-51.502,-51.2034,-50.9963, -50.6854,-50.4775,-50.166,-49.9594, -49.7531,-49.5995,-49.612,-49.6295, -49.6422,-49.654,-49.8648,-50.0714, -50.2789,-50.4867,-50.694,-50.9017, -51.1094,-51.3174,-51.5232,-51.6976, -51.8722,-52.0468,-52.2215,-52.3963, -52.5712,-52.7459,-52.921,-53.0962, -53.2713,-53.5343,-53.7096,-53.885, -54.0606,-54.2362,-54.4119,-54.5876, -54.7634,-54.9392,-55.1152,-55.2911, -55.4673,-55.6383,-55.8144,-55.9906, -56.1669,-56.3433,-56.5197,-56.6963, -56.8728,-57.0494,-57.2262,-57.4027, -57.6647,-57.8358,-58.007,-58.1781, -58.3491,-58.606,-58.7773,-58.8255)
FOOTPRINT_POINT_LONGITUDE = (45.8738,45.2375,44.4791,44.1703, 44.2292,44.2863,44.3427,44.3828,44.424, 44.4504,44.4766,44.5024,44.528,44.5528, 44.5776,44.6136,44.6373,44.6714,44.7059 ,44.7282,44.7499,44.7719,44.7925, 44.8234,44.8535,44.8734,44.893,44.9122, 44.9315,44.9497,44.9681,44.9861,45.0038 ,45.0214,45.0387,45.0638,45.0801, 45.0963,45.1239,45.1432,45.1697,45.1847 ,45.2068,45.2234,45.2404,45.5246, 45.8511,46.3491,46.7506,47.2091,47.2949 ,47.2802,47.2639,47.247,47.2313,47.2148 ,47.1981,47.1811,47.164,47.1493,47.1345 ,47.1195,47.1044,47.0891,47.0735, 47.0581,47.0422,47.0259,47.0098,46.985, 46.9684,46.9514,46.9342,46.9169,46.8993 ,46.8815,46.8636,46.8454,46.8269, 46.8083,46.7892,46.7705,46.7514,46.7319 ,46.7119,46.6918,46.6715,46.6506, 46.6297,46.6084,46.5868,46.5654,46.5329 ,46.5113,46.4893,46.4671,46.4451, 46.4108,46.3876,45.8738)
ORBIT_NUMBER = 8602
ORBITAL_ECCENTRICITY = 0.578
ORBITAL_INCLINATION = 86.83
ORBITAL_SEMIMAJOR_AXIS = 8775.26
PERIAPSIS_ALTITUDE = 320.76
PERIAPSIS_ARGUMENT_ANGLE = 292.11
PERIAPSIS_TIME = 2010-09-23T03:05:55.000Z
SPACECRAFT_ORIENTATION = (0.0,1.0,0.0)
^MEX_ORIENTATION_DESC = "MEX_ORIENTATION_DESC.TXT"
SPACECRAFT_POINTING_MODE = ACROSSTRACK
^MEX_POINTING_DESC = "MEX_POINTING_DESC.TXT"
RIGHT_ASCENSION = -1e+32
DECLINATION = -1e+32
OFFSET_ANGLE = 0.2
SPACECRAFT_SOLAR_DISTANCE = 2.29078e+08
TARGET_NAME = MARS
/* CAMERA DATA ELEMENTS */
DETECTOR_TEMPERATURE = 17.9627
FOCAL_PLANE_TEMPERATURE = 8.3794
INST_CMPRS_NAME = "DISCRETE COSINE TRANSFORMATION (DCT)"
INST_CMPRS_RATIO = 5.23979
INST_CMPRS_QUALITY = 0
INST_CMPRS_QUANTZ_TBL_ID = 0
INSTRUMENT_TEMPERATURE = 11.0301
LENS_TEMPERATURE = 9.3989
MACROPIXEL_SIZE = 4
MISSING_FRAMES = 12
PIXEL_SUBSAMPLING_FLAG = N
SIGNAL_CHAIN_ID = 2
/* RADIOMETRIC DATA ELEMENTS */
BANDWIDTH = 76.0
CENTER_FILTER_WAVELENGTH = 444.0
RADIANCE_OFFSET = 0.482808
RADIANCE_SCALING_FACTOR = 0.00277571
REFLECTANCE_SCALING_FACTOR = 0.000149656
MEX:REFLECTANCE_OFFSET = 0.0260313
/* IMAGE OBJECT DEFINITIONS */
OBJECT = IMAGE
  INTERCHANGE_FORMAT = BINARY
  LINES = 10952
  LINE_SAMPLES = 2148
  SAMPLE_TYPE = UNSIGNED_INTEGER
  SAMPLE_BITS = 8
  BANDS = 1
  BAND_STORAGE_TYPE = BAND_SEQUENTIAL
  MAXIMUM = 255
  MEAN = 170.615
  MINIMUM = 1
  STANDARD_DEVIATION = 37.2577
END_OBJECT = IMAGE
/* MAP OBJECT DEFINITIONS */
OBJECT = IMAGE_MAP_PROJECTION
  ^DATA_SET_MAP_PROJECTION_CATALOG= "DSMAP.CAT"
  A_AXIS_RADIUS = 3396.0
  B_AXIS_RADIUS = 3396.0
  C_AXIS_RADIUS = 3396.0
  CENTER_LATITUDE = 0.0
  CENTER_LONGITUDE = 46.0
  COORDINATE_SYSTEM_NAME = PLANETOGRAPHIC
  COORDINATE_SYSTEM_TYPE = "BODY-FIXED ROTATING"
  EASTERNMOST_LONGITUDE = 47.2949
  FIRST_STANDARD_PARALLEL = "N/A"
  LINE_FIRST_PIXEL = 1
  LINE_LAST_PIXEL = 10952
  LINE_PROJECTION_OFFSET = -58787.375
  MAP_PROJECTION_ROTATION = 0.0
  MAP_PROJECTION_TYPE = SINUSOIDAL
  MAP_RESOLUTION = 1185.42760773333
  MAP_SCALE = 0.05
  MAXIMUM_LATITUDE = -49.5995
  MINIMUM_LATITUDE = -58.8255
  POSITIVE_LONGITUDE_DIRECTION = EAST
  REFERENCE_LATITUDE = "N/A"
  REFERENCE_LONGITUDE = "N/A"
  SAMPLE_FIRST_PIXEL = 1
  SAMPLE_LAST_PIXEL = 2148
  SAMPLE_PROJECTION_OFFSET = 1151.625
  SECOND_STANDARD_PARALLEL = "N/A"
  WESTERNMOST_LONGITUDE = 44.1703
END_OBJECT = IMAGE_MAP_PROJECTION
/* The JPEG2000 image data file associated with this label. */
OBJECT = COMPRESSED_FILE
  FILE_NAME = "H8602_0000_BL3.JP2"
  RECORD_TYPE = UNDEFINED
  FILE_RECORDS = UNK
  ENCODING_TYPE = "JP2"
  INTERCHANGE_FORMAT = BINARY
  UNCOMPRESSED_FILE_NAME = "H8602_0000_BL3.IMG"
  REQUIRED_STORAGE_BYTES = "23546376"
  ^DESCRIPTION = "JP2INFO.TXT"
END_OBJECT = COMPRESSED_FILE
END
