PDS_VERSION_ID = PDS3
/* FILE DATA ELEMENTS */
RECORD_TYPE = STREAM
/* POINTERS TO DATA OBJECTS */
^COMPRESSED_FILE = "H8602_0001_ND3.JP2"
/* IDENTIFICATION DATA ELEMENTS */
DATA_SET_ID = "MEX-M-HRSC-5-REFDR-MAPPROJECTED-V3.0"
DATA_SET_NAME = "MARS EXPRESS HRSC MAP PROJECTED REFDR V3.0"
DETECTOR_ID = MEX_HRSC_NADIR
EVENT_TYPE = "MARS-REGIONAL-MAPPING-Im-Fl-La"
INSTRUMENT_HOST_ID = MEX
INSTRUMENT_HOST_NAME = "MARS EXPRESS"
INSTRUMENT_ID = HRSC
INSTRUMENT_NAME = "HIGH RESOLUTION STEREO CAMERA"
MISSION_NAME = "MARS EXPRESS"
MISSION_PHASE_NAME = ME_Phase_21
PROCESSING_LEVEL_ID = 3
PRODUCT_CREATION_TIME = 2016-10-25T23:07:55.000Z
PRODUCT_ID = "H8602_0001_ND3.JP2"
RELEASE_ID = 0092
REVISION_ID = 0000
/* QUALITY DATA ELEMENTS */
DATA_QUALITY_ID = 1
DATA_QUALITY_DESC = "Data calculated based on original SPICE kernels"
/* TIME DATA ELEMENTS */
SPACECRAFT_CLOCK_START_COUNT = "1/0233291622.09062"
SPACECRAFT_CLOCK_STOP_COUNT = "1/0233292024.07026"
START_TIME = 2010-09-23T03:14:34.501Z
STOP_TIME = 2010-09-23T03:18:38.467Z
/* ORBITAL DATA ELEMENTS */
ASCENDING_NODE_LONGITUDE = 53.0
MAXIMUM_RESOLUTION = 21.7
FOOTPRINT_POINT_LATITUDE = (-34.7841,-34.7826,-34.7799,-34.7768, -34.7715,-34.7656,-34.7589,-34.1755, -33.8224,-33.3468,-32.9854,-32.7445, -32.5001,-32.1336,-31.886,-31.5145, -31.2632,-31.0124,-30.6318,-30.3778, -30.1202,-29.8631,-29.6026,-29.3423, -29.0788,-28.8153,-28.5488,-28.1471, -27.8773,-27.6054,-27.3326,-27.0571, -26.6417,-26.3629,-26.0812,-25.799, -25.514,-25.2272,-24.7941,-24.3565, -23.9147,-23.618,-23.3186,-23.0173, -22.7145,-22.4097,-22.1019,-21.7925, -21.4813,-21.295,-21.2929,-21.2909, -21.2873,-21.2844,-21.2777,-21.2726, -21.2651,-21.5782,-21.8905,-22.2004, -22.5084,-22.8147,-23.1184,-23.42, -23.7201,-24.0182,-24.3134,-24.7533, -25.0443,-25.3335,-25.6202,-25.9058, -26.189,-26.6106,-27.0282,-27.3051, -27.5791,-27.8525,-28.1234,-28.3932, -28.6611,-29.0594,-29.3243,-29.5857, -29.8475,-30.1055,-30.4919,-30.747, -31.0017,-31.2534,-31.6302,-31.8787, -32.1276,-32.4953,-32.7409,-33.1035, -33.5838,-34.0598,-34.5302,-34.7841)
FOOTPRINT_POINT_LONGITUDE = (47.7946,47.4577,47.0974,46.8044, 46.3983,46.0361,45.7364,45.7368,45.7374 ,45.7351,45.7325,45.7316,45.7288,45.725 ,45.7229,45.7162,45.7139,45.7098, 45.7042,45.7002,45.6967,45.6925,45.6876 ,45.6829,45.6775,45.6721,45.6663, 45.6572,45.6509,45.6442,45.6374,45.6305 ,45.6198,45.612,45.604,45.596,45.5879, 45.577,45.5635,45.5485,45.5325,45.522, 45.5114,45.5002,45.4882,45.4763,45.4633 ,45.4511,45.4379,45.779,46.1567,46.4179 ,46.7945,47.0551,47.5467,47.8644, 48.2697,48.3656,48.3586,48.3534,48.3484 ,48.3432,48.3376,48.3319,48.3253, 48.3196,48.3142,48.3058,48.3002,48.2946 ,48.2883,48.2824,48.2766,48.2677, 48.2584,48.2528,48.246,48.2399,48.2336, 48.2269,48.221,48.2116,48.205,48.1982, 48.1923,48.186,48.1762,48.1696,48.1624, 48.1552,48.1448,48.137,48.1304,48.1201, 48.1128,48.1032,48.0902,48.0753,48.062, 47.7946)
ORBIT_NUMBER = 8602
ORBITAL_ECCENTRICITY = 0.578
ORBITAL_INCLINATION = 86.83
ORBITAL_SEMIMAJOR_AXIS = 8775.26
PERIAPSIS_ALTITUDE = 320.76
PERIAPSIS_ARGUMENT_ANGLE = 292.11
PERIAPSIS_TIME = 2010-09-23T03:05:55.000Z
SPACECRAFT_ORIENTATION = (0.0,1.0,0.0)
^MEX_ORIENTATION_DESC = "MEX_ORIENTATION_DESC.TXT"
SPACECRAFT_POINTING_MODE = ACROSSTRACK
^MEX_POINTING_DESC = "MEX_POINTING_DESC.TXT"
RIGHT_ASCENSION = -1e+32
DECLINATION = -1e+32
OFFSET_ANGLE = 0.2
SPACECRAFT_SOLAR_DISTANCE = 2.29078e+08
TARGET_NAME = MARS
/* CAMERA DATA ELEMENTS */
DETECTOR_TEMPERATURE = 18.9822
FOCAL_PLANE_TEMPERATURE = 7.9716
INST_CMPRS_NAME = "DISCRETE COSINE TRANSFORMATION (DCT)"
INST_CMPRS_RATIO = 6.63473
INST_CMPRS_QUALITY = 0
INST_CMPRS_QUANTZ_TBL_ID = 0
INSTRUMENT_TEMPERATURE = 50.9945
LENS_TEMPERATURE = 8.3794
MACROPIXEL_SIZE = 1
MISSING_FRAMES = 0
PIXEL_SUBSAMPLING_FLAG = N
SIGNAL_CHAIN_ID = 0
/* RADIOMETRIC DATA ELEMENTS */
BANDWIDTH = 177.0
CENTER_FILTER_WAVELENGTH = 677.5
RADIANCE_OFFSET = 2.12753
RADIANCE_SCALING_FACTOR = 0.0166865
REFLECTANCE_SCALING_FACTOR = 0.000465168
MEX:REFLECTANCE_OFFSET = 0.0593089
/* IMAGE OBJECT DEFINITIONS */
OBJECT = IMAGE
  INTERCHANGE_FORMAT = BINARY
  LINES = 32058
  LINE_SAMPLES = 6661
  SAMPLE_TYPE = UNSIGNED_INTEGER
  SAMPLE_BITS = 8
  BANDS = 1
  BAND_STORAGE_TYPE = BAND_SEQUENTIAL
  MAXIMUM = 255
  MEAN = 125.686
  MINIMUM = 1
  STANDARD_DEVIATION = 22.7643
END_OBJECT = IMAGE
/* MAP OBJECT DEFINITIONS */
OBJECT = IMAGE_MAP_PROJECTION
  ^DATA_SET_MAP_PROJECTION_CATALOG= "DSMAP.CAT"
  A_AXIS_RADIUS = 3396.0
  B_AXIS_RADIUS = 3396.0
  C_AXIS_RADIUS = 3396.0
  CENTER_LATITUDE = 0.0
  CENTER_LONGITUDE = 47.0
  COORDINATE_SYSTEM_NAME = PLANETOGRAPHIC
  COORDINATE_SYSTEM_TYPE = "BODY-FIXED ROTATING"
  EASTERNMOST_LONGITUDE = 48.3656
  FIRST_STANDARD_PARALLEL = "N/A"
  LINE_FIRST_PIXEL = 1
  LINE_LAST_PIXEL = 32058
  LINE_PROJECTION_OFFSET = -50413.0
  MAP_PROJECTION_ROTATION = 0.0
  MAP_PROJECTION_TYPE = SINUSOIDAL
  MAP_RESOLUTION = 2370.85521546667
  MAP_SCALE = 0.025
  MAXIMUM_LATITUDE = -21.2651
  MINIMUM_LATITUDE = -34.7841
  POSITIVE_LONGITUDE_DIRECTION = EAST
  REFERENCE_LATITUDE = "N/A"
  REFERENCE_LONGITUDE = "N/A"
  SAMPLE_FIRST_PIXEL = 1
  SAMPLE_LAST_PIXEL = 6661
  SAMPLE_PROJECTION_OFFSET = 3558.0
  SECOND_STANDARD_PARALLEL = "N/A"
  WESTERNMOST_LONGITUDE = 45.4379
END_OBJECT = IMAGE_MAP_PROJECTION
/* The JPEG2000 image data file associated with this label. */
OBJECT = COMPRESSED_FILE
  FILE_NAME = "H8602_0001_ND3.JP2"
  RECORD_TYPE = UNDEFINED
  FILE_RECORDS = UNK
  ENCODING_TYPE = "JP2"
  INTERCHANGE_FORMAT = BINARY
  UNCOMPRESSED_FILE_NAME = "H8602_0001_ND3.IMG"
  REQUIRED_STORAGE_BYTES = "213571643"
  ^DESCRIPTION = "JP2INFO.TXT"
END_OBJECT = COMPRESSED_FILE
END
