PDS_VERSION_ID = PDS3
/* FILE DATA ELEMENTS */
RECORD_TYPE = STREAM
/* POINTERS TO DATA OBJECTS */
^COMPRESSED_FILE = "H8610_0000_ND3.JP2"
/* IDENTIFICATION DATA ELEMENTS */
DATA_SET_ID = "MEX-M-HRSC-5-REFDR-MAPPROJECTED-V3.0"
DATA_SET_NAME = "MARS EXPRESS HRSC MAP PROJECTED REFDR V3.0"
DETECTOR_ID = MEX_HRSC_NADIR
EVENT_TYPE = "MARS-REGIONAL-MAPPING-Te-Im-Fl"
INSTRUMENT_HOST_ID = MEX
INSTRUMENT_HOST_NAME = "MARS EXPRESS"
INSTRUMENT_ID = HRSC
INSTRUMENT_NAME = "HIGH RESOLUTION STEREO CAMERA"
MISSION_NAME = "MARS EXPRESS"
MISSION_PHASE_NAME = ME_Phase_21
PROCESSING_LEVEL_ID = 3
PRODUCT_CREATION_TIME = 2016-10-25T23:07:55.000Z
PRODUCT_ID = "H8610_0000_ND3.JP2"
RELEASE_ID = 0092
REVISION_ID = 0000
/* QUALITY DATA ELEMENTS */
DATA_QUALITY_ID = 1
DATA_QUALITY_DESC = "Data calculated based on original SPICE kernels"
/* TIME DATA ELEMENTS */
SPACECRAFT_CLOCK_START_COUNT = "1/0233493018.09057"
SPACECRAFT_CLOCK_STOP_COUNT = "1/0233493492.35769"
START_TIME = 2010-09-25T11:11:06.750Z
STOP_TIME = 2010-09-25T11:16:20.779Z
/* ORBITAL DATA ELEMENTS */
ASCENDING_NODE_LONGITUDE = 52.85
MAXIMUM_RESOLUTION = 20.2
FOOTPRINT_POINT_LATITUDE = (-38.8972,-38.8818,-38.4331,-37.6999, -37.4047,-37.1045,-36.8046,-36.349, -36.0447,-35.7355,-35.4267,-35.1134, -34.8002,-34.4825,-34.0039,-33.6817, -33.357,-33.0307,-32.7003,-32.2017, -31.6974,-31.3583,-31.0155,-30.671, -30.3235,-29.9729,-29.62,-29.0846, -28.725,-28.3611,-27.9947,-27.6254, -27.2534,-26.8779,-26.4987,-26.1165, -25.7311,-25.3424,-24.9506,-24.5552, -24.1562,-23.7537,-23.3473,-22.9373, -22.5235,-22.1059,-21.6846,-21.4443, -21.4417,-21.4385,-21.4336,-21.4237, -21.4163,-21.6197,-22.0437,-22.464, -22.8804,-23.2929,-23.7018,-24.1066, -24.508,-24.9057,-25.2998,-25.6907, -26.0783,-26.4626,-26.8439,-27.2211, -27.5951,-27.9663,-28.3347,-28.7001, -29.0615,-29.5994,-29.9541,-30.3064, -30.6553,-31.0014,-31.3458,-31.6862, -32.1926,-32.6936,-33.0253,-33.3528, -33.679,-34.0023,-34.4829,-34.8019, -35.1162,-35.4309,-35.7406,-36.051, -36.3563,-36.8138,-37.1144,-37.564, -37.8603,-38.4477,-38.885,-38.8972)
FOOTPRINT_POINT_LONGITUDE = (308.956,308.007,307.475,307.481, 307.483,307.485,307.486,307.488,307.486 ,307.487,307.486,307.485,307.484, 307.483,307.48,307.478,307.474,307.471, 307.468,307.461,307.455,307.449,307.443 ,307.437,307.431,307.424,307.416, 307.403,307.395,307.386,307.376,307.366 ,307.355,307.344,307.332,307.32,307.307 ,307.294,307.28,307.266,307.251,307.235 ,307.219,307.201,307.184,307.165, 307.146,307.346,307.768,308.128,308.579 ,309.269,309.689,310.18,310.174,310.166 ,310.159,310.152,310.145,310.138, 310.131,310.123,310.115,310.108,310.1, 310.092,310.085,310.076,310.069,310.06, 310.051,310.044,310.035,310.023,310.014 ,310.006,309.997,309.989,309.979,309.97 ,309.958,309.943,309.934,309.925, 309.916,309.906,309.892,309.882,309.872 ,309.861,309.85,309.841,309.832,309.815 ,309.808,309.789,309.778,309.757, 309.739,308.956)
ORBIT_NUMBER = 8610
ORBITAL_ECCENTRICITY = 0.578
ORBITAL_INCLINATION = 86.83
ORBITAL_SEMIMAJOR_AXIS = 8770.78
PERIAPSIS_ALTITUDE = 320.83
PERIAPSIS_ARGUMENT_ANGLE = 290.76
PERIAPSIS_TIME = 2010-09-25T11:03:14.000Z
SPACECRAFT_ORIENTATION = (0.0,1.0,0.0)
^MEX_ORIENTATION_DESC = "MEX_ORIENTATION_DESC.TXT"
SPACECRAFT_POINTING_MODE = ACROSSTRACK
^MEX_POINTING_DESC = "MEX_POINTING_DESC.TXT"
RIGHT_ASCENSION = -1e+32
DECLINATION = -1e+32
OFFSET_ANGLE = 0.1
SPACECRAFT_SOLAR_DISTANCE = 2.28626e+08
TARGET_NAME = MARS
/* CAMERA DATA ELEMENTS */
DETECTOR_TEMPERATURE = 17.5549
FOCAL_PLANE_TEMPERATURE = 7.3599
INST_CMPRS_NAME = "DISCRETE COSINE TRANSFORMATION (DCT)"
INST_CMPRS_RATIO = 7.24486
INST_CMPRS_QUALITY = 0
INST_CMPRS_QUANTZ_TBL_ID = 0
INSTRUMENT_TEMPERATURE = 10.6223
LENS_TEMPERATURE = 7.5638
MACROPIXEL_SIZE = 1
MISSING_FRAMES = 0
PIXEL_SUBSAMPLING_FLAG = N
SIGNAL_CHAIN_ID = 0
/* RADIOMETRIC DATA ELEMENTS */
BANDWIDTH = 177.0
CENTER_FILTER_WAVELENGTH = 677.5
RADIANCE_OFFSET = 2.58034
RADIANCE_SCALING_FACTOR = 0.0146163
REFLECTANCE_SCALING_FACTOR = 0.000405853
MEX:REFLECTANCE_OFFSET = 0.0716486
/* IMAGE OBJECT DEFINITIONS */
OBJECT = IMAGE
  INTERCHANGE_FORMAT = BINARY
  LINES = 41484
  LINE_SAMPLES = 6915
  SAMPLE_TYPE = UNSIGNED_INTEGER
  SAMPLE_BITS = 8
  BANDS = 1
  BAND_STORAGE_TYPE = BAND_SEQUENTIAL
  MAXIMUM = 255
  MEAN = 118.986
  MINIMUM = 1
  STANDARD_DEVIATION = 44.5025
END_OBJECT = IMAGE
/* MAP OBJECT DEFINITIONS */
OBJECT = IMAGE_MAP_PROJECTION
  ^DATA_SET_MAP_PROJECTION_CATALOG= "DSMAP.CAT"
  A_AXIS_RADIUS = 3396.0
  B_AXIS_RADIUS = 3396.0
  C_AXIS_RADIUS = 3396.0
  CENTER_LATITUDE = 0.0
  CENTER_LONGITUDE = 309.0
  COORDINATE_SYSTEM_NAME = PLANETOGRAPHIC
  COORDINATE_SYSTEM_TYPE = "BODY-FIXED ROTATING"
  EASTERNMOST_LONGITUDE = 310.18
  FIRST_STANDARD_PARALLEL = "N/A"
  LINE_FIRST_PIXEL = 1
  LINE_LAST_PIXEL = 41484
  LINE_PROJECTION_OFFSET = -50753.0
  MAP_PROJECTION_ROTATION = 0.0
  MAP_PROJECTION_TYPE = SINUSOIDAL
  MAP_RESOLUTION = 2370.85521546667
  MAP_SCALE = 0.025
  MAXIMUM_LATITUDE = -21.4163
  MINIMUM_LATITUDE = -38.8972
  POSITIVE_LONGITUDE_DIRECTION = EAST
  REFERENCE_LATITUDE = "N/A"
  REFERENCE_LONGITUDE = "N/A"
  SAMPLE_FIRST_PIXEL = 1
  SAMPLE_LAST_PIXEL = 6915
  SAMPLE_PROJECTION_OFFSET = 4212.0
  SECOND_STANDARD_PARALLEL = "N/A"
  WESTERNMOST_LONGITUDE = 307.146
END_OBJECT = IMAGE_MAP_PROJECTION
/* The JPEG2000 image data file associated with this label. */
OBJECT = COMPRESSED_FILE
  FILE_NAME = "H8610_0000_ND3.JP2"
  RECORD_TYPE = UNDEFINED
  FILE_RECORDS = UNK
  ENCODING_TYPE = "JP2"
  INTERCHANGE_FORMAT = BINARY
  UNCOMPRESSED_FILE_NAME = "H8610_0000_ND3.IMG"
  REQUIRED_STORAGE_BYTES = "286896435"
  ^DESCRIPTION = "JP2INFO.TXT"
END_OBJECT = COMPRESSED_FILE
END
