PDS_VERSION_ID = PDS3
/* FILE DATA ELEMENTS */
RECORD_TYPE = STREAM
/* POINTERS TO DATA OBJECTS */
^COMPRESSED_FILE = "H8611_0000_BL3.JP2"
/* IDENTIFICATION DATA ELEMENTS */
DATA_SET_ID = "MEX-M-HRSC-5-REFDR-MAPPROJECTED-V3.0"
DATA_SET_NAME = "MARS EXPRESS HRSC MAP PROJECTED REFDR V3.0"
DETECTOR_ID = MEX_HRSC_BLUE
EVENT_TYPE = "MARS-REGIONAL-MAPPING-Te-Im-Fl"
INSTRUMENT_HOST_ID = MEX
INSTRUMENT_HOST_NAME = "MARS EXPRESS"
INSTRUMENT_ID = HRSC
INSTRUMENT_NAME = "HIGH RESOLUTION STEREO CAMERA"
MISSION_NAME = "MARS EXPRESS"
MISSION_PHASE_NAME = ME_Phase_21
PROCESSING_LEVEL_ID = 3
PRODUCT_CREATION_TIME = 2016-10-25T23:07:55.000Z
PRODUCT_ID = "H8611_0000_BL3.JP2"
RELEASE_ID = 0092
REVISION_ID = 0000
/* QUALITY DATA ELEMENTS */
DATA_QUALITY_ID = 2
DATA_QUALITY_DESC = "Data calculated based on photogrammetrically improved orbit and attitude data"
/* TIME DATA ELEMENTS */
SPACECRAFT_CLOCK_START_COUNT = "1/0233517952.08252"
SPACECRAFT_CLOCK_STOP_COUNT = "1/0233518306.31167"
START_TIME = 2010-09-25T18:06:20.889Z
STOP_TIME = 2010-09-25T18:10:43.040Z
/* ORBITAL DATA ELEMENTS */
ASCENDING_NODE_LONGITUDE = 52.82
MAXIMUM_RESOLUTION = 56.6
FOOTPRINT_POINT_LATITUDE = (-55.0543,-55.0256,-55.0029,-54.706, -54.3003,-53.8943,-53.6232,-53.3533, -53.0855,-52.8013,-52.4799,-52.1588, -51.838,-51.5175,-51.1976,-50.7179, -50.3986,-50.0805,-49.7622,-49.4445, -49.1272,-48.8081,-48.491,-48.1746, -47.8606,-47.3824,-47.0588,-46.573, -46.0799,-45.7495,-45.4196,-45.0834, -44.7462,-44.4094,-44.0653,-43.5496, -43.2013,-42.8508,-42.3203,-41.9636, -41.6036,-41.2405,-40.8771,-40.5083, -40.1372,-39.7621,-39.385,-38.9946, -38.6119,-38.5094,-38.5153,-38.5223, -38.5291,-38.5317,-38.9153,-39.3086, -39.6862,-40.0642,-40.4352,-40.9902, -41.3548,-41.7194,-42.2566,-42.615, -43.1424,-43.4942,-43.8379,-44.1831, -44.6952,-45.0323,-45.538,-45.8688, -46.2,-46.5299,-46.8534,-47.1776, -47.6631,-47.9815,-48.2982,-48.6153, -48.9331,-49.4104,-49.7288,-50.0476, -50.3671,-50.6869,-51.0071,-51.3278, -51.6487,-51.97,-52.2917,-52.6137, -53.075,-53.4807,-53.7513,-54.0223, -54.2934,-54.5647,-54.8362,-55.0543)
FOOTPRINT_POINT_LONGITUDE = (206.243,205.371,204.791,204.514, 204.559,204.601,204.626,204.653,204.684 ,204.71,204.74,204.768,204.796,204.822, 204.849,204.885,204.909,204.934,204.956 ,204.979,205.001,205.017,205.036, 205.055,205.078,205.104,205.121,205.142 ,205.165,205.179,205.193,205.208, 205.221,205.233,205.245,205.262,205.273 ,205.284,205.297,205.307,205.31,205.321 ,205.328,205.336,205.341,205.346, 205.351,205.355,205.36,205.882,206.195, 206.654,207.259,207.601,207.588,207.575 ,207.561,207.547,207.533,207.511, 207.497,207.482,207.458,207.441,207.417 ,207.401,207.386,207.369,207.344, 207.329,207.302,207.285,207.267,207.251 ,207.233,207.214,207.186,207.162, 207.144,207.125,207.105,207.075,207.055 ,207.034,207.012,206.989,206.967, 206.943,206.919,206.894,206.869,206.843 ,206.805,206.77,206.747,206.722,206.698 ,206.673,206.648,206.243)
ORBIT_NUMBER = 8611
ORBITAL_ECCENTRICITY = 0.578
ORBITAL_INCLINATION = 86.84
ORBITAL_SEMIMAJOR_AXIS = 8770.69
PERIAPSIS_ALTITUDE = 320.28
PERIAPSIS_ARGUMENT_ANGLE = 290.57
PERIAPSIS_TIME = 2010-09-25T18:02:49.000Z
SPACECRAFT_ORIENTATION = (0.0,1.0,0.0)
^MEX_ORIENTATION_DESC = "MEX_ORIENTATION_DESC.TXT"
SPACECRAFT_POINTING_MODE = NADIR
^MEX_POINTING_DESC = "MEX_POINTING_DESC.TXT"
RIGHT_ASCENSION = -1e+32
DECLINATION = -1e+32
OFFSET_ANGLE = -1e+32
SPACECRAFT_SOLAR_DISTANCE = 2.2857e+08
TARGET_NAME = MARS
/* CAMERA DATA ELEMENTS */
DETECTOR_TEMPERATURE = 16.9432
FOCAL_PLANE_TEMPERATURE = 7.5638
INST_CMPRS_NAME = "DISCRETE COSINE TRANSFORMATION (DCT)"
INST_CMPRS_RATIO = 6.14268
INST_CMPRS_QUALITY = 0
INST_CMPRS_QUANTZ_TBL_ID = 0
INSTRUMENT_TEMPERATURE = 10.8262
LENS_TEMPERATURE = 7.7677
MACROPIXEL_SIZE = 4
MISSING_FRAMES = 1
PIXEL_SUBSAMPLING_FLAG = N
SIGNAL_CHAIN_ID = 2
/* RADIOMETRIC DATA ELEMENTS */
BANDWIDTH = 76.0
CENTER_FILTER_WAVELENGTH = 444.0
RADIANCE_OFFSET = 0.38922
RADIANCE_SCALING_FACTOR = 0.00353241
REFLECTANCE_SCALING_FACTOR = 0.000189611
MEX:REFLECTANCE_OFFSET = 0.0208923
/* IMAGE OBJECT DEFINITIONS */
OBJECT = IMAGE
  INTERCHANGE_FORMAT = BINARY
  LINES = 19622
  LINE_SAMPLES = 2563
  SAMPLE_TYPE = UNSIGNED_INTEGER
  SAMPLE_BITS = 8
  BANDS = 1
  BAND_STORAGE_TYPE = BAND_SEQUENTIAL
  MAXIMUM = 255
  MEAN = 117.007
  MINIMUM = 1
  STANDARD_DEVIATION = 46.9412
END_OBJECT = IMAGE
/* MAP OBJECT DEFINITIONS */
OBJECT = IMAGE_MAP_PROJECTION
  ^DATA_SET_MAP_PROJECTION_CATALOG= "DSMAP.CAT"
  A_AXIS_RADIUS = 3396.0
  B_AXIS_RADIUS = 3396.0
  C_AXIS_RADIUS = 3396.0
  CENTER_LATITUDE = 0.0
  CENTER_LONGITUDE = 206.0
  COORDINATE_SYSTEM_NAME = PLANETOGRAPHIC
  COORDINATE_SYSTEM_TYPE = "BODY-FIXED ROTATING"
  EASTERNMOST_LONGITUDE = 207.601
  FIRST_STANDARD_PARALLEL = "N/A"
  LINE_FIRST_PIXEL = 1
  LINE_LAST_PIXEL = 19622
  LINE_PROJECTION_OFFSET = -45637.125
  MAP_PROJECTION_ROTATION = 0.0
  MAP_PROJECTION_TYPE = SINUSOIDAL
  MAP_RESOLUTION = 1185.42760773333
  MAP_SCALE = 0.05
  MAXIMUM_LATITUDE = -38.5094
  MINIMUM_LATITUDE = -55.0543
  POSITIVE_LONGITUDE_DIRECTION = EAST
  REFERENCE_LATITUDE = "N/A"
  REFERENCE_LONGITUDE = "N/A"
  SAMPLE_FIRST_PIXEL = 1
  SAMPLE_LAST_PIXEL = 2563
  SAMPLE_PROJECTION_OFFSET = 1043.875
  SECOND_STANDARD_PARALLEL = "N/A"
  WESTERNMOST_LONGITUDE = 204.514
END_OBJECT = IMAGE_MAP_PROJECTION
/* The JPEG2000 image data file associated with this label. */
OBJECT = COMPRESSED_FILE
  FILE_NAME = "H8611_0000_BL3.JP2"
  RECORD_TYPE = UNDEFINED
  FILE_RECORDS = UNK
  ENCODING_TYPE = "JP2"
  INTERCHANGE_FORMAT = BINARY
  UNCOMPRESSED_FILE_NAME = "H8611_0000_BL3.IMG"
  REQUIRED_STORAGE_BYTES = "50311690"
  ^DESCRIPTION = "JP2INFO.TXT"
END_OBJECT = COMPRESSED_FILE
END
