PDS_VERSION_ID = PDS3
/* FILE DATA ELEMENTS */
RECORD_TYPE = STREAM
/* POINTERS TO DATA OBJECTS */
^COMPRESSED_FILE = "H8613_0000_S23.JP2"
/* IDENTIFICATION DATA ELEMENTS */
DATA_SET_ID = "MEX-M-HRSC-5-REFDR-MAPPROJECTED-V3.0"
DATA_SET_NAME = "MARS EXPRESS HRSC MAP PROJECTED REFDR V3.0"
DETECTOR_ID = MEX_HRSC_S2
EVENT_TYPE = "MARS-REGIONAL-MAPPING-Im-Fl"
INSTRUMENT_HOST_ID = MEX
INSTRUMENT_HOST_NAME = "MARS EXPRESS"
INSTRUMENT_ID = HRSC
INSTRUMENT_NAME = "HIGH RESOLUTION STEREO CAMERA"
MISSION_NAME = "MARS EXPRESS"
MISSION_PHASE_NAME = ME_Phase_21
PROCESSING_LEVEL_ID = 3
PRODUCT_CREATION_TIME = 2016-10-25T23:07:55.000Z
PRODUCT_ID = "H8613_0000_S23.JP2"
RELEASE_ID = 0092
REVISION_ID = 0000
/* QUALITY DATA ELEMENTS */
DATA_QUALITY_ID = 1
DATA_QUALITY_DESC = "Data calculated based on original SPICE kernels"
/* TIME DATA ELEMENTS */
SPACECRAFT_CLOCK_START_COUNT = "1/0233568502.09043"
SPACECRAFT_CLOCK_STOP_COUNT = "1/0233568877.40109"
START_TIME = 2010-09-26T08:08:24.771Z
STOP_TIME = 2010-09-26T08:12:08.748Z
/* ORBITAL DATA ELEMENTS */
ASCENDING_NODE_LONGITUDE = 52.79
MAXIMUM_RESOLUTION = 37.3
FOOTPRINT_POINT_LATITUDE = (-42.7647,-42.7542,-42.7412,-42.6702, -42.4262,-42.1797,-41.9338,-41.5603, -41.3103,-40.9118,-40.6568,-40.3992, -40.145,-39.8872,-39.4954,-39.2319, -38.837,-38.4355,-38.1677,-37.8989, -37.6256,-37.3528,-37.0812,-36.663, -36.3836,-36.1002,-35.8176,-35.3924, -35.104,-34.8177,-34.5262,-34.2343, -33.7892,-33.485,-33.1876,-32.8852, -32.5819,-32.2731,-31.9649,-31.6526, -31.34,-31.0233,-30.7055,-30.3864, -30.0636,-29.7344,-29.4098,-29.0782, -28.7443,-28.3664,-28.3752,-28.3773, -28.3787,-28.3767,-28.373,-28.7113, -29.0464,-29.38,-29.7088,-30.0362, -30.3601,-30.6822,-31.0012,-31.3194, -31.6335,-31.9478,-32.2566,-32.7188, -33.1776,-33.4833,-33.7764,-34.0742, -34.368,-34.807,-35.0958,-35.3851, -35.8151,-36.0965,-36.3823,-36.6606, -36.9399,-37.2185,-37.4915,-37.7655, -38.0375,-38.3059,-38.5749,-38.8436, -39.1072,-39.4956,-39.8895,-40.1547, -40.4119,-40.6671,-41.0666,-41.3247, -41.5781,-41.8268,-42.316,-42.7647)
FOOTPRINT_POINT_LONGITUDE = (2.70953,2.03124,1.47332,0.732873, 0.740143,0.747229,0.754197,0.762514, 0.769398,0.777867,0.782188,0.786908, 0.792955,0.797419,0.803255,0.807033, 0.812129,0.816927,0.819895,0.822418, 0.824864,0.827112,0.829529,0.831638, 0.832392,0.832805,0.833684,0.834749, 0.834722,0.834967,0.834612,0.834137, 0.831744,0.828147,0.827058,0.825058, 0.822393,0.819303,0.81598,0.812365, 0.808545,0.804284,0.79969,0.795371, 0.790045,0.78333,0.778212,0.771763, 0.764446,0.922741,1.49763,1.80827, 2.28658,2.76524,3.22891,3.22319,3.2169, 3.21085,3.20479,3.19878,3.19254,3.18652 ,3.18016,3.17375,3.16721,3.16044, 3.15384,3.14359,3.13232,3.12386,3.1189, 3.11206,3.10486,3.09445,3.08704,3.0794, 3.06747,3.06065,3.05175,3.04396,3.03576 ,3.02712,3.01916,3.0107,3.00246,2.99395 ,2.98518,2.97626,2.96732,2.95659, 2.94206,2.92995,2.92102,2.91261,2.89695 ,2.88509,2.87511,2.86505,2.84748, 2.70953)
ORBIT_NUMBER = 8613
ORBITAL_ECCENTRICITY = 0.578
ORBITAL_INCLINATION = 86.83
ORBITAL_SEMIMAJOR_AXIS = 8771.36
PERIAPSIS_ALTITUDE = 320.85
PERIAPSIS_ARGUMENT_ANGLE = 290.22
PERIAPSIS_TIME = 2010-09-26T08:02:08.000Z
SPACECRAFT_ORIENTATION = (0.0,1.0,0.0)
^MEX_ORIENTATION_DESC = "MEX_ORIENTATION_DESC.TXT"
SPACECRAFT_POINTING_MODE = NADIR
^MEX_POINTING_DESC = "MEX_POINTING_DESC.TXT"
RIGHT_ASCENSION = -1e+32
DECLINATION = -1e+32
OFFSET_ANGLE = -1e+32
SPACECRAFT_SOLAR_DISTANCE = 2.28457e+08
TARGET_NAME = MARS
/* CAMERA DATA ELEMENTS */
DETECTOR_TEMPERATURE = 18.3705
FOCAL_PLANE_TEMPERATURE = 8.1755
INST_CMPRS_NAME = "DISCRETE COSINE TRANSFORMATION (DCT)"
INST_CMPRS_RATIO = 11.6556
INST_CMPRS_QUALITY = 0
INST_CMPRS_QUANTZ_TBL_ID = 0
INSTRUMENT_TEMPERATURE = 10.8262
LENS_TEMPERATURE = 8.5833
MACROPIXEL_SIZE = 2
MISSING_FRAMES = 4
PIXEL_SUBSAMPLING_FLAG = N
SIGNAL_CHAIN_ID = 1
/* RADIOMETRIC DATA ELEMENTS */
BANDWIDTH = 178.0
CENTER_FILTER_WAVELENGTH = 679.0
RADIANCE_OFFSET = 2.93006
RADIANCE_SCALING_FACTOR = 0.0154947
REFLECTANCE_SCALING_FACTOR = 0.000428268
MEX:REFLECTANCE_OFFSET = 0.080986
/* IMAGE OBJECT DEFINITIONS */
OBJECT = IMAGE
  INTERCHANGE_FORMAT = BINARY
  LINES = 33981
  LINE_SAMPLES = 5793
  SAMPLE_TYPE = UNSIGNED_INTEGER
  SAMPLE_BITS = 8
  BANDS = 1
  BAND_STORAGE_TYPE = BAND_SEQUENTIAL
  MAXIMUM = 255
  MEAN = 122.56
  MINIMUM = 1
  STANDARD_DEVIATION = 29.9987
END_OBJECT = IMAGE
/* MAP OBJECT DEFINITIONS */
OBJECT = IMAGE_MAP_PROJECTION
  ^DATA_SET_MAP_PROJECTION_CATALOG= "DSMAP.CAT"
  A_AXIS_RADIUS = 3396.0
  B_AXIS_RADIUS = 3396.0
  C_AXIS_RADIUS = 3396.0
  CENTER_LATITUDE = 0.0
  CENTER_LONGITUDE = 2.0
  COORDINATE_SYSTEM_NAME = PLANETOGRAPHIC
  COORDINATE_SYSTEM_TYPE = "BODY-FIXED ROTATING"
  EASTERNMOST_LONGITUDE = 3.22891
  FIRST_STANDARD_PARALLEL = "N/A"
  LINE_FIRST_PIXEL = 1
  LINE_LAST_PIXEL = 33981
  LINE_PROJECTION_OFFSET = -67266.25
  MAP_PROJECTION_ROTATION = 0.0
  MAP_PROJECTION_TYPE = SINUSOIDAL
  MAP_RESOLUTION = 2370.85521546667
  MAP_SCALE = 0.025
  MAXIMUM_LATITUDE = -28.3664
  MINIMUM_LATITUDE = -42.7647
  POSITIVE_LONGITUDE_DIRECTION = EAST
  REFERENCE_LATITUDE = "N/A"
  REFERENCE_LONGITUDE = "N/A"
  SAMPLE_FIRST_PIXEL = 1
  SAMPLE_LAST_PIXEL = 5793
  SAMPLE_PROJECTION_OFFSET = 2934.25
  SECOND_STANDARD_PARALLEL = "N/A"
  WESTERNMOST_LONGITUDE = 0.732873
END_OBJECT = IMAGE_MAP_PROJECTION
/* The JPEG2000 image data file associated with this label. */
OBJECT = COMPRESSED_FILE
  FILE_NAME = "H8613_0000_S23.JP2"
  RECORD_TYPE = UNDEFINED
  FILE_RECORDS = UNK
  ENCODING_TYPE = "JP2"
  INTERCHANGE_FORMAT = BINARY
  UNCOMPRESSED_FILE_NAME = "H8613_0000_S23.IMG"
  REQUIRED_STORAGE_BYTES = "196880898"
  ^DESCRIPTION = "JP2INFO.TXT"
END_OBJECT = COMPRESSED_FILE
END
