PDS_VERSION_ID = PDS3
/* FILE DATA ELEMENTS */
RECORD_TYPE = STREAM
/* POINTERS TO DATA OBJECTS */
^COMPRESSED_FILE = "H8620_0000_GR3.JP2"
/* IDENTIFICATION DATA ELEMENTS */
DATA_SET_ID = "MEX-M-HRSC-5-REFDR-MAPPROJECTED-V3.0"
DATA_SET_NAME = "MARS EXPRESS HRSC MAP PROJECTED REFDR V3.0"
DETECTOR_ID = MEX_HRSC_GREEN
EVENT_TYPE = "MARS-REGIONAL-MAPPING-Im-Fl"
INSTRUMENT_HOST_ID = MEX
INSTRUMENT_HOST_NAME = "MARS EXPRESS"
INSTRUMENT_ID = HRSC
INSTRUMENT_NAME = "HIGH RESOLUTION STEREO CAMERA"
MISSION_NAME = "MARS EXPRESS"
MISSION_PHASE_NAME = ME_Phase_21
PROCESSING_LEVEL_ID = 3
PRODUCT_CREATION_TIME = 2016-10-25T23:07:55.000Z
PRODUCT_ID = "H8620_0000_GR3.JP2"
RELEASE_ID = 0092
REVISION_ID = 0000
/* QUALITY DATA ELEMENTS */
DATA_QUALITY_ID = 1
DATA_QUALITY_DESC = "Data calculated based on original SPICE kernels"
/* TIME DATA ELEMENTS */
SPACECRAFT_CLOCK_START_COUNT = "1/0233744905.07307"
SPACECRAFT_CLOCK_STOP_COUNT = "1/0233745332.15764"
START_TIME = 2010-09-28T09:09:34.188Z
STOP_TIME = 2010-09-28T09:13:46.894Z
/* ORBITAL DATA ELEMENTS */
ASCENDING_NODE_LONGITUDE = 52.66
MAXIMUM_RESOLUTION = 97.4
FOOTPRINT_POINT_LATITUDE = (-34.2111,-34.21,-34.2066,-34.203, -34.1988,-33.6271,-33.2805,-33.0492, -32.8148,-32.4637,-32.2263,-31.8681, -31.6283,-31.2656,-31.0235,-30.7781, -30.4093,-30.162,-29.9124,-29.6626, -29.41,-29.0294,-28.7743,-28.5166, -28.1282,-27.7364,-27.3411,-27.076, -26.8087,-26.5402,-26.2702,-25.9984, -25.7249,-25.3117,-25.0354,-24.6149, -24.3334,-24.0497,-23.7643,-23.4773, -23.1887,-22.8979,-22.6052,-22.3103, -22.0138,-21.7156,-21.4164,-21.0624, -21.0587,-21.0528,-21.0472,-21.0395, -21.0308,-21.0228,-21.0116,-21.3127, -21.6126,-21.913,-22.2126,-22.5097, -22.8046,-23.0974,-23.3882,-23.6774, -23.9651,-24.2507,-24.5331,-24.9556, -25.2354,-25.5138,-25.7902,-26.0636, -26.4718,-26.8761,-27.2783,-27.5442, -27.8084,-28.0703,-28.3312,-28.5904, -28.9767,-29.2326,-29.4864,-29.8648, -30.1161,-30.3645,-30.6128,-30.8588, -31.1042,-31.3474,-31.7114,-31.9531, -32.1918,-32.4288,-32.7828,-33.1348, -33.3673,-33.829,-34.1731,-34.2111)
FOOTPRINT_POINT_LONGITUDE = (6.76427,6.29034,5.74666,5.36876, 4.78489,4.77828,4.77286,4.769,4.76504, 4.75664,4.75256,4.74742,4.74282,4.73526 ,4.7295,4.724,4.71474,4.70806,4.70138, 4.69436,4.68735,4.67616,4.66868,4.66077 ,4.64844,4.6357,4.62226,4.61287,4.60332 ,4.5935,4.58354,4.57254,4.56203,4.54517 ,4.53183,4.51539,4.50276,4.48975, 4.47688,4.46356,4.44995,4.43591,4.42131 ,4.40689,4.39192,4.37649,4.3609,4.52342 ,4.92218,5.44266,5.81041,6.23903, 6.69912,7.1301,7.6298,7.62745,7.61948, 7.61373,7.61022,7.60492,7.59976,7.5945, 7.58912,7.5839,7.57868,7.57284,7.56523, 7.55699,7.55283,7.5486,7.54316,7.53606, 7.52767,7.51817,7.51288,7.50753,7.50199 ,7.49633,7.48912,7.48442,7.47657,7.4703 ,7.46442,7.45586,7.45007,7.44412, 7.43831,7.43272,7.42679,7.42068,7.41383 ,7.40996,7.40366,7.39451,7.38503, 7.37569,7.36962,7.35656,7.34639, 6.76427)
ORBIT_NUMBER = 8620
ORBITAL_ECCENTRICITY = 0.578
ORBITAL_INCLINATION = 86.83
ORBITAL_SEMIMAJOR_AXIS = 8770.21
PERIAPSIS_ALTITUDE = 320.82
PERIAPSIS_ARGUMENT_ANGLE = 289.03
PERIAPSIS_TIME = 2010-09-28T08:59:41.000Z
SPACECRAFT_ORIENTATION = (0.0,1.0,0.0)
^MEX_ORIENTATION_DESC = "MEX_ORIENTATION_DESC.TXT"
SPACECRAFT_POINTING_MODE = ACROSSTRACK
^MEX_POINTING_DESC = "MEX_POINTING_DESC.TXT"
RIGHT_ASCENSION = -1e+32
DECLINATION = -1e+32
OFFSET_ANGLE = -0.1
SPACECRAFT_SOLAR_DISTANCE = 2.2806e+08
TARGET_NAME = MARS
/* CAMERA DATA ELEMENTS */
DETECTOR_TEMPERATURE = 17.7588
FOCAL_PLANE_TEMPERATURE = 7.5638
INST_CMPRS_NAME = "DISCRETE COSINE TRANSFORMATION (DCT)"
INST_CMPRS_RATIO = 11.3359
INST_CMPRS_QUALITY = 0
INST_CMPRS_QUANTZ_TBL_ID = 0
INSTRUMENT_TEMPERATURE = 12.2535
LENS_TEMPERATURE = 7.9716
MACROPIXEL_SIZE = 4
MISSING_FRAMES = 0
PIXEL_SUBSAMPLING_FLAG = N
SIGNAL_CHAIN_ID = 2
/* RADIOMETRIC DATA ELEMENTS */
BANDWIDTH = 88.0
CENTER_FILTER_WAVELENGTH = 538.0
RADIANCE_OFFSET = 1.07535
RADIANCE_SCALING_FACTOR = 0.00560348
REFLECTANCE_SCALING_FACTOR = 0.000250924
MEX:REFLECTANCE_OFFSET = 0.0481541
/* IMAGE OBJECT DEFINITIONS */
OBJECT = IMAGE
  INTERCHANGE_FORMAT = BINARY
  LINES = 7834
  LINE_SAMPLES = 1819
  SAMPLE_TYPE = UNSIGNED_INTEGER
  SAMPLE_BITS = 8
  BANDS = 1
  BAND_STORAGE_TYPE = BAND_SEQUENTIAL
  MAXIMUM = 255
  MEAN = 166.064
  MINIMUM = 1
  STANDARD_DEVIATION = 34.6386
END_OBJECT = IMAGE
/* MAP OBJECT DEFINITIONS */
OBJECT = IMAGE_MAP_PROJECTION
  ^DATA_SET_MAP_PROJECTION_CATALOG= "DSMAP.CAT"
  A_AXIS_RADIUS = 3396.0
  B_AXIS_RADIUS = 3396.0
  C_AXIS_RADIUS = 3396.0
  CENTER_LATITUDE = 0.0
  CENTER_LONGITUDE = 6.0
  COORDINATE_SYSTEM_NAME = PLANETOGRAPHIC
  COORDINATE_SYSTEM_TYPE = "BODY-FIXED ROTATING"
  EASTERNMOST_LONGITUDE = 7.6298
  FIRST_STANDARD_PARALLEL = "N/A"
  LINE_FIRST_PIXEL = 1
  LINE_LAST_PIXEL = 7834
  LINE_PROJECTION_OFFSET = -12451.875
  MAP_PROJECTION_ROTATION = 0.0
  MAP_PROJECTION_TYPE = SINUSOIDAL
  MAP_RESOLUTION = 592.713803866667
  MAP_SCALE = 0.1
  MAXIMUM_LATITUDE = -21.0116
  MINIMUM_LATITUDE = -34.2111
  POSITIVE_LONGITUDE_DIRECTION = EAST
  REFERENCE_LATITUDE = "N/A"
  REFERENCE_LONGITUDE = "N/A"
  SAMPLE_FIRST_PIXEL = 1
  SAMPLE_LAST_PIXEL = 1819
  SAMPLE_PROJECTION_OFFSET = 912.125
  SECOND_STANDARD_PARALLEL = "N/A"
  WESTERNMOST_LONGITUDE = 4.3609
END_OBJECT = IMAGE_MAP_PROJECTION
/* The JPEG2000 image data file associated with this label. */
OBJECT = COMPRESSED_FILE
  FILE_NAME = "H8620_0000_GR3.JP2"
  RECORD_TYPE = UNDEFINED
  FILE_RECORDS = UNK
  ENCODING_TYPE = "JP2"
  INTERCHANGE_FORMAT = BINARY
  UNCOMPRESSED_FILE_NAME = "H8620_0000_GR3.IMG"
  REQUIRED_STORAGE_BYTES = "14270055"
  ^DESCRIPTION = "JP2INFO.TXT"
END_OBJECT = COMPRESSED_FILE
END
