PDS_VERSION_ID = PDS3
/* FILE DATA ELEMENTS */
RECORD_TYPE = STREAM
/* POINTERS TO DATA OBJECTS */
^COMPRESSED_FILE = "H8621_0000_S23.JP2"
/* IDENTIFICATION DATA ELEMENTS */
DATA_SET_ID = "MEX-M-HRSC-5-REFDR-MAPPROJECTED-V3.0"
DATA_SET_NAME = "MARS EXPRESS HRSC MAP PROJECTED REFDR V3.0"
DETECTOR_ID = MEX_HRSC_S2
EVENT_TYPE = "MARS-REGIONAL-MAPPING-Te-Fl"
INSTRUMENT_HOST_ID = MEX
INSTRUMENT_HOST_NAME = "MARS EXPRESS"
INSTRUMENT_ID = HRSC
INSTRUMENT_NAME = "HIGH RESOLUTION STEREO CAMERA"
MISSION_NAME = "MARS EXPRESS"
MISSION_PHASE_NAME = ME_Phase_21
PROCESSING_LEVEL_ID = 3
PRODUCT_CREATION_TIME = 2016-10-25T23:07:55.000Z
PRODUCT_ID = "H8621_0000_S23.JP2"
RELEASE_ID = 0092
REVISION_ID = 0000
/* QUALITY DATA ELEMENTS */
DATA_QUALITY_ID = 1
DATA_QUALITY_DESC = "Data calculated based on original SPICE kernels"
/* TIME DATA ELEMENTS */
SPACECRAFT_CLOCK_START_COUNT = "1/0233769832.08259"
SPACECRAFT_CLOCK_STOP_COUNT = "1/0233770059.54589"
START_TIME = 2010-09-28T16:03:54.764Z
STOP_TIME = 2010-09-28T16:06:05.256Z
/* ORBITAL DATA ELEMENTS */
ASCENDING_NODE_LONGITUDE = 52.64
MAXIMUM_RESOLUTION = 32.1
FOOTPRINT_POINT_LATITUDE = (-51.0835,-51.0746,-51.0561,-51.0439, -50.975,-50.809,-50.643,-50.4741, -50.3063,-49.976,-49.7283,-49.5615, -49.3964,-49.2305,-48.9812,-48.8147, -48.5653,-48.399,-48.2336,-48.068, -47.902,-47.7365,-47.4055,-47.2369, -47.0637,-46.8931,-46.7223,-46.3878, -46.2169,-46.047,-45.8725,-45.6984, -45.5242,-45.3501,-45.1759,-45.0019, -44.8254,-44.6473,-44.469,-44.2909, -44.113,-43.9352,-43.754,-43.5723, -43.3909,-43.2108,-42.941,-42.7602, -42.5778,-42.3931,-42.4117,-42.4244, -42.4259,-42.4353,-42.4376,-42.536, -42.7207,-42.998,-43.1794,-43.3618, -43.5404,-43.7161,-43.896,-44.1645, -44.4322,-44.611,-44.8794,-45.0562, -45.2304,-45.4046,-45.6665,-45.8412, -46.103,-46.358,-46.528,-46.6984, -46.9534,-47.1255,-47.2952,-47.4614, -47.7113,-47.8781,-48.0446,-48.2937, -48.4601,-48.7096,-48.9598,-49.1264, -49.2926,-49.4582,-49.6247,-49.7916, -49.9588,-50.1261,-50.3755,-50.5431, -50.7097,-50.8764,-51.0428,-51.0835)
FOOTPRINT_POINT_LONGITUDE = (263.574,263.254,262.695,262.376, 261.952,261.965,261.978,261.99,262.002, 262.027,262.045,262.056,262.068,262.079 ,262.095,262.106,262.121,262.131, 262.141,262.151,262.161,262.17,262.189, 262.196,262.204,262.212,262.221,262.239 ,262.247,262.254,262.262,262.27,262.277 ,262.285,262.292,262.299,262.306, 262.313,262.319,262.326,262.332,262.338 ,262.344,262.351,262.357,262.363, 262.372,262.379,262.385,262.391,262.848 ,263.18,263.47,263.905,264.176,264.532, 264.525,264.514,264.506,264.498,264.491 ,264.486,264.479,264.466,264.454, 264.445,264.431,264.423,264.414,264.405 ,264.392,264.383,264.369,264.355, 264.346,264.337,264.323,264.313,264.303 ,264.293,264.279,264.268,264.258, 264.243,264.233,264.218,264.202,264.191 ,264.181,264.17,264.159,264.148,264.137 ,264.125,264.108,264.096,264.085, 264.073,264.061,263.574)
ORBIT_NUMBER = 8621
ORBITAL_ECCENTRICITY = 0.578
ORBITAL_INCLINATION = 86.83
ORBITAL_SEMIMAJOR_AXIS = 8769.59
PERIAPSIS_ALTITUDE = 320.28
PERIAPSIS_ARGUMENT_ANGLE = 288.87
PERIAPSIS_TIME = 2010-09-28T15:59:23.000Z
SPACECRAFT_ORIENTATION = (0.0,1.0,0.0)
^MEX_ORIENTATION_DESC = "MEX_ORIENTATION_DESC.TXT"
SPACECRAFT_POINTING_MODE = NADIR
^MEX_POINTING_DESC = "MEX_POINTING_DESC.TXT"
RIGHT_ASCENSION = -1e+32
DECLINATION = -1e+32
OFFSET_ANGLE = -1e+32
SPACECRAFT_SOLAR_DISTANCE = 2.28004e+08
TARGET_NAME = MARS
/* CAMERA DATA ELEMENTS */
DETECTOR_TEMPERATURE = 18.1666
FOCAL_PLANE_TEMPERATURE = 7.5638
INST_CMPRS_NAME = "DISCRETE COSINE TRANSFORMATION (DCT)"
INST_CMPRS_RATIO = 10.906
INST_CMPRS_QUALITY = 0
INST_CMPRS_QUANTZ_TBL_ID = 0
INSTRUMENT_TEMPERATURE = 10.8262
LENS_TEMPERATURE = 7.9716
MACROPIXEL_SIZE = 2
MISSING_FRAMES = 0
PIXEL_SUBSAMPLING_FLAG = N
SIGNAL_CHAIN_ID = 1
/* RADIOMETRIC DATA ELEMENTS */
BANDWIDTH = 178.0
CENTER_FILTER_WAVELENGTH = 679.0
RADIANCE_OFFSET = 2.43705
RADIANCE_SCALING_FACTOR = 0.0119463
REFLECTANCE_SCALING_FACTOR = 0.000328886
MEX:REFLECTANCE_OFFSET = 0.0670927
/* IMAGE OBJECT DEFINITIONS */
OBJECT = IMAGE
  INTERCHANGE_FORMAT = BINARY
  LINES = 20494
  LINE_SAMPLES = 4519
  SAMPLE_TYPE = UNSIGNED_INTEGER
  SAMPLE_BITS = 8
  BANDS = 1
  BAND_STORAGE_TYPE = BAND_SEQUENTIAL
  MAXIMUM = 255
  MEAN = 106.607
  MINIMUM = 1
  STANDARD_DEVIATION = 26.5422
END_OBJECT = IMAGE
/* MAP OBJECT DEFINITIONS */
OBJECT = IMAGE_MAP_PROJECTION
  ^DATA_SET_MAP_PROJECTION_CATALOG= "DSMAP.CAT"
  A_AXIS_RADIUS = 3396.0
  B_AXIS_RADIUS = 3396.0
  C_AXIS_RADIUS = 3396.0
  CENTER_LATITUDE = 0.0
  CENTER_LONGITUDE = 263.0
  COORDINATE_SYSTEM_NAME = PLANETOGRAPHIC
  COORDINATE_SYSTEM_TYPE = "BODY-FIXED ROTATING"
  EASTERNMOST_LONGITUDE = 264.532
  FIRST_STANDARD_PARALLEL = "N/A"
  LINE_FIRST_PIXEL = 1
  LINE_LAST_PIXEL = 20494
  LINE_PROJECTION_OFFSET = -100445.25
  MAP_PROJECTION_ROTATION = 0.0
  MAP_PROJECTION_TYPE = SINUSOIDAL
  MAP_RESOLUTION = 2370.85521546667
  MAP_SCALE = 0.025
  MAXIMUM_LATITUDE = -42.3931
  MINIMUM_LATITUDE = -51.0835
  POSITIVE_LONGITUDE_DIRECTION = EAST
  REFERENCE_LATITUDE = "N/A"
  REFERENCE_LONGITUDE = "N/A"
  SAMPLE_FIRST_PIXEL = 1
  SAMPLE_LAST_PIXEL = 4519
  SAMPLE_PROJECTION_OFFSET = 1655.75
  SECOND_STANDARD_PARALLEL = "N/A"
  WESTERNMOST_LONGITUDE = 261.952
END_OBJECT = IMAGE_MAP_PROJECTION
/* The JPEG2000 image data file associated with this label. */
OBJECT = COMPRESSED_FILE
  FILE_NAME = "H8621_0000_S23.JP2"
  RECORD_TYPE = UNDEFINED
  FILE_RECORDS = UNK
  ENCODING_TYPE = "JP2"
  INTERCHANGE_FORMAT = BINARY
  UNCOMPRESSED_FILE_NAME = "H8621_0000_S23.IMG"
  REQUIRED_STORAGE_BYTES = "92639500"
  ^DESCRIPTION = "JP2INFO.TXT"
END_OBJECT = COMPRESSED_FILE
END
