PDS_VERSION_ID = PDS3
/* FILE DATA ELEMENTS */
RECORD_TYPE = STREAM
/* POINTERS TO DATA OBJECTS */
^COMPRESSED_FILE = "H8627_0000_BL3.JP2"
/* IDENTIFICATION DATA ELEMENTS */
DATA_SET_ID = "MEX-M-HRSC-5-REFDR-MAPPROJECTED-V3.0"
DATA_SET_NAME = "MARS EXPRESS HRSC MAP PROJECTED REFDR V3.0"
DETECTOR_ID = MEX_HRSC_BLUE
EVENT_TYPE = "MARS-REGIONAL-MAPPING-Im-Fl"
INSTRUMENT_HOST_ID = MEX
INSTRUMENT_HOST_NAME = "MARS EXPRESS"
INSTRUMENT_ID = HRSC
INSTRUMENT_NAME = "HIGH RESOLUTION STEREO CAMERA"
MISSION_NAME = "MARS EXPRESS"
MISSION_PHASE_NAME = ME_Phase_21
PROCESSING_LEVEL_ID = 3
PRODUCT_CREATION_TIME = 2016-10-25T23:07:55.000Z
PRODUCT_ID = "H8627_0000_BL3.JP2"
RELEASE_ID = 0092
REVISION_ID = 0000
/* QUALITY DATA ELEMENTS */
DATA_QUALITY_ID = 1
DATA_QUALITY_DESC = "Data calculated based on original SPICE kernels"
/* TIME DATA ELEMENTS */
SPACECRAFT_CLOCK_START_COUNT = "1/0233920836.08273"
SPACECRAFT_CLOCK_STOP_COUNT = "1/0233921111.36770"
START_TIME = 2010-09-30T10:01:05.625Z
STOP_TIME = 2010-09-30T10:04:14.682Z
/* ORBITAL DATA ELEMENTS */
ASCENDING_NODE_LONGITUDE = 52.52
MAXIMUM_RESOLUTION = 116.3
FOOTPRINT_POINT_LATITUDE = (-56.35,-56.3244,-56.3024,-56.2873, -55.9755,-55.5577,-55.3261,-55.0948, -54.8635,-54.6321,-54.4008,-54.1696, -53.9389,-53.5929,-53.3628,-53.1328, -52.9029,-52.5577,-52.3275,-52.0982, -51.8689,-51.6406,-51.4116,-51.183, -50.9544,-50.7264,-50.4985,-50.2681, -50.0346,-49.8011,-49.5679,-49.3349, -48.9791,-48.7407,-48.5027,-48.2648, -48.0233,-47.7794,-47.5359,-47.2927, -46.9222,-46.6739,-46.3019,-46.05, -45.7968,-45.4175,-45.1614,-44.9033, -44.6458,-44.336,-44.3497,-44.3571, -44.3663,-44.3718,-44.5079,-44.7664, -45.0247,-45.4121,-45.6656,-46.0464, -46.3001,-46.5487,-46.7976,-47.0468, -47.295,-47.5388,-47.7819,-48.0267, -48.2706,-48.509,-48.7478,-48.987, -49.3432,-49.5766,-49.8104,-50.1627, -50.3976,-50.6267,-50.8552,-51.1979, -51.4269,-51.6563,-51.8866,-52.1163, -52.4612,-52.6912,-52.9215,-53.1522, -53.3832,-53.6142,-53.9606,-54.1919, -54.5389,-54.7714,-55.0037,-55.2357, -55.5839,-56.0112,-56.304,-56.35)
FOOTPRINT_POINT_LONGITUDE = (9.77681,8.95385,8.35997,7.99169,7.906, 7.95436,7.98069,8.00686,8.03219,8.05632 ,8.07983,8.10276,8.1256,8.1586,8.18056, 8.20194,8.22249,8.25134,8.26942,8.28824 ,8.30637,8.32567,8.34271,8.35968, 8.37589,8.39227,8.40832,8.4235,8.4392, 8.45411,8.46877,8.48302,8.50414,8.51788 ,8.53153,8.54456,8.55824,8.56994,8.5816 ,8.59271,8.60956,8.62065,8.63612, 8.64629,8.65616,8.67027,8.67961,8.68856 ,8.69743,8.93601,9.46554,9.80441, 10.3137,10.7392,10.96,10.947,10.9351, 10.9161,10.9032,10.8834,10.8701,10.8566 ,10.8427,10.8288,10.8145,10.8,10.7882, 10.7721,10.7577,10.7438,10.7294,10.7144 ,10.6974,10.6829,10.6678,10.641,10.6235 ,10.6078,10.5923,10.57,10.5539,10.5369, 10.5176,10.5003,10.4741,10.4568,10.439, 10.4203,10.4006,10.3814,10.3533,10.334, 10.305,10.2818,10.2598,10.2389,10.2072, 10.1639,10.1346,9.77681)
ORBIT_NUMBER = 8627
ORBITAL_ECCENTRICITY = 0.578
ORBITAL_INCLINATION = 86.83
ORBITAL_SEMIMAJOR_AXIS = 8769.13
PERIAPSIS_ALTITUDE = 320.78
PERIAPSIS_ARGUMENT_ANGLE = 287.85
PERIAPSIS_TIME = 2010-09-30T09:57:12.000Z
SPACECRAFT_ORIENTATION = (0.0,1.0,0.0)
^MEX_ORIENTATION_DESC = "MEX_ORIENTATION_DESC.TXT"
SPACECRAFT_POINTING_MODE = ACROSSTRACK
^MEX_POINTING_DESC = "MEX_POINTING_DESC.TXT"
RIGHT_ASCENSION = -1e+32
DECLINATION = -1e+32
OFFSET_ANGLE = -0.1
SPACECRAFT_SOLAR_DISTANCE = 2.27663e+08
TARGET_NAME = MARS
/* CAMERA DATA ELEMENTS */
DETECTOR_TEMPERATURE = 18.3705
FOCAL_PLANE_TEMPERATURE = 8.3794
INST_CMPRS_NAME = "DISCRETE COSINE TRANSFORMATION (DCT)"
INST_CMPRS_RATIO = 5.52931
INST_CMPRS_QUALITY = 0
INST_CMPRS_QUANTZ_TBL_ID = 0
INSTRUMENT_TEMPERATURE = 11.234
LENS_TEMPERATURE = 8.7872
MACROPIXEL_SIZE = 8
MISSING_FRAMES = 0
PIXEL_SUBSAMPLING_FLAG = N
SIGNAL_CHAIN_ID = 2
/* RADIOMETRIC DATA ELEMENTS */
BANDWIDTH = 76.0
CENTER_FILTER_WAVELENGTH = 444.0
RADIANCE_OFFSET = 0.381476
RADIANCE_SCALING_FACTOR = 0.00457595
REFLECTANCE_SCALING_FACTOR = 0.000243681
MEX:REFLECTANCE_OFFSET = 0.0203146
/* IMAGE OBJECT DEFINITIONS */
OBJECT = IMAGE
  INTERCHANGE_FORMAT = BINARY
  LINES = 7121
  LINE_SAMPLES = 1236
  SAMPLE_TYPE = UNSIGNED_INTEGER
  SAMPLE_BITS = 8
  BANDS = 1
  BAND_STORAGE_TYPE = BAND_SEQUENTIAL
  MAXIMUM = 255
  MEAN = 120.042
  MINIMUM = 1
  STANDARD_DEVIATION = 61.7083
END_OBJECT = IMAGE
/* MAP OBJECT DEFINITIONS */
OBJECT = IMAGE_MAP_PROJECTION
  ^DATA_SET_MAP_PROJECTION_CATALOG= "DSMAP.CAT"
  A_AXIS_RADIUS = 3396.0
  B_AXIS_RADIUS = 3396.0
  C_AXIS_RADIUS = 3396.0
  CENTER_LATITUDE = 0.0
  CENTER_LONGITUDE = 9.0
  COORDINATE_SYSTEM_NAME = PLANETOGRAPHIC
  COORDINATE_SYSTEM_TYPE = "BODY-FIXED ROTATING"
  EASTERNMOST_LONGITUDE = 10.96
  FIRST_STANDARD_PARALLEL = "N/A"
  LINE_FIRST_PIXEL = 1
  LINE_LAST_PIXEL = 7121
  LINE_PROJECTION_OFFSET = -26280.9375
  MAP_PROJECTION_ROTATION = 0.0
  MAP_PROJECTION_TYPE = SINUSOIDAL
  MAP_RESOLUTION = 592.713803866667
  MAP_SCALE = 0.1
  MAXIMUM_LATITUDE = -44.336
  MINIMUM_LATITUDE = -56.35
  POSITIVE_LONGITUDE_DIRECTION = EAST
  REFERENCE_LATITUDE = "N/A"
  REFERENCE_LONGITUDE = "N/A"
  SAMPLE_FIRST_PIXEL = 1
  SAMPLE_LAST_PIXEL = 1236
  SAMPLE_PROJECTION_OFFSET = 383.5625
  SECOND_STANDARD_PARALLEL = "N/A"
  WESTERNMOST_LONGITUDE = 7.906
END_OBJECT = IMAGE_MAP_PROJECTION
/* The JPEG2000 image data file associated with this label. */
OBJECT = COMPRESSED_FILE
  FILE_NAME = "H8627_0000_BL3.JP2"
  RECORD_TYPE = UNDEFINED
  FILE_RECORDS = UNK
  ENCODING_TYPE = "JP2"
  INTERCHANGE_FORMAT = BINARY
  UNCOMPRESSED_FILE_NAME = "H8627_0000_BL3.IMG"
  REQUIRED_STORAGE_BYTES = "8820096"
  ^DESCRIPTION = "JP2INFO.TXT"
END_OBJECT = COMPRESSED_FILE
END
