PDS_VERSION_ID = PDS3
/* FILE DATA ELEMENTS */
RECORD_TYPE = STREAM
/* POINTERS TO DATA OBJECTS */
^COMPRESSED_FILE = "H8631_0000_GR3.JP2"
/* IDENTIFICATION DATA ELEMENTS */
DATA_SET_ID = "MEX-M-HRSC-5-REFDR-MAPPROJECTED-V3.0"
DATA_SET_NAME = "MARS EXPRESS HRSC MAP PROJECTED REFDR V3.0"
DETECTOR_ID = MEX_HRSC_GREEN
EVENT_TYPE = "MARS-REGIONAL-MAPPING-Fl-Gl-Pf"
INSTRUMENT_HOST_ID = MEX
INSTRUMENT_HOST_NAME = "MARS EXPRESS"
INSTRUMENT_ID = HRSC
INSTRUMENT_NAME = "HIGH RESOLUTION STEREO CAMERA"
MISSION_NAME = "MARS EXPRESS"
MISSION_PHASE_NAME = ME_Phase_21
PROCESSING_LEVEL_ID = 3
PRODUCT_CREATION_TIME = 2016-10-25T23:07:55.000Z
PRODUCT_ID = "H8631_0000_GR3.JP2"
RELEASE_ID = 0092
REVISION_ID = 0000
/* QUALITY DATA ELEMENTS */
DATA_QUALITY_ID = 1
DATA_QUALITY_DESC = "Data calculated based on original SPICE kernels"
/* TIME DATA ELEMENTS */
SPACECRAFT_CLOCK_START_COUNT = "1/0234021574.09064"
SPACECRAFT_CLOCK_STOP_COUNT = "1/0234021760.09742"
START_TIME = 2010-10-01T14:00:15.905Z
STOP_TIME = 2010-10-01T14:02:03.858Z
/* ORBITAL DATA ELEMENTS */
ASCENDING_NODE_LONGITUDE = 52.45
MAXIMUM_RESOLUTION = 61.1
FOOTPRINT_POINT_LATITUDE = (-55.5547,-55.5454,-55.5319,-55.5209, -55.5058,-55.4921,-55.4947,-55.3631, -55.2311,-55.0332,-54.7715,-54.5747, -54.4356,-54.3046,-54.1736,-54.0427, -53.9118,-53.7811,-53.6504,-53.3893, -53.1284,-52.933,-52.6726,-52.4777, -52.2829,-52.0883,-51.8291,-51.6978, -51.5649,-51.4321,-51.2995,-51.1668, -51.0341,-50.9018,-50.7033,-50.5679, -50.4324,-50.297,-50.1616,-50.0264, -49.8913,-49.6886,-49.5516,-49.4133, -49.2751,-49.137,-48.9992,-48.7925, -48.7885,-48.8,-48.8097,-48.8214, -48.8292,-48.8354,-48.8398,-48.9815, -49.1198,-49.2583,-49.3968,-49.5354, -49.7428,-49.8782,-50.0137,-50.1491, -50.2848,-50.4205,-50.6244,-50.7603, -50.8927,-51.0253,-51.1584,-51.2915, -51.4244,-51.6242,-51.7575,-51.8893, -52.0844,-52.3446,-52.6702,-52.9311, -53.0617,-53.1924,-53.3231,-53.5195, -53.6503,-53.7814,-53.9125,-54.0437, -54.1749,-54.3063,-54.4377,-54.5692, -54.7088,-54.8404,-54.9722,-55.104, -55.2359,-55.3678,-55.4998,-55.5547)
FOOTPRINT_POINT_LONGITUDE = (320.623,320.308,319.889,319.575, 319.177,318.842,318.575,318.59,318.607, 318.631,318.656,318.677,318.692,318.706 ,318.719,318.732,318.746,318.759, 318.771,318.796,318.821,318.839,318.863 ,318.879,318.896,318.912,318.934, 318.944,318.955,318.965,318.975,318.985 ,318.996,319.005,319.02,319.03,319.039, 319.048,319.058,319.066,319.075,319.088 ,319.097,319.105,319.114,319.123,319.13 ,319.142,319.38,319.729,320.055,320.49, 320.816,321.099,321.338,321.467,321.458 ,321.449,321.44,321.431,321.417,321.408 ,321.398,321.388,321.378,321.368, 321.353,321.343,321.332,321.322,321.313 ,321.303,321.292,321.277,321.267, 321.256,321.241,321.22,321.193,321.171, 321.159,321.148,321.137,321.12,321.108, 321.096,321.085,321.073,321.06,321.048, 321.036,321.024,321.01,320.998,320.985, 320.972,320.959,320.946,320.933, 320.623)
ORBIT_NUMBER = 8631
ORBITAL_ECCENTRICITY = 0.578
ORBITAL_INCLINATION = 86.84
ORBITAL_SEMIMAJOR_AXIS = 8766.72
PERIAPSIS_ALTITUDE = 320.52
PERIAPSIS_ARGUMENT_ANGLE = 287.19
PERIAPSIS_TIME = 2010-10-01T13:55:49.000Z
SPACECRAFT_ORIENTATION = (0.0,1.0,0.0)
^MEX_ORIENTATION_DESC = "MEX_ORIENTATION_DESC.TXT"
SPACECRAFT_POINTING_MODE = NADIR
^MEX_POINTING_DESC = "MEX_POINTING_DESC.TXT"
RIGHT_ASCENSION = -1e+32
DECLINATION = -1e+32
OFFSET_ANGLE = -1e+32
SPACECRAFT_SOLAR_DISTANCE = 2.27436e+08
TARGET_NAME = MARS
/* CAMERA DATA ELEMENTS */
DETECTOR_TEMPERATURE = 18.1666
FOCAL_PLANE_TEMPERATURE = 7.9716
INST_CMPRS_NAME = "DISCRETE COSINE TRANSFORMATION (DCT)"
INST_CMPRS_RATIO = 11.7304
INST_CMPRS_QUALITY = 0
INST_CMPRS_QUANTZ_TBL_ID = 0
INSTRUMENT_TEMPERATURE = 11.0301
LENS_TEMPERATURE = 7.156
MACROPIXEL_SIZE = 4
MISSING_FRAMES = 1
PIXEL_SUBSAMPLING_FLAG = N
SIGNAL_CHAIN_ID = 2
/* RADIOMETRIC DATA ELEMENTS */
BANDWIDTH = 88.0
CENTER_FILTER_WAVELENGTH = 538.0
RADIANCE_OFFSET = 1.42559
RADIANCE_SCALING_FACTOR = 0.00562425
REFLECTANCE_SCALING_FACTOR = 0.000250478
MEX:REFLECTANCE_OFFSET = 0.0634895
/* IMAGE OBJECT DEFINITIONS */
OBJECT = IMAGE
  INTERCHANGE_FORMAT = BINARY
  LINES = 8068
  LINE_SAMPLES = 2122
  SAMPLE_TYPE = UNSIGNED_INTEGER
  SAMPLE_BITS = 8
  BANDS = 1
  BAND_STORAGE_TYPE = BAND_SEQUENTIAL
  MAXIMUM = 255
  MEAN = 216.73
  MINIMUM = 1
  STANDARD_DEVIATION = 44.9842
END_OBJECT = IMAGE
/* MAP OBJECT DEFINITIONS */
OBJECT = IMAGE_MAP_PROJECTION
  ^DATA_SET_MAP_PROJECTION_CATALOG= "DSMAP.CAT"
  A_AXIS_RADIUS = 3396.0
  B_AXIS_RADIUS = 3396.0
  C_AXIS_RADIUS = 3396.0
  CENTER_LATITUDE = 0.0
  CENTER_LONGITUDE = 320.0
  COORDINATE_SYSTEM_NAME = PLANETOGRAPHIC
  COORDINATE_SYSTEM_TYPE = "BODY-FIXED ROTATING"
  EASTERNMOST_LONGITUDE = 321.467
  FIRST_STANDARD_PARALLEL = "N/A"
  LINE_FIRST_PIXEL = 1
  LINE_LAST_PIXEL = 8068
  LINE_PROJECTION_OFFSET = -57824.375
  MAP_PROJECTION_ROTATION = 0.0
  MAP_PROJECTION_TYPE = SINUSOIDAL
  MAP_RESOLUTION = 1185.42760773333
  MAP_SCALE = 0.05
  MAXIMUM_LATITUDE = -48.7885
  MINIMUM_LATITUDE = -55.5547
  POSITIVE_LONGITUDE_DIRECTION = EAST
  REFERENCE_LATITUDE = "N/A"
  REFERENCE_LONGITUDE = "N/A"
  SAMPLE_FIRST_PIXEL = 1
  SAMPLE_LAST_PIXEL = 2122
  SAMPLE_PROJECTION_OFFSET = 971.875
  SECOND_STANDARD_PARALLEL = "N/A"
  WESTERNMOST_LONGITUDE = 318.575
END_OBJECT = IMAGE_MAP_PROJECTION
/* The JPEG2000 image data file associated with this label. */
OBJECT = COMPRESSED_FILE
  FILE_NAME = "H8631_0000_GR3.JP2"
  RECORD_TYPE = UNDEFINED
  FILE_RECORDS = UNK
  ENCODING_TYPE = "JP2"
  INTERCHANGE_FORMAT = BINARY
  UNCOMPRESSED_FILE_NAME = "H8631_0000_GR3.IMG"
  REQUIRED_STORAGE_BYTES = "17141516"
  ^DESCRIPTION = "JP2INFO.TXT"
END_OBJECT = COMPRESSED_FILE
END
