PDS_VERSION_ID = PDS3
/* FILE DATA ELEMENTS */
RECORD_TYPE = STREAM
/* POINTERS TO DATA OBJECTS */
^COMPRESSED_FILE = "H8635_0000_S13.JP2"
/* IDENTIFICATION DATA ELEMENTS */
DATA_SET_ID = "MEX-M-HRSC-5-REFDR-MAPPROJECTED-V3.0"
DATA_SET_NAME = "MARS EXPRESS HRSC MAP PROJECTED REFDR V3.0"
DETECTOR_ID = MEX_HRSC_S1
EVENT_TYPE = "MARS-REGIONAL-MAPPING-Im-Fl"
INSTRUMENT_HOST_ID = MEX
INSTRUMENT_HOST_NAME = "MARS EXPRESS"
INSTRUMENT_ID = HRSC
INSTRUMENT_NAME = "HIGH RESOLUTION STEREO CAMERA"
MISSION_NAME = "MARS EXPRESS"
MISSION_PHASE_NAME = ME_Phase_21
PROCESSING_LEVEL_ID = 3
PRODUCT_CREATION_TIME = 2016-10-25T23:07:55.000Z
PRODUCT_ID = "H8635_0000_S13.JP2"
RELEASE_ID = 0092
REVISION_ID = 0000
/* QUALITY DATA ELEMENTS */
DATA_QUALITY_ID = 1
DATA_QUALITY_DESC = "Data calculated based on original SPICE kernels"
/* TIME DATA ELEMENTS */
SPACECRAFT_CLOCK_START_COUNT = "1/0234122288.08271"
SPACECRAFT_CLOCK_STOP_COUNT = "1/0234122530.24258"
START_TIME = 2010-10-02T17:59:20.511Z
STOP_TIME = 2010-10-02T18:02:11.028Z
/* ORBITAL DATA ELEMENTS */
ASCENDING_NODE_LONGITUDE = 52.37
MAXIMUM_RESOLUTION = 33.3
FOOTPRINT_POINT_LATITUDE = (-56.213,-56.2062,-56.1984,-56.1897, -56.1801,-56.1696,-56.1581,-55.94, -55.7553,-55.5701,-55.3857,-55.2046, -55.021,-54.7463,-54.4702,-54.2789, -54.0927,-53.8133,-53.6274,-53.3445, -53.0596,-52.8695,-52.585,-52.2958, -52.1021,-51.9088,-51.6191,-51.4223, -51.225,-51.028,-50.8315,-50.5338, -50.3334,-50.1335,-49.8338,-49.63, -49.426,-49.2225,-49.0197,-48.8131, -48.5035,-48.2975,-48.0886,-47.8784, -47.6646,-47.4555,-47.2425,-47.0254, -46.8126,-46.596,-46.3796,-46.3819, -46.3907,-46.397,-46.3999,-46.4037, -46.4056,-46.6224,-46.8388,-47.0518, -47.2658,-47.5863,-47.7969,-48.0075, -48.3232,-48.6341,-48.8413,-49.1516, -49.3552,-49.5596,-49.7636,-50.0669, -50.2679,-50.4685,-50.7695,-50.9664, -51.1637,-51.3616,-51.6571,-51.8516, -52.1424,-52.3361,-52.6263,-52.9127, -53.1041,-53.3905,-53.5809,-53.7668, -53.952,-54.1385,-54.3277,-54.5162, -54.7013,-54.9798,-55.2554,-55.438, -55.6232,-55.8082,-55.9938,-56.213)
FOOTPRINT_POINT_LONGITUDE = (270.876,270.507,270.136,269.763, 269.389,269.013,268.634,268.426,268.452 ,268.479,268.505,268.527,268.551, 268.587,268.621,268.648,268.67,268.703, 268.724,268.755,268.786,268.806,268.836 ,268.866,268.885,268.904,268.931,268.95 ,268.968,268.986,269.003,269.029, 269.046,269.062,269.086,269.101,269.117 ,269.133,269.147,269.161,269.183, 269.196,269.21,269.223,269.24,269.252, 269.264,269.28,269.292,269.304,269.316, 269.916,270.437,270.834,271.106,271.5, 271.877,271.861,271.844,271.827,271.811 ,271.785,271.768,271.751,271.725, 271.699,271.681,271.655,271.637,271.619 ,271.6,271.573,271.554,271.535,271.507, 271.488,271.469,271.449,271.419,271.4, 271.37,271.35,271.319,271.288,271.267, 271.235,271.214,271.193,271.171,271.149 ,271.127,271.104,271.082,271.049, 271.014,270.991,270.967,270.943,270.919 ,270.876)
ORBIT_NUMBER = 8635
ORBITAL_ECCENTRICITY = 0.578
ORBITAL_INCLINATION = 86.83
ORBITAL_SEMIMAJOR_AXIS = 8767.25
PERIAPSIS_ALTITUDE = 320.34
PERIAPSIS_ARGUMENT_ANGLE = 286.5
PERIAPSIS_TIME = 2010-10-02T17:54:24.000Z
SPACECRAFT_ORIENTATION = (0.0,1.0,0.0)
^MEX_ORIENTATION_DESC = "MEX_ORIENTATION_DESC.TXT"
SPACECRAFT_POINTING_MODE = ACROSSTRACK
^MEX_POINTING_DESC = "MEX_POINTING_DESC.TXT"
RIGHT_ASCENSION = -1e+32
DECLINATION = -1e+32
OFFSET_ANGLE = 0.458
SPACECRAFT_SOLAR_DISTANCE = 2.27209e+08
TARGET_NAME = MARS
/* CAMERA DATA ELEMENTS */
DETECTOR_TEMPERATURE = 17.1471
FOCAL_PLANE_TEMPERATURE = 7.5638
INST_CMPRS_NAME = "DISCRETE COSINE TRANSFORMATION (DCT)"
INST_CMPRS_RATIO = 11.9518
INST_CMPRS_QUALITY = 0
INST_CMPRS_QUANTZ_TBL_ID = 0
INSTRUMENT_TEMPERATURE = 11.0301
LENS_TEMPERATURE = 7.7677
MACROPIXEL_SIZE = 2
MISSING_FRAMES = 0
PIXEL_SUBSAMPLING_FLAG = N
SIGNAL_CHAIN_ID = 1
/* RADIOMETRIC DATA ELEMENTS */
BANDWIDTH = 180.0
CENTER_FILTER_WAVELENGTH = 677.0
RADIANCE_OFFSET = 3.04018
RADIANCE_SCALING_FACTOR = 0.0136255
REFLECTANCE_SCALING_FACTOR = 0.000366981
MEX:REFLECTANCE_OFFSET = 0.0818826
/* IMAGE OBJECT DEFINITIONS */
OBJECT = IMAGE
  INTERCHANGE_FORMAT = BINARY
  LINES = 23573
  LINE_SAMPLES = 5004
  SAMPLE_TYPE = UNSIGNED_INTEGER
  SAMPLE_BITS = 8
  BANDS = 1
  BAND_STORAGE_TYPE = BAND_SEQUENTIAL
  MAXIMUM = 255
  MEAN = 135.745
  MINIMUM = 1
  STANDARD_DEVIATION = 52.3531
END_OBJECT = IMAGE
/* MAP OBJECT DEFINITIONS */
OBJECT = IMAGE_MAP_PROJECTION
  ^DATA_SET_MAP_PROJECTION_CATALOG= "DSMAP.CAT"
  A_AXIS_RADIUS = 3396.0
  B_AXIS_RADIUS = 3396.0
  C_AXIS_RADIUS = 3396.0
  CENTER_LATITUDE = 0.0
  CENTER_LONGITUDE = 270.0
  COORDINATE_SYSTEM_NAME = PLANETOGRAPHIC
  COORDINATE_SYSTEM_TYPE = "BODY-FIXED ROTATING"
  EASTERNMOST_LONGITUDE = 271.877
  FIRST_STANDARD_PARALLEL = "N/A"
  LINE_FIRST_PIXEL = 1
  LINE_LAST_PIXEL = 23573
  LINE_PROJECTION_OFFSET = -109961.75
  MAP_PROJECTION_ROTATION = 0.0
  MAP_PROJECTION_TYPE = SINUSOIDAL
  MAP_RESOLUTION = 2370.85521546667
  MAP_SCALE = 0.025
  MAXIMUM_LATITUDE = -46.3796
  MINIMUM_LATITUDE = -56.213
  POSITIVE_LONGITUDE_DIRECTION = EAST
  REFERENCE_LATITUDE = "N/A"
  REFERENCE_LONGITUDE = "N/A"
  SAMPLE_FIRST_PIXEL = 1
  SAMPLE_LAST_PIXEL = 5004
  SAMPLE_PROJECTION_OFFSET = 2096.25
  SECOND_STANDARD_PARALLEL = "N/A"
  WESTERNMOST_LONGITUDE = 268.426
END_OBJECT = IMAGE_MAP_PROJECTION
/* The JPEG2000 image data file associated with this label. */
OBJECT = COMPRESSED_FILE
  FILE_NAME = "H8635_0000_S13.JP2"
  RECORD_TYPE = UNDEFINED
  FILE_RECORDS = UNK
  ENCODING_TYPE = "JP2"
  INTERCHANGE_FORMAT = BINARY
  UNCOMPRESSED_FILE_NAME = "H8635_0000_S13.IMG"
  REQUIRED_STORAGE_BYTES = "117984312"
  ^DESCRIPTION = "JP2INFO.TXT"
END_OBJECT = COMPRESSED_FILE
END
