PDS_VERSION_ID = PDS3
/* FILE DATA ELEMENTS */
RECORD_TYPE = STREAM
/* POINTERS TO DATA OBJECTS */
^COMPRESSED_FILE = "H8642_0000_ND3.JP2"
/* IDENTIFICATION DATA ELEMENTS */
DATA_SET_ID = "MEX-M-HRSC-5-REFDR-MAPPROJECTED-V3.0"
DATA_SET_NAME = "MARS EXPRESS HRSC MAP PROJECTED REFDR V3.0"
DETECTOR_ID = MEX_HRSC_NADIR
EVENT_TYPE = "MARS-REGIONAL-MAPPING-Te-Fl"
INSTRUMENT_HOST_ID = MEX
INSTRUMENT_HOST_NAME = "MARS EXPRESS"
INSTRUMENT_ID = HRSC
INSTRUMENT_NAME = "HIGH RESOLUTION STEREO CAMERA"
MISSION_NAME = "MARS EXPRESS"
MISSION_PHASE_NAME = ME_Phase_21
PROCESSING_LEVEL_ID = 3
PRODUCT_CREATION_TIME = 2016-10-25T23:07:55.000Z
PRODUCT_ID = "H8642_0000_ND3.JP2"
RELEASE_ID = 0092
REVISION_ID = 0000
/* QUALITY DATA ELEMENTS */
DATA_QUALITY_ID = 1
DATA_QUALITY_DESC = "Data calculated based on original SPICE kernels"
/* TIME DATA ELEMENTS */
SPACECRAFT_CLOCK_START_COUNT = "1/0234298739.08381"
SPACECRAFT_CLOCK_STOP_COUNT = "1/0234298996.47683"
START_TIME = 2010-10-04T18:59:47.874Z
STOP_TIME = 2010-10-04T19:02:02.860Z
/* ORBITAL DATA ELEMENTS */
ASCENDING_NODE_LONGITUDE = 52.24
MAXIMUM_RESOLUTION = 20.2
FOOTPRINT_POINT_LATITUDE = (-44.2266,-44.2187,-44.2122,-44.2023, -44.1957,-44.1892,-44.1829,-43.9615, -43.6731,-43.4557,-43.1623,-42.8695, -42.4981,-42.2007,-41.975,-41.8239, -41.6729,-41.5221,-41.2926,-41.1393, -40.9862,-40.8332,-40.6777,-40.5221, -40.3668,-40.2116,-39.9751,-39.8174, -39.6599,-39.5009,-39.3409,-39.1811, -39.0215,-38.7787,-38.6167,-38.455, -38.2094,-38.0453,-37.8814,-37.6327, -37.4665,-37.3006,-37.1323,-36.8798, -36.7118,-36.5412,-36.3709,-36.3717, -36.3757,-36.3789,-36.3823,-36.3843, -36.3861,-36.3876,-36.389,-36.3901, -36.3905,-36.3904,-36.5614,-36.8171, -36.9859,-37.1549,-37.3239,-37.4905, -37.6573,-37.907,-38.0715,-38.2362, -38.4827,-38.6451,-38.8076,-39.0514, -39.2115,-39.3719,-39.5325,-39.6921, -39.8501,-40.0083,-40.2456,-40.4013, -40.5572,-40.7133,-40.8694,-41.0229, -41.1766,-41.3304,-41.5608,-41.7121, -41.8636,-42.0152,-42.2417,-42.3908, -42.54,-42.6894,-42.9128,-43.2065, -43.6468,-43.936,-44.2257,-44.2266)
FOOTPRINT_POINT_LONGITUDE = (276.34,275.789,275.429,274.975,274.711 ,274.472,274.256,274.138,274.146, 274.152,274.159,274.166,274.174,274.18, 274.185,274.188,274.191,274.193,274.198 ,274.201,274.204,274.207,274.209, 274.211,274.212,274.214,274.216,274.217 ,274.218,274.219,274.219,274.22,274.221 ,274.221,274.221,274.221,274.221, 274.221,274.221,274.221,274.22,274.22, 274.22,274.218,274.217,274.217,274.216, 274.454,274.694,274.906,275.172,275.357 ,275.543,275.729,275.968,276.26,276.659 ,276.911,276.905,276.896,276.891, 276.885,276.879,276.874,276.868,276.859 ,276.854,276.848,276.838,276.832, 276.825,276.816,276.81,276.803,276.797, 276.791,276.785,276.779,276.77,276.764, 276.758,276.752,276.746,276.74,276.735, 276.729,276.72,276.714,276.707,276.701, 276.691,276.684,276.678,276.671,276.66, 276.646,276.625,276.611,276.597,276.34)
ORBIT_NUMBER = 8642
ORBITAL_ECCENTRICITY = 0.578
ORBITAL_INCLINATION = 86.83
ORBITAL_SEMIMAJOR_AXIS = 8766.23
PERIAPSIS_ALTITUDE = 320.37
PERIAPSIS_ARGUMENT_ANGLE = 285.32
PERIAPSIS_TIME = 2010-10-04T18:51:53.000Z
SPACECRAFT_ORIENTATION = (0.0,1.0,0.0)
^MEX_ORIENTATION_DESC = "MEX_ORIENTATION_DESC.TXT"
SPACECRAFT_POINTING_MODE = NADIR
^MEX_POINTING_DESC = "MEX_POINTING_DESC.TXT"
RIGHT_ASCENSION = -1e+32
DECLINATION = -1e+32
OFFSET_ANGLE = -1e+32
SPACECRAFT_SOLAR_DISTANCE = 2.26811e+08
TARGET_NAME = MARS
/* CAMERA DATA ELEMENTS */
DETECTOR_TEMPERATURE = 17.9627
FOCAL_PLANE_TEMPERATURE = 7.5638
INST_CMPRS_NAME = "DISCRETE COSINE TRANSFORMATION (DCT)"
INST_CMPRS_RATIO = 6.80225
INST_CMPRS_QUALITY = 0
INST_CMPRS_QUANTZ_TBL_ID = 0
INSTRUMENT_TEMPERATURE = 10.8262
LENS_TEMPERATURE = 8.1755
MACROPIXEL_SIZE = 1
MISSING_FRAMES = 0
PIXEL_SUBSAMPLING_FLAG = N
SIGNAL_CHAIN_ID = 0
/* RADIOMETRIC DATA ELEMENTS */
BANDWIDTH = 177.0
CENTER_FILTER_WAVELENGTH = 677.5
RADIANCE_OFFSET = 2.60289
RADIANCE_SCALING_FACTOR = 0.016935
REFLECTANCE_SCALING_FACTOR = 0.0004628
MEX:REFLECTANCE_OFFSET = 0.0711317
/* IMAGE OBJECT DEFINITIONS */
OBJECT = IMAGE
  INTERCHANGE_FORMAT = BINARY
  LINES = 18638
  LINE_SAMPLES = 5315
  SAMPLE_TYPE = UNSIGNED_INTEGER
  SAMPLE_BITS = 8
  BANDS = 1
  BAND_STORAGE_TYPE = BAND_SEQUENTIAL
  MAXIMUM = 255
  MEAN = 95.9308
  MINIMUM = 1
  STANDARD_DEVIATION = 33.7147
END_OBJECT = IMAGE
/* MAP OBJECT DEFINITIONS */
OBJECT = IMAGE_MAP_PROJECTION
  ^DATA_SET_MAP_PROJECTION_CATALOG= "DSMAP.CAT"
  A_AXIS_RADIUS = 3396.0
  B_AXIS_RADIUS = 3396.0
  C_AXIS_RADIUS = 3396.0
  CENTER_LATITUDE = 0.0
  CENTER_LONGITUDE = 275.0
  COORDINATE_SYSTEM_NAME = PLANETOGRAPHIC
  COORDINATE_SYSTEM_TYPE = "BODY-FIXED ROTATING"
  EASTERNMOST_LONGITUDE = 276.911
  FIRST_STANDARD_PARALLEL = "N/A"
  LINE_FIRST_PIXEL = 1
  LINE_LAST_PIXEL = 18638
  LINE_PROJECTION_OFFSET = -86224.0
  MAP_PROJECTION_ROTATION = 0.0
  MAP_PROJECTION_TYPE = SINUSOIDAL
  MAP_RESOLUTION = 2370.85521546667
  MAP_SCALE = 0.025
  MAXIMUM_LATITUDE = -36.3709
  MINIMUM_LATITUDE = -44.2266
  POSITIVE_LONGITUDE_DIRECTION = EAST
  REFERENCE_LATITUDE = "N/A"
  REFERENCE_LONGITUDE = "N/A"
  SAMPLE_FIRST_PIXEL = 1
  SAMPLE_LAST_PIXEL = 5315
  SAMPLE_PROJECTION_OFFSET = 1586.0
  SECOND_STANDARD_PARALLEL = "N/A"
  WESTERNMOST_LONGITUDE = 274.138
END_OBJECT = IMAGE_MAP_PROJECTION
/* The JPEG2000 image data file associated with this label. */
OBJECT = COMPRESSED_FILE
  FILE_NAME = "H8642_0000_ND3.JP2"
  RECORD_TYPE = UNDEFINED
  FILE_RECORDS = UNK
  ENCODING_TYPE = "JP2"
  INTERCHANGE_FORMAT = BINARY
  UNCOMPRESSED_FILE_NAME = "H8642_0000_ND3.IMG"
  REQUIRED_STORAGE_BYTES = "99087545"
  ^DESCRIPTION = "JP2INFO.TXT"
END_OBJECT = COMPRESSED_FILE
END
