PDS_VERSION_ID = PDS3
/* FILE DATA ELEMENTS */
RECORD_TYPE = STREAM
/* POINTERS TO DATA OBJECTS */
^COMPRESSED_FILE = "H8651_0000_BL3.JP2"
/* IDENTIFICATION DATA ELEMENTS */
DATA_SET_ID = "MEX-M-HRSC-5-REFDR-MAPPROJECTED-V3.0"
DATA_SET_NAME = "MARS EXPRESS HRSC MAP PROJECTED REFDR V3.0"
DETECTOR_ID = MEX_HRSC_BLUE
EVENT_TYPE = "MARS-REGIONAL-MAPPING-Vo-Fl-Gl"
INSTRUMENT_HOST_ID = MEX
INSTRUMENT_HOST_NAME = "MARS EXPRESS"
INSTRUMENT_ID = HRSC
INSTRUMENT_NAME = "HIGH RESOLUTION STEREO CAMERA"
MISSION_NAME = "MARS EXPRESS"
MISSION_PHASE_NAME = ME_Phase_21
PROCESSING_LEVEL_ID = 3
PRODUCT_CREATION_TIME = 2016-10-25T23:07:55.000Z
PRODUCT_ID = "H8651_0000_BL3.JP2"
RELEASE_ID = 0092
REVISION_ID = 0000
/* QUALITY DATA ELEMENTS */
DATA_QUALITY_ID = 1
DATA_QUALITY_DESC = "Data calculated based on original SPICE kernels"
/* TIME DATA ELEMENTS */
SPACECRAFT_CLOCK_START_COUNT = "1/0234525161.07305"
SPACECRAFT_CLOCK_STOP_COUNT = "1/0234525437.62582"
START_TIME = 2010-10-07T09:53:11.836Z
STOP_TIME = 2010-10-07T09:56:16.597Z
/* ORBITAL DATA ELEMENTS */
ASCENDING_NODE_LONGITUDE = 52.06
MAXIMUM_RESOLUTION = 122.2
FOOTPRINT_POINT_LATITUDE = (-57.8524,-57.8269,-57.8065,-57.7798, -57.5304,-57.2031,-56.9853,-56.6587, -56.4411,-56.2237,-56.0065,-55.7894, -55.464,-55.2475,-55.0314,-54.8148, -54.4905,-54.1631,-53.9415,-53.7201, -53.4991,-53.2783,-53.0545,-52.8281, -52.6021,-52.3764,-52.1511,-51.9208, -51.6899,-51.4595,-51.2295,-50.8787, -50.6433,-50.4084,-50.0538,-49.8139, -49.5743,-49.335,-48.9696,-48.7254, -48.4816,-48.11,-47.8613,-47.6131, -47.3609,-47.1076,-46.8545,-46.4684, -46.2106,-46.2167,-46.2301,-46.2418, -46.2494,-46.3879,-46.6462,-46.9029, -47.1564,-47.4104,-47.6637,-47.9127, -48.1622,-48.5354,-48.7801,-49.025, -49.3917,-49.6316,-49.8719,-50.1125, -50.351,-50.5864,-50.8221,-51.0581, -51.2924,-51.5233,-51.7542,-51.9856, -52.2167,-52.4429,-52.6693,-52.8959, -53.1227,-53.3475,-53.6798,-53.9016, -54.1236,-54.4548,-54.6713,-54.8881, -55.1051,-55.3224,-55.6482,-55.8659, -56.0839,-56.3017,-56.5197,-56.7378, -56.9563,-57.1748,-57.5031,-57.8524)
FOOTPRINT_POINT_LONGITUDE = (74.7517,73.9697,73.4344,72.8103, 72.5617,72.6054,72.6343,72.676,72.7027, 72.7292,72.7549,72.7801,72.8167,72.8408 ,72.8651,72.8871,72.9197,72.9516, 72.9725,72.9929,73.0131,73.033,73.0524, 73.0714,73.0902,73.1087,73.1272,73.145, 73.1624,73.1798,73.1972,73.2224,73.2385 ,73.2543,73.2779,73.2932,73.308,73.3225 ,73.3436,73.3574,73.3708,73.3908, 73.4035,73.4158,73.428,73.4396,73.4504, 73.4638,73.4738,74.1064,74.5767,75.0938 ,75.5171,75.9713,75.9574,75.9429, 75.9286,75.9137,75.8987,75.8836,75.8681 ,75.8445,75.8285,75.8125,75.7881,75.772 ,75.7553,75.7382,75.7208,75.7037, 75.6865,75.6687,75.6504,75.6322,75.6142 ,75.5955,75.5765,75.5572,75.5378,75.518 ,75.498,75.4775,75.4468,75.4261,75.4051 ,75.3729,75.352,75.3304,75.3084,75.2857 ,75.2524,75.2289,75.2048,75.1813, 75.1577,75.1335,75.1083,75.0833,75.0442 ,74.7517)
ORBIT_NUMBER = 8651
ORBITAL_ECCENTRICITY = 0.578
ORBITAL_INCLINATION = 86.84
ORBITAL_SEMIMAJOR_AXIS = 8765.91
PERIAPSIS_ALTITUDE = 319.57
PERIAPSIS_ARGUMENT_ANGLE = 283.79
PERIAPSIS_TIME = 2010-10-07T09:48:39.000Z
SPACECRAFT_ORIENTATION = (0.0,1.0,0.0)
^MEX_ORIENTATION_DESC = "MEX_ORIENTATION_DESC.TXT"
SPACECRAFT_POINTING_MODE = NADIR
^MEX_POINTING_DESC = "MEX_POINTING_DESC.TXT"
RIGHT_ASCENSION = -1e+32
DECLINATION = -1e+32
OFFSET_ANGLE = -1e+32
SPACECRAFT_SOLAR_DISTANCE = 2.26298e+08
TARGET_NAME = MARS
/* CAMERA DATA ELEMENTS */
DETECTOR_TEMPERATURE = 18.1666
FOCAL_PLANE_TEMPERATURE = 8.7872
INST_CMPRS_NAME = "DISCRETE COSINE TRANSFORMATION (DCT)"
INST_CMPRS_RATIO = 13.724
INST_CMPRS_QUALITY = 0
INST_CMPRS_QUANTZ_TBL_ID = 0
INSTRUMENT_TEMPERATURE = 11.234
LENS_TEMPERATURE = 7.9716
MACROPIXEL_SIZE = 8
MISSING_FRAMES = 0
PIXEL_SUBSAMPLING_FLAG = N
SIGNAL_CHAIN_ID = 2
/* RADIOMETRIC DATA ELEMENTS */
BANDWIDTH = 76.0
CENTER_FILTER_WAVELENGTH = 444.0
RADIANCE_OFFSET = 0.830285
RADIANCE_SCALING_FACTOR = 0.00308952
REFLECTANCE_SCALING_FACTOR = 0.000162558
MEX:REFLECTANCE_OFFSET = 0.0436862
/* IMAGE OBJECT DEFINITIONS */
OBJECT = IMAGE
  INTERCHANGE_FORMAT = BINARY
  LINES = 6899
  LINE_SAMPLES = 1291
  SAMPLE_TYPE = UNSIGNED_INTEGER
  SAMPLE_BITS = 8
  BANDS = 1
  BAND_STORAGE_TYPE = BAND_SEQUENTIAL
  MAXIMUM = 255
  MEAN = 84.9454
  MINIMUM = 1
  STANDARD_DEVIATION = 31.7532
END_OBJECT = IMAGE
/* MAP OBJECT DEFINITIONS */
OBJECT = IMAGE_MAP_PROJECTION
  ^DATA_SET_MAP_PROJECTION_CATALOG= "DSMAP.CAT"
  A_AXIS_RADIUS = 3396.0
  B_AXIS_RADIUS = 3396.0
  C_AXIS_RADIUS = 3396.0
  CENTER_LATITUDE = 0.0
  CENTER_LONGITUDE = 74.0
  COORDINATE_SYSTEM_NAME = PLANETOGRAPHIC
  COORDINATE_SYSTEM_TYPE = "BODY-FIXED ROTATING"
  EASTERNMOST_LONGITUDE = 75.9713
  FIRST_STANDARD_PARALLEL = "N/A"
  LINE_FIRST_PIXEL = 1
  LINE_LAST_PIXEL = 6899
  LINE_PROJECTION_OFFSET = -27387.5625
  MAP_PROJECTION_ROTATION = 0.0
  MAP_PROJECTION_TYPE = SINUSOIDAL
  MAP_RESOLUTION = 592.713803866667
  MAP_SCALE = 0.1
  MAXIMUM_LATITUDE = -46.2106
  MINIMUM_LATITUDE = -57.8524
  POSITIVE_LONGITUDE_DIRECTION = EAST
  REFERENCE_LATITUDE = "N/A"
  REFERENCE_LONGITUDE = "N/A"
  SAMPLE_FIRST_PIXEL = 1
  SAMPLE_LAST_PIXEL = 1291
  SAMPLE_PROJECTION_OFFSET = 476.0625
  SECOND_STANDARD_PARALLEL = "N/A"
  WESTERNMOST_LONGITUDE = 72.5617
END_OBJECT = IMAGE_MAP_PROJECTION
/* The JPEG2000 image data file associated with this label. */
OBJECT = COMPRESSED_FILE
  FILE_NAME = "H8651_0000_BL3.JP2"
  RECORD_TYPE = UNDEFINED
  FILE_RECORDS = UNK
  ENCODING_TYPE = "JP2"
  INTERCHANGE_FORMAT = BINARY
  UNCOMPRESSED_FILE_NAME = "H8651_0000_BL3.IMG"
  REQUIRED_STORAGE_BYTES = "8925974"
  ^DESCRIPTION = "JP2INFO.TXT"
END_OBJECT = COMPRESSED_FILE
END
