PDS_VERSION_ID = PDS3
/* FILE DATA ELEMENTS */
RECORD_TYPE = STREAM
/* POINTERS TO DATA OBJECTS */
^COMPRESSED_FILE = "H8651_0000_GR3.JP2"
/* IDENTIFICATION DATA ELEMENTS */
DATA_SET_ID = "MEX-M-HRSC-5-REFDR-MAPPROJECTED-V3.0"
DATA_SET_NAME = "MARS EXPRESS HRSC MAP PROJECTED REFDR V3.0"
DETECTOR_ID = MEX_HRSC_GREEN
EVENT_TYPE = "MARS-REGIONAL-MAPPING-Vo-Fl-Gl"
INSTRUMENT_HOST_ID = MEX
INSTRUMENT_HOST_NAME = "MARS EXPRESS"
INSTRUMENT_ID = HRSC
INSTRUMENT_NAME = "HIGH RESOLUTION STEREO CAMERA"
MISSION_NAME = "MARS EXPRESS"
MISSION_PHASE_NAME = ME_Phase_21
PROCESSING_LEVEL_ID = 3
PRODUCT_CREATION_TIME = 2016-10-25T23:07:55.000Z
PRODUCT_ID = "H8651_0000_GR3.JP2"
RELEASE_ID = 0092
REVISION_ID = 0000
/* QUALITY DATA ELEMENTS */
DATA_QUALITY_ID = 1
DATA_QUALITY_DESC = "Data calculated based on original SPICE kernels"
/* TIME DATA ELEMENTS */
SPACECRAFT_CLOCK_START_COUNT = "1/0234525161.07305"
SPACECRAFT_CLOCK_STOP_COUNT = "1/0234525437.62582"
START_TIME = 2010-10-07T09:53:23.961Z
STOP_TIME = 2010-10-07T09:56:33.204Z
/* ORBITAL DATA ELEMENTS */
ASCENDING_NODE_LONGITUDE = 52.06
MAXIMUM_RESOLUTION = 124.1
FOOTPRINT_POINT_LATITUDE = (-57.7865,-57.7607,-57.737,-57.5229, -57.3089,-57.095,-56.8815,-56.6681, -56.455,-56.242,-56.0293,-55.6046, -55.1805,-54.8566,-54.6398,-54.315, -54.0986,-53.8793,-53.6578,-53.4366, -53.2156,-52.995,-52.7693,-52.5435, -52.318,-52.0925,-51.8641,-51.6338, -51.4038,-51.1739,-50.9413,-50.7066, -50.4723,-50.2383,-49.8806,-49.6419, -49.4035,-49.0397,-48.7968,-48.5543, -48.3074,-48.06,-47.8131,-47.563, -47.3115,-47.0604,-46.8067,-46.5516, -46.2971,-46.2212,-46.232,-46.2404, -46.2534,-46.3943,-46.7787,-47.0352, -47.287,-47.5391,-47.7917,-48.0393, -48.287,-48.6579,-48.9012,-49.1451, -49.5091,-49.7483,-49.9879,-50.3456, -50.5804,-50.8157,-51.1684,-51.3987, -51.6293,-51.8603,-52.0914,-52.3172, -52.5433,-52.7696,-53.1084,-53.3298, -53.5514,-53.8843,-54.1063,-54.3232, -54.649,-54.9754,-55.1929,-55.4053, -55.6181,-55.8309,-56.0438,-56.2571, -56.4707,-56.6845,-56.8984,-57.1127, -57.327,-57.5415,-57.7565,-57.7865)
FOOTPRINT_POINT_LONGITUDE = (73.9998,73.3203,72.5117,72.5409, 72.5695,72.598,72.6254,72.6523,72.6782, 72.7041,72.7291,72.7773,72.8244,72.8588 ,72.8802,72.9117,72.9328,72.9527,72.973 ,72.9929,73.0123,73.031,73.0496,73.068, 73.0862,73.1045,73.1215,73.1386,73.1557 ,73.1727,73.1891,73.2051,73.2206,73.236 ,73.2589,73.2734,73.2876,73.3087,73.322 ,73.3346,73.3483,73.3609,73.3731, 73.3854,73.3969,73.4081,73.4182,73.4271 ,73.4354,73.8948,74.2812,74.6919, 75.2952,76.0036,75.982,75.9671,75.9523, 75.9368,75.9216,75.9061,75.8899,75.8659 ,75.8494,75.8334,75.8084,75.7918, 75.7749,75.7484,75.7311,75.7136,75.6864 ,75.6682,75.6496,75.6311,75.6121, 75.5929,75.5733,75.5535,75.5232,75.5029 ,75.4823,75.4507,75.4295,75.4083, 75.3764,75.3434,75.3206,75.2983,75.2766 ,75.2537,75.2302,75.2066,75.1833, 75.1594,75.1347,75.11,75.0845,75.0587, 75.033,73.9998)
ORBIT_NUMBER = 8651
ORBITAL_ECCENTRICITY = 0.578
ORBITAL_INCLINATION = 86.84
ORBITAL_SEMIMAJOR_AXIS = 8765.91
PERIAPSIS_ALTITUDE = 319.57
PERIAPSIS_ARGUMENT_ANGLE = 283.79
PERIAPSIS_TIME = 2010-10-07T09:48:39.000Z
SPACECRAFT_ORIENTATION = (0.0,1.0,0.0)
^MEX_ORIENTATION_DESC = "MEX_ORIENTATION_DESC.TXT"
SPACECRAFT_POINTING_MODE = NADIR
^MEX_POINTING_DESC = "MEX_POINTING_DESC.TXT"
RIGHT_ASCENSION = -1e+32
DECLINATION = -1e+32
OFFSET_ANGLE = -1e+32
SPACECRAFT_SOLAR_DISTANCE = 2.26298e+08
TARGET_NAME = MARS
/* CAMERA DATA ELEMENTS */
DETECTOR_TEMPERATURE = 18.1666
FOCAL_PLANE_TEMPERATURE = 8.7872
INST_CMPRS_NAME = "DISCRETE COSINE TRANSFORMATION (DCT)"
INST_CMPRS_RATIO = 16.082
INST_CMPRS_QUALITY = 0
INST_CMPRS_QUANTZ_TBL_ID = 0
INSTRUMENT_TEMPERATURE = 11.234
LENS_TEMPERATURE = 7.9716
MACROPIXEL_SIZE = 8
MISSING_FRAMES = 0
PIXEL_SUBSAMPLING_FLAG = N
SIGNAL_CHAIN_ID = 2
/* RADIOMETRIC DATA ELEMENTS */
BANDWIDTH = 88.0
CENTER_FILTER_WAVELENGTH = 538.0
RADIANCE_OFFSET = 1.72004
RADIANCE_SCALING_FACTOR = 0.00449684
REFLECTANCE_SCALING_FACTOR = 0.00019827
MEX:REFLECTANCE_OFFSET = 0.0758383
/* IMAGE OBJECT DEFINITIONS */
OBJECT = IMAGE
  INTERCHANGE_FORMAT = BINARY
  LINES = 6899
  LINE_SAMPLES = 1291
  SAMPLE_TYPE = UNSIGNED_INTEGER
  SAMPLE_BITS = 8
  BANDS = 1
  BAND_STORAGE_TYPE = BAND_SEQUENTIAL
  MAXIMUM = 255
  MEAN = 128.203
  MINIMUM = 1
  STANDARD_DEVIATION = 36.9164
END_OBJECT = IMAGE
/* MAP OBJECT DEFINITIONS */
OBJECT = IMAGE_MAP_PROJECTION
  ^DATA_SET_MAP_PROJECTION_CATALOG= "DSMAP.CAT"
  A_AXIS_RADIUS = 3396.0
  B_AXIS_RADIUS = 3396.0
  C_AXIS_RADIUS = 3396.0
  CENTER_LATITUDE = 0.0
  CENTER_LONGITUDE = 74.0
  COORDINATE_SYSTEM_NAME = PLANETOGRAPHIC
  COORDINATE_SYSTEM_TYPE = "BODY-FIXED ROTATING"
  EASTERNMOST_LONGITUDE = 76.00360000000001
  FIRST_STANDARD_PARALLEL = "N/A"
  LINE_FIRST_PIXEL = 1
  LINE_LAST_PIXEL = 6899
  LINE_PROJECTION_OFFSET = -27387.5625
  MAP_PROJECTION_ROTATION = 0.0
  MAP_PROJECTION_TYPE = SINUSOIDAL
  MAP_RESOLUTION = 592.713803866667
  MAP_SCALE = 0.1
  MAXIMUM_LATITUDE = -46.2212
  MINIMUM_LATITUDE = -57.7865
  POSITIVE_LONGITUDE_DIRECTION = EAST
  REFERENCE_LATITUDE = "N/A"
  REFERENCE_LONGITUDE = "N/A"
  SAMPLE_FIRST_PIXEL = 1
  SAMPLE_LAST_PIXEL = 1291
  SAMPLE_PROJECTION_OFFSET = 476.0625
  SECOND_STANDARD_PARALLEL = "N/A"
  WESTERNMOST_LONGITUDE = 72.5117
END_OBJECT = IMAGE_MAP_PROJECTION
/* The JPEG2000 image data file associated with this label. */
OBJECT = COMPRESSED_FILE
  FILE_NAME = "H8651_0000_GR3.JP2"
  RECORD_TYPE = UNDEFINED
  FILE_RECORDS = UNK
  ENCODING_TYPE = "JP2"
  INTERCHANGE_FORMAT = BINARY
  UNCOMPRESSED_FILE_NAME = "H8651_0000_GR3.IMG"
  REQUIRED_STORAGE_BYTES = "8925974"
  ^DESCRIPTION = "JP2INFO.TXT"
END_OBJECT = COMPRESSED_FILE
END
