PDS_VERSION_ID = PDS3
/* FILE DATA ELEMENTS */
RECORD_TYPE = STREAM
/* POINTERS TO DATA OBJECTS */
^COMPRESSED_FILE = "H8651_0000_IR3.JP2"
/* IDENTIFICATION DATA ELEMENTS */
DATA_SET_ID = "MEX-M-HRSC-5-REFDR-MAPPROJECTED-V3.0"
DATA_SET_NAME = "MARS EXPRESS HRSC MAP PROJECTED REFDR V3.0"
DETECTOR_ID = MEX_HRSC_IR
EVENT_TYPE = "MARS-REGIONAL-MAPPING-Vo-Fl-Gl"
INSTRUMENT_HOST_ID = MEX
INSTRUMENT_HOST_NAME = "MARS EXPRESS"
INSTRUMENT_ID = HRSC
INSTRUMENT_NAME = "HIGH RESOLUTION STEREO CAMERA"
MISSION_NAME = "MARS EXPRESS"
MISSION_PHASE_NAME = ME_Phase_21
PROCESSING_LEVEL_ID = 3
PRODUCT_CREATION_TIME = 2016-10-25T23:07:55.000Z
PRODUCT_ID = "H8651_0000_IR3.JP2"
RELEASE_ID = 0092
REVISION_ID = 0000
/* QUALITY DATA ELEMENTS */
DATA_QUALITY_ID = 1
DATA_QUALITY_DESC = "Data calculated based on original SPICE kernels"
/* TIME DATA ELEMENTS */
SPACECRAFT_CLOCK_START_COUNT = "1/0234525161.07305"
SPACECRAFT_CLOCK_STOP_COUNT = "1/0234525437.62582"
START_TIME = 2010-10-07T09:53:48.463Z
STOP_TIME = 2010-10-07T09:57:08.652Z
/* ORBITAL DATA ELEMENTS */
ASCENDING_NODE_LONGITUDE = 52.06
MAXIMUM_RESOLUTION = 134
FOOTPRINT_POINT_LATITUDE = (-57.7629,-57.7459,-57.7314,-57.7051, -57.638,-57.4298,-57.221,-56.9088, -56.7007,-56.489,-56.276,-56.0637, -55.8517,-55.6407,-55.4241,-55.2067, -54.8827,-54.6673,-54.3391,-54.1194, -53.9006,-53.5687,-53.3448,-53.1212, -52.8987,-52.5588,-52.3311,-51.9899, -51.7588,-51.5269,-51.2949,-50.9432, -50.7073,-50.4722,-50.1139,-49.8741, -49.6351,-49.3913,-49.1479,-48.7814, -48.4102,-48.1628,-47.9116,-47.6611, -47.4081,-47.1541,-46.901,-46.6452, -46.3926,-46.2479,-46.2564,-46.2646, -46.2762,-46.282,-46.2892,-46.5484, -46.8074,-47.0644,-47.3192,-47.7006, -47.9518,-48.2034,-48.452,-48.6994, -48.9471,-49.1918,-49.4358,-49.8009, -50.041,-50.2806,-50.5201,-50.875, -51.1116,-51.3459,-51.5779,-51.8108, -52.1582,-52.3856,-52.614,-52.9557, -53.1793,-53.403,-53.6274,-53.8508, -54.0708,-54.291,-54.5117,-54.7333, -55.0569,-55.2724,-55.4893,-55.8138, -56.0258,-56.2374,-56.558,-56.7718, -57.0843,-57.2929,-57.5017,-57.7629)
FOOTPRINT_POINT_LONGITUDE = (75.0348,74.4452,73.9974,73.2678, 72.4812,72.5086,72.5361,72.5759,72.602, 72.6271,72.6527,72.6773,72.7014,72.7245 ,72.7481,72.7718,72.8053,72.8268, 72.8575,72.8781,72.8977,72.9272,72.9465 ,72.9654,72.9834,73.0103,73.028,73.054, 73.0705,73.0872,73.1038,73.1278,73.1434 ,73.1584,73.1807,73.1953,73.2092, 73.2229,73.2364,73.2556,73.2746,73.2865 ,73.2984,73.3097,73.321,73.3314,73.3412 ,73.35,73.3566,73.6413,74.0021,74.6456, 75.1341,75.6735,76.102,76.0866,76.0707, 76.0547,76.0385,76.0138,75.9972,75.9802 ,75.9633,75.946,75.9284,75.9114,75.8938 ,75.8671,75.8492,75.8304,75.812,75.7844 ,75.7653,75.7459,75.7266,75.7072, 75.6775,75.6571,75.6367,75.6055,75.5845 ,75.563,75.5414,75.5195,75.4979,75.4759 ,75.4536,75.4313,75.3973,75.3737, 75.3505,75.3156,75.2919,75.2675,75.2315 ,75.2068,75.1699,75.1447,75.119, 75.0348)
ORBIT_NUMBER = 8651
ORBITAL_ECCENTRICITY = 0.578
ORBITAL_INCLINATION = 86.84
ORBITAL_SEMIMAJOR_AXIS = 8765.91
PERIAPSIS_ALTITUDE = 319.57
PERIAPSIS_ARGUMENT_ANGLE = 283.79
PERIAPSIS_TIME = 2010-10-07T09:48:39.000Z
SPACECRAFT_ORIENTATION = (0.0,1.0,0.0)
^MEX_ORIENTATION_DESC = "MEX_ORIENTATION_DESC.TXT"
SPACECRAFT_POINTING_MODE = NADIR
^MEX_POINTING_DESC = "MEX_POINTING_DESC.TXT"
RIGHT_ASCENSION = -1e+32
DECLINATION = -1e+32
OFFSET_ANGLE = -1e+32
SPACECRAFT_SOLAR_DISTANCE = 2.26298e+08
TARGET_NAME = MARS
/* CAMERA DATA ELEMENTS */
DETECTOR_TEMPERATURE = 17.7588
FOCAL_PLANE_TEMPERATURE = 8.7872
INST_CMPRS_NAME = "DISCRETE COSINE TRANSFORMATION (DCT)"
INST_CMPRS_RATIO = 21.3762
INST_CMPRS_QUALITY = 0
INST_CMPRS_QUANTZ_TBL_ID = 0
INSTRUMENT_TEMPERATURE = 11.234
LENS_TEMPERATURE = 7.9716
MACROPIXEL_SIZE = 8
MISSING_FRAMES = 0
PIXEL_SUBSAMPLING_FLAG = N
SIGNAL_CHAIN_ID = 2
/* RADIOMETRIC DATA ELEMENTS */
BANDWIDTH = 81.0
CENTER_FILTER_WAVELENGTH = 955.5
RADIANCE_OFFSET = 1.06746
RADIANCE_SCALING_FACTOR = 0.00303494
REFLECTANCE_SCALING_FACTOR = 0.000335304
MEX:REFLECTANCE_OFFSET = 0.117934
/* IMAGE OBJECT DEFINITIONS */
OBJECT = IMAGE
  INTERCHANGE_FORMAT = BINARY
  LINES = 6899
  LINE_SAMPLES = 1291
  SAMPLE_TYPE = UNSIGNED_INTEGER
  SAMPLE_BITS = 8
  BANDS = 1
  BAND_STORAGE_TYPE = BAND_SEQUENTIAL
  MAXIMUM = 255
  MEAN = 137.759
  MINIMUM = 1
  STANDARD_DEVIATION = 50.3723
END_OBJECT = IMAGE
/* MAP OBJECT DEFINITIONS */
OBJECT = IMAGE_MAP_PROJECTION
  ^DATA_SET_MAP_PROJECTION_CATALOG= "DSMAP.CAT"
  A_AXIS_RADIUS = 3396.0
  B_AXIS_RADIUS = 3396.0
  C_AXIS_RADIUS = 3396.0
  CENTER_LATITUDE = 0.0
  CENTER_LONGITUDE = 74.0
  COORDINATE_SYSTEM_NAME = PLANETOGRAPHIC
  COORDINATE_SYSTEM_TYPE = "BODY-FIXED ROTATING"
  EASTERNMOST_LONGITUDE = 76.102
  FIRST_STANDARD_PARALLEL = "N/A"
  LINE_FIRST_PIXEL = 1
  LINE_LAST_PIXEL = 6899
  LINE_PROJECTION_OFFSET = -27387.5625
  MAP_PROJECTION_ROTATION = 0.0
  MAP_PROJECTION_TYPE = SINUSOIDAL
  MAP_RESOLUTION = 592.713803866667
  MAP_SCALE = 0.1
  MAXIMUM_LATITUDE = -46.2479
  MINIMUM_LATITUDE = -57.7629
  POSITIVE_LONGITUDE_DIRECTION = EAST
  REFERENCE_LATITUDE = "N/A"
  REFERENCE_LONGITUDE = "N/A"
  SAMPLE_FIRST_PIXEL = 1
  SAMPLE_LAST_PIXEL = 1291
  SAMPLE_PROJECTION_OFFSET = 476.0625
  SECOND_STANDARD_PARALLEL = "N/A"
  WESTERNMOST_LONGITUDE = 72.4812
END_OBJECT = IMAGE_MAP_PROJECTION
/* The JPEG2000 image data file associated with this label. */
OBJECT = COMPRESSED_FILE
  FILE_NAME = "H8651_0000_IR3.JP2"
  RECORD_TYPE = UNDEFINED
  FILE_RECORDS = UNK
  ENCODING_TYPE = "JP2"
  INTERCHANGE_FORMAT = BINARY
  UNCOMPRESSED_FILE_NAME = "H8651_0000_IR3.IMG"
  REQUIRED_STORAGE_BYTES = "8925974"
  ^DESCRIPTION = "JP2INFO.TXT"
END_OBJECT = COMPRESSED_FILE
END
