PDS_VERSION_ID = PDS3
/* FILE DATA ELEMENTS */
RECORD_TYPE = STREAM
/* POINTERS TO DATA OBJECTS */
^COMPRESSED_FILE = "H8653_0000_BL3.JP2"
/* IDENTIFICATION DATA ELEMENTS */
DATA_SET_ID = "MEX-M-HRSC-5-REFDR-MAPPROJECTED-V3.0"
DATA_SET_NAME = "MARS EXPRESS HRSC MAP PROJECTED REFDR V3.0"
DETECTOR_ID = MEX_HRSC_BLUE
EVENT_TYPE = "MARS-REGIONAL-MAPPING-Im-Fl"
INSTRUMENT_HOST_ID = MEX
INSTRUMENT_HOST_NAME = "MARS EXPRESS"
INSTRUMENT_ID = HRSC
INSTRUMENT_NAME = "HIGH RESOLUTION STEREO CAMERA"
MISSION_NAME = "MARS EXPRESS"
MISSION_PHASE_NAME = ME_Phase_21
PROCESSING_LEVEL_ID = 3
PRODUCT_CREATION_TIME = 2016-10-25T23:07:55.000Z
PRODUCT_ID = "H8653_0000_BL3.JP2"
RELEASE_ID = 0092
REVISION_ID = 0000
/* QUALITY DATA ELEMENTS */
DATA_QUALITY_ID = 1
DATA_QUALITY_DESC = "Data calculated based on original SPICE kernels"
/* TIME DATA ELEMENTS */
SPACECRAFT_CLOCK_START_COUNT = "1/0234575744.08259"
SPACECRAFT_CLOCK_STOP_COUNT = "1/0234576147.30492"
START_TIME = 2010-10-07T23:56:28.277Z
STOP_TIME = 2010-10-08T00:00:25.562Z
/* ORBITAL DATA ELEMENTS */
ASCENDING_NODE_LONGITUDE = 52.03
MAXIMUM_RESOLUTION = 86.4
FOOTPRINT_POINT_LATITUDE = (-43.0845,-43.0797,-43.0681,-43.0567, -43.0372,-42.8075,-42.574,-42.2238, -41.8696,-41.6328,-41.2743,-41.0339, -40.7918,-40.5479,-40.3042,-39.9341, -39.6871,-39.4364,-39.1863,-38.8076, -38.5545,-38.2976,-38.0405,-37.7814, -37.5212,-37.2587,-36.9951,-36.5968, -36.1958,-35.9265,-35.6543,-35.2433, -34.9672,-34.6891,-34.4099,-34.1283, -33.7031,-33.2737,-32.8402,-32.4023, -32.1084,-31.8115,-31.5136,-31.2138, -30.9111,-30.6066,-30.3007,-29.9921, -29.6669,-29.6685,-29.6685,-29.6667, -29.6631,-29.657,-29.6533,-29.9659, -30.276,-30.5838,-30.89,-31.1945, -31.4958,-31.9448,-32.3893,-32.8295, -33.2651,-33.5535,-33.84,-34.124, -34.4069,-34.687,-34.9662,-35.2434, -35.6557,-35.9294,-36.2001,-36.4698, -36.7373,-37.0041,-37.2688,-37.5326, -37.7943,-38.1824,-38.4405,-38.8242, -39.0773,-39.4546,-39.7063,-39.955, -40.3273,-40.5719,-40.9386,-41.2991, -41.5405,-41.778,-42.0166,-42.2532, -42.4863,-42.7209,-43.0688,-43.0845)
FOOTPRINT_POINT_LONGITUDE = (231.084,230.705,230.045,229.55,229.153 ,229.157,229.161,229.167,229.172, 229.175,229.179,229.182,229.182,229.184 ,229.186,229.188,229.188,229.189,229.19 ,229.191,229.192,229.191,229.19,229.189 ,229.188,229.186,229.183,229.181, 229.178,229.176,229.173,229.167,229.162 ,229.157,229.152,229.147,229.139, 229.131,229.121,229.111,229.104,229.096 ,229.088,229.08,229.071,229.062,229.053 ,229.043,229.462,229.923,230.297, 230.786,231.247,231.766,232.123,232.117 ,232.11,232.104,232.097,232.091,232.084 ,232.074,232.064,232.054,232.043, 232.036,232.029,232.022,232.014,232.007 ,231.999,231.992,231.98,231.973,231.965 ,231.957,231.949,231.941,231.932, 231.923,231.914,231.903,231.895,231.881 ,231.877,231.864,231.855,231.843, 231.828,231.818,231.804,231.793,231.783 ,231.773,231.762,231.753,231.745, 231.735,231.72,231.084)
ORBIT_NUMBER = 8653
ORBITAL_ECCENTRICITY = 0.578
ORBITAL_INCLINATION = 86.84
ORBITAL_SEMIMAJOR_AXIS = 8763.99
PERIAPSIS_ALTITUDE = 319.5
PERIAPSIS_ARGUMENT_ANGLE = 283.44
PERIAPSIS_TIME = 2010-10-07T23:47:52.000Z
SPACECRAFT_ORIENTATION = (0.0,1.0,0.0)
^MEX_ORIENTATION_DESC = "MEX_ORIENTATION_DESC.TXT"
SPACECRAFT_POINTING_MODE = ACROSSTRACK
^MEX_POINTING_DESC = "MEX_POINTING_DESC.TXT"
RIGHT_ASCENSION = -1e+32
DECLINATION = -1e+32
OFFSET_ANGLE = -0.1
SPACECRAFT_SOLAR_DISTANCE = 2.26184e+08
TARGET_NAME = MARS
/* CAMERA DATA ELEMENTS */
DETECTOR_TEMPERATURE = 18.1666
FOCAL_PLANE_TEMPERATURE = 8.1755
INST_CMPRS_NAME = "DISCRETE COSINE TRANSFORMATION (DCT)"
INST_CMPRS_RATIO = 13.3036
INST_CMPRS_QUALITY = 0
INST_CMPRS_QUANTZ_TBL_ID = 0
INSTRUMENT_TEMPERATURE = 11.234
LENS_TEMPERATURE = 9.6028
MACROPIXEL_SIZE = 4
MISSING_FRAMES = 0
PIXEL_SUBSAMPLING_FLAG = N
SIGNAL_CHAIN_ID = 2
/* RADIOMETRIC DATA ELEMENTS */
BANDWIDTH = 76.0
CENTER_FILTER_WAVELENGTH = 444.0
RADIANCE_OFFSET = 0.473418
RADIANCE_SCALING_FACTOR = 0.00217072
REFLECTANCE_SCALING_FACTOR = 0.000114099
MEX:REFLECTANCE_OFFSET = 0.0248841
/* IMAGE OBJECT DEFINITIONS */
OBJECT = IMAGE
  INTERCHANGE_FORMAT = BINARY
  LINES = 7968
  LINE_SAMPLES = 1668
  SAMPLE_TYPE = UNSIGNED_INTEGER
  SAMPLE_BITS = 8
  BANDS = 1
  BAND_STORAGE_TYPE = BAND_SEQUENTIAL
  MAXIMUM = 255
  MEAN = 139.011
  MINIMUM = 1
  STANDARD_DEVIATION = 21.3284
END_OBJECT = IMAGE
/* MAP OBJECT DEFINITIONS */
OBJECT = IMAGE_MAP_PROJECTION
  ^DATA_SET_MAP_PROJECTION_CATALOG= "DSMAP.CAT"
  A_AXIS_RADIUS = 3396.0
  B_AXIS_RADIUS = 3396.0
  C_AXIS_RADIUS = 3396.0
  CENTER_LATITUDE = 0.0
  CENTER_LONGITUDE = 231.0
  COORDINATE_SYSTEM_NAME = PLANETOGRAPHIC
  COORDINATE_SYSTEM_TYPE = "BODY-FIXED ROTATING"
  EASTERNMOST_LONGITUDE = 232.123
  FIRST_STANDARD_PARALLEL = "N/A"
  LINE_FIRST_PIXEL = 1
  LINE_LAST_PIXEL = 7968
  LINE_PROJECTION_OFFSET = -17572.875
  MAP_PROJECTION_ROTATION = 0.0
  MAP_PROJECTION_TYPE = SINUSOIDAL
  MAP_RESOLUTION = 592.713803866667
  MAP_SCALE = 0.1
  MAXIMUM_LATITUDE = -29.6533
  MINIMUM_LATITUDE = -43.0845
  POSITIVE_LONGITUDE_DIRECTION = EAST
  REFERENCE_LATITUDE = "N/A"
  REFERENCE_LONGITUDE = "N/A"
  SAMPLE_FIRST_PIXEL = 1
  SAMPLE_LAST_PIXEL = 1668
  SAMPLE_PROJECTION_OFFSET = 1053.125
  SECOND_STANDARD_PARALLEL = "N/A"
  WESTERNMOST_LONGITUDE = 229.043
END_OBJECT = IMAGE_MAP_PROJECTION
/* The JPEG2000 image data file associated with this label. */
OBJECT = COMPRESSED_FILE
  FILE_NAME = "H8653_0000_BL3.JP2"
  RECORD_TYPE = UNDEFINED
  FILE_RECORDS = UNK
  ENCODING_TYPE = "JP2"
  INTERCHANGE_FORMAT = BINARY
  UNCOMPRESSED_FILE_NAME = "H8653_0000_BL3.IMG"
  REQUIRED_STORAGE_BYTES = "13310640"
  ^DESCRIPTION = "JP2INFO.TXT"
END_OBJECT = COMPRESSED_FILE
END
