PDS_VERSION_ID = PDS3
/* FILE DATA ELEMENTS */
RECORD_TYPE = STREAM
/* POINTERS TO DATA OBJECTS */
^COMPRESSED_FILE = "H8658_0000_S13.JP2"
/* IDENTIFICATION DATA ELEMENTS */
DATA_SET_ID = "MEX-M-HRSC-5-REFDR-MAPPROJECTED-V3.0"
DATA_SET_NAME = "MARS EXPRESS HRSC MAP PROJECTED REFDR V3.0"
DETECTOR_ID = MEX_HRSC_S1
EVENT_TYPE = "MARS-REGIONAL-MAPPING-Vo-Fl-Gl"
INSTRUMENT_HOST_ID = MEX
INSTRUMENT_HOST_NAME = "MARS EXPRESS"
INSTRUMENT_ID = HRSC
INSTRUMENT_NAME = "HIGH RESOLUTION STEREO CAMERA"
MISSION_NAME = "MARS EXPRESS"
MISSION_PHASE_NAME = ME_Phase_21
PROCESSING_LEVEL_ID = 3
PRODUCT_CREATION_TIME = 2016-10-25T23:07:55.000Z
PRODUCT_ID = "H8658_0000_S13.JP2"
RELEASE_ID = 0092
REVISION_ID = 0000
/* QUALITY DATA ELEMENTS */
DATA_QUALITY_ID = 1
DATA_QUALITY_DESC = "Data calculated based on original SPICE kernels"
/* TIME DATA ELEMENTS */
SPACECRAFT_CLOCK_START_COUNT = "1/0234701356.08250"
SPACECRAFT_CLOCK_STOP_COUNT = "1/0234701706.33065"
START_TIME = 2010-10-09T10:50:24.389Z
STOP_TIME = 2010-10-09T10:55:07.178Z
/* ORBITAL DATA ELEMENTS */
ASCENDING_NODE_LONGITUDE = 51.93
MAXIMUM_RESOLUTION = 31.7
FOOTPRINT_POINT_LATITUDE = (-62.7223,-62.6849,-62.648,-62.7129, -62.4094,-62.1068,-61.8044,-61.5023, -61.2012,-60.9,-60.5999,-60.3018, -60.0026,-59.7045,-59.4078,-59.1199, -58.8145,-58.5182,-58.0732,-57.7715, -57.321,-57.0152,-56.7081,-56.4024, -56.0922,-55.63,-55.1588,-54.8417, -54.3642,-54.0423,-53.722,-53.3966, -53.0702,-52.5755,-52.2438,-51.9078, -51.5715,-51.2317,-50.8897,-50.5451, -50.1964,-49.6712,-49.1385,-48.7811, -48.4195,-48.0572,-47.6892,-47.1352, -46.7643,-46.57,-46.5802,-46.5882, -46.5977,-46.6064,-46.7974,-47.1707, -47.5443,-47.9132,-48.4608,-48.8251, -49.1843,-49.7174,-50.0717,-50.4206, -50.9422,-51.2846,-51.7943,-52.1341, -52.6317,-52.9633,-53.2926,-53.6183, -53.9295,-54.2653,-54.7412,-55.0468, -55.3721,-55.8352,-56.1595,-56.4735, -56.9409,-57.3957,-57.6983,-58.001, -58.4543,-58.7494,-59.0447,-59.3457, -59.6443,-60.0937,-60.3935,-60.6913, -60.9875,-61.2916,-61.596,-61.8995, -62.2031,-62.5067,-62.8121,-62.7223)
FOOTPRINT_POINT_LONGITUDE = (77.7926,76.8136,75.9691,75.5138,75.58, 75.6439,75.7061,75.7666,75.8249,75.882, 75.9369,75.9889,76.0407,76.0905,76.1382 ,76.1779,76.2306,76.2751,76.3368, 76.3784,76.4378,76.4763,76.5144,76.5508 ,76.5866,76.6347,76.6846,76.7167, 76.7631,76.7927,76.8207,76.8482,76.8749 ,76.9139,76.9389,76.9639,76.9868, 77.0101,77.0318,77.0537,77.0748,77.1041 ,77.133,77.1505,77.1678,77.1839,77.1998 ,77.2212,77.2344,77.7763,78.1977, 78.5346,79.0691,79.6321,80.1367,80.1124 ,80.0878,80.0626,80.024,79.9987,79.9724 ,79.9321,79.9051,79.8777,79.8363, 79.8069,79.7633,79.7339,79.6878,79.6561 ,79.6259,79.593,79.5549,79.5286,79.4762 ,79.4373,79.4064,79.3517,79.3219, 79.2873,79.2365,79.1773,79.1405,79.1026 ,79.0439,79.0041,78.9632,78.9238, 78.8819,78.8173,78.7726,78.7255,78.6762 ,78.6293,78.581,78.5308,78.4789,78.4255 ,78.3712,77.7926)
ORBIT_NUMBER = 8658
ORBITAL_ECCENTRICITY = 0.578
ORBITAL_INCLINATION = 86.84
ORBITAL_SEMIMAJOR_AXIS = 8765.01
PERIAPSIS_ALTITUDE = 319.53
PERIAPSIS_ARGUMENT_ANGLE = 282.6
PERIAPSIS_TIME = 2010-10-09T10:46:11.000Z
SPACECRAFT_ORIENTATION = (0.0,1.0,0.0)
^MEX_ORIENTATION_DESC = "MEX_ORIENTATION_DESC.TXT"
SPACECRAFT_POINTING_MODE = NADIR
^MEX_POINTING_DESC = "MEX_POINTING_DESC.TXT"
RIGHT_ASCENSION = -1e+32
DECLINATION = -1e+32
OFFSET_ANGLE = -1e+32
SPACECRAFT_SOLAR_DISTANCE = 2.259e+08
TARGET_NAME = MARS
/* CAMERA DATA ELEMENTS */
DETECTOR_TEMPERATURE = 17.1471
FOCAL_PLANE_TEMPERATURE = 7.9716
INST_CMPRS_NAME = "DISCRETE COSINE TRANSFORMATION (DCT)"
INST_CMPRS_RATIO = 9.56213
INST_CMPRS_QUALITY = 0
INST_CMPRS_QUANTZ_TBL_ID = 0
INSTRUMENT_TEMPERATURE = 11.0301
LENS_TEMPERATURE = 8.3794
MACROPIXEL_SIZE = 2
MISSING_FRAMES = 0
PIXEL_SUBSAMPLING_FLAG = N
SIGNAL_CHAIN_ID = 1
/* RADIOMETRIC DATA ELEMENTS */
BANDWIDTH = 180.0
CENTER_FILTER_WAVELENGTH = 677.0
RADIANCE_OFFSET = 3.15863
RADIANCE_SCALING_FACTOR = 0.0193544
REFLECTANCE_SCALING_FACTOR = 0.000515289
MEX:REFLECTANCE_OFFSET = 0.0840952
/* IMAGE OBJECT DEFINITIONS */
OBJECT = IMAGE
  INTERCHANGE_FORMAT = BINARY
  LINES = 38691
  LINE_SAMPLES = 5857
  SAMPLE_TYPE = UNSIGNED_INTEGER
  SAMPLE_BITS = 8
  BANDS = 1
  BAND_STORAGE_TYPE = BAND_SEQUENTIAL
  MAXIMUM = 255
  MEAN = 164.354
  MINIMUM = 1
  STANDARD_DEVIATION = 54.622
END_OBJECT = IMAGE
/* MAP OBJECT DEFINITIONS */
OBJECT = IMAGE_MAP_PROJECTION
  ^DATA_SET_MAP_PROJECTION_CATALOG= "DSMAP.CAT"
  A_AXIS_RADIUS = 3396.0
  B_AXIS_RADIUS = 3396.0
  C_AXIS_RADIUS = 3396.0
  CENTER_LATITUDE = 0.0
  CENTER_LONGITUDE = 78.0
  COORDINATE_SYSTEM_NAME = PLANETOGRAPHIC
  COORDINATE_SYSTEM_TYPE = "BODY-FIXED ROTATING"
  EASTERNMOST_LONGITUDE = 80.1367
  FIRST_STANDARD_PARALLEL = "N/A"
  LINE_FIRST_PIXEL = 1
  LINE_LAST_PIXEL = 38691
  LINE_PROJECTION_OFFSET = -110299.25
  MAP_PROJECTION_ROTATION = 0.0
  MAP_PROJECTION_TYPE = SINUSOIDAL
  MAP_RESOLUTION = 2370.85521546667
  MAP_SCALE = 0.025
  MAXIMUM_LATITUDE = -46.57
  MINIMUM_LATITUDE = -62.8121
  POSITIVE_LONGITUDE_DIRECTION = EAST
  REFERENCE_LATITUDE = "N/A"
  REFERENCE_LONGITUDE = "N/A"
  SAMPLE_FIRST_PIXEL = 1
  SAMPLE_LAST_PIXEL = 5857
  SAMPLE_PROJECTION_OFFSET = 2641.25
  SECOND_STANDARD_PARALLEL = "N/A"
  WESTERNMOST_LONGITUDE = 75.5138
END_OBJECT = IMAGE_MAP_PROJECTION
/* The JPEG2000 image data file associated with this label. */
OBJECT = COMPRESSED_FILE
  FILE_NAME = "H8658_0000_S13.JP2"
  RECORD_TYPE = UNDEFINED
  FILE_RECORDS = UNK
  ENCODING_TYPE = "JP2"
  INTERCHANGE_FORMAT = BINARY
  UNCOMPRESSED_FILE_NAME = "H8658_0000_S13.IMG"
  REQUIRED_STORAGE_BYTES = "226642472"
  ^DESCRIPTION = "JP2INFO.TXT"
END_OBJECT = COMPRESSED_FILE
END
