PDS_VERSION_ID = PDS3
/* FILE DATA ELEMENTS */
RECORD_TYPE = STREAM
/* POINTERS TO DATA OBJECTS */
^COMPRESSED_FILE = "H8659_0000_IR3.JP2"
/* IDENTIFICATION DATA ELEMENTS */
DATA_SET_ID = "MEX-M-HRSC-5-REFDR-MAPPROJECTED-V3.0"
DATA_SET_NAME = "MARS EXPRESS HRSC MAP PROJECTED REFDR V3.0"
DETECTOR_ID = MEX_HRSC_IR
EVENT_TYPE = "MARS-REGIONAL-MAPPING-Im-Fl"
INSTRUMENT_HOST_ID = MEX
INSTRUMENT_HOST_NAME = "MARS EXPRESS"
INSTRUMENT_ID = HRSC
INSTRUMENT_NAME = "HIGH RESOLUTION STEREO CAMERA"
MISSION_NAME = "MARS EXPRESS"
MISSION_PHASE_NAME = ME_Phase_21
PROCESSING_LEVEL_ID = 3
PRODUCT_CREATION_TIME = 2016-10-25T23:07:55.000Z
PRODUCT_ID = "H8659_0000_IR3.JP2"
RELEASE_ID = 0092
REVISION_ID = 0000
/* QUALITY DATA ELEMENTS */
DATA_QUALITY_ID = 1
DATA_QUALITY_DESC = "Data calculated based on original SPICE kernels"
/* TIME DATA ELEMENTS */
SPACECRAFT_CLOCK_START_COUNT = "1/0234726626.09037"
SPACECRAFT_CLOCK_STOP_COUNT = "1/0234726957.38031"
START_TIME = 2010-10-09T17:51:37.447Z
STOP_TIME = 2010-10-09T17:55:45.720Z
/* ORBITAL DATA ELEMENTS */
ASCENDING_NODE_LONGITUDE = 51.92
MAXIMUM_RESOLUTION = 70.7
FOOTPRINT_POINT_LATITUDE = (-56.7413,-56.7165,-56.6879,-56.7266, -56.2463,-55.7558,-55.2673,-54.8909, -54.6384,-54.391,-54.1389,-53.7639, -53.5107,-53.2533,-52.9926,-52.735, -52.4737,-52.2107,-51.817,-51.5526, -51.2868,-51.0188,-50.748,-50.4793, -50.2068,-49.9325,-49.6574,-49.3779, -49.1006,-48.8262,-48.5465,-48.2639, -47.9779,-47.6868,-47.3933,-46.9559, -46.6637,-46.2191,-45.9218,-45.6207, -45.1693,-44.8652,-44.5553,-44.0935, -43.7846,-43.4718,-43.157,-42.8961, -42.9044,-42.9129,-42.9194,-42.9269, -42.9296,-42.9364,-43.2576,-43.5726, -44.0433,-44.3545,-44.8196,-45.1339, -45.4395,-45.741,-46.0368,-46.479, -46.7758,-47.0659,-47.36,-47.6518, -47.9411,-48.2264,-48.5122,-48.7953, -49.0791,-49.4973,-49.7763,-50.0508, -50.3256,-50.5987,-50.8694,-51.2756, -51.676,-51.9433,-52.2047,-52.4681, -52.7315,-52.9896,-53.2479,-53.6337, -53.8868,-54.1448,-54.4006,-54.6493, -55.026,-55.2773,-55.5229,-55.768, -56.0126,-56.2588,-56.7381,-56.7413)
FOOTPRINT_POINT_LONGITUDE = (336.726,335.945,335.168,334.485,334.54 ,334.594,334.644,334.682,334.708,334.73 ,334.753,334.782,334.803,334.824, 334.847,334.867,334.886,334.906,334.934 ,334.95,334.968,334.985,335.001,335.017 ,335.032,335.047,335.062,335.076,335.09 ,335.099,335.11,335.122,335.134,335.148 ,335.161,335.177,335.186,335.2,335.208, 335.216,335.227,335.233,335.241,335.248 ,335.252,335.256,335.26,335.263,335.645 ,336.084,336.468,337.046,337.403, 338.065,338.196,338.179,338.154,338.137 ,338.113,338.101,338.085,338.068, 338.047,338.018,338.002,337.981,337.965 ,337.947,337.93,337.91,337.892,337.873, 337.854,337.826,337.806,337.787,337.766 ,337.747,337.726,337.696,337.665, 337.644,337.622,337.601,337.579,337.557 ,337.535,337.5,337.477,337.456,337.433, 337.409,337.374,337.349,337.325,337.299 ,337.273,337.248,337.194,336.726)
ORBIT_NUMBER = 8659
ORBITAL_ECCENTRICITY = 0.578
ORBITAL_INCLINATION = 86.84
ORBITAL_SEMIMAJOR_AXIS = 8763.13
PERIAPSIS_ALTITUDE = 320.33
PERIAPSIS_ARGUMENT_ANGLE = 282.43
PERIAPSIS_TIME = 2010-10-09T17:45:48.000Z
SPACECRAFT_ORIENTATION = (0.0,1.0,0.0)
^MEX_ORIENTATION_DESC = "MEX_ORIENTATION_DESC.TXT"
SPACECRAFT_POINTING_MODE = ACROSSTRACK
^MEX_POINTING_DESC = "MEX_POINTING_DESC.TXT"
RIGHT_ASCENSION = -1e+32
DECLINATION = -1e+32
OFFSET_ANGLE = -0.12
SPACECRAFT_SOLAR_DISTANCE = 2.25843e+08
TARGET_NAME = MARS
/* CAMERA DATA ELEMENTS */
DETECTOR_TEMPERATURE = 17.5549
FOCAL_PLANE_TEMPERATURE = 8.7872
INST_CMPRS_NAME = "DISCRETE COSINE TRANSFORMATION (DCT)"
INST_CMPRS_RATIO = 7.9959
INST_CMPRS_QUALITY = 0
INST_CMPRS_QUANTZ_TBL_ID = 0
INSTRUMENT_TEMPERATURE = 11.4379
LENS_TEMPERATURE = 10.4184
MACROPIXEL_SIZE = 4
MISSING_FRAMES = 0
PIXEL_SUBSAMPLING_FLAG = N
SIGNAL_CHAIN_ID = 2
/* RADIOMETRIC DATA ELEMENTS */
BANDWIDTH = 81.0
CENTER_FILTER_WAVELENGTH = 955.5
RADIANCE_OFFSET = 0.808368
RADIANCE_SCALING_FACTOR = 0.00351464
REFLECTANCE_SCALING_FACTOR = 0.00038674
MEX:REFLECTANCE_OFFSET = 0.0889501
/* IMAGE OBJECT DEFINITIONS */
OBJECT = IMAGE
  INTERCHANGE_FORMAT = BINARY
  LINES = 16519
  LINE_SAMPLES = 2787
  SAMPLE_TYPE = UNSIGNED_INTEGER
  SAMPLE_BITS = 8
  BANDS = 1
  BAND_STORAGE_TYPE = BAND_SEQUENTIAL
  MAXIMUM = 255
  MEAN = 144.645
  MINIMUM = 1
  STANDARD_DEVIATION = 28.0851
END_OBJECT = IMAGE
/* MAP OBJECT DEFINITIONS */
OBJECT = IMAGE_MAP_PROJECTION
  ^DATA_SET_MAP_PROJECTION_CATALOG= "DSMAP.CAT"
  A_AXIS_RADIUS = 3396.0
  B_AXIS_RADIUS = 3396.0
  C_AXIS_RADIUS = 3396.0
  CENTER_LATITUDE = 0.0
  CENTER_LONGITUDE = 336.0
  COORDINATE_SYSTEM_NAME = PLANETOGRAPHIC
  COORDINATE_SYSTEM_TYPE = "BODY-FIXED ROTATING"
  EASTERNMOST_LONGITUDE = 338.196
  FIRST_STANDARD_PARALLEL = "N/A"
  LINE_FIRST_PIXEL = 1
  LINE_LAST_PIXEL = 16519
  LINE_PROJECTION_OFFSET = -50853.375
  MAP_PROJECTION_ROTATION = 0.0
  MAP_PROJECTION_TYPE = SINUSOIDAL
  MAP_RESOLUTION = 1185.42760773333
  MAP_SCALE = 0.05
  MAXIMUM_LATITUDE = -42.8961
  MINIMUM_LATITUDE = -56.7413
  POSITIVE_LONGITUDE_DIRECTION = EAST
  REFERENCE_LATITUDE = "N/A"
  REFERENCE_LONGITUDE = "N/A"
  SAMPLE_FIRST_PIXEL = 1
  SAMPLE_LAST_PIXEL = 2787
  SAMPLE_PROJECTION_OFFSET = 955.625
  SECOND_STANDARD_PARALLEL = "N/A"
  WESTERNMOST_LONGITUDE = 334.485
END_OBJECT = IMAGE_MAP_PROJECTION
/* The JPEG2000 image data file associated with this label. */
OBJECT = COMPRESSED_FILE
  FILE_NAME = "H8659_0000_IR3.JP2"
  RECORD_TYPE = UNDEFINED
  FILE_RECORDS = UNK
  ENCODING_TYPE = "JP2"
  INTERCHANGE_FORMAT = BINARY
  UNCOMPRESSED_FILE_NAME = "H8659_0000_IR3.IMG"
  REQUIRED_STORAGE_BYTES = "46060749"
  ^DESCRIPTION = "JP2INFO.TXT"
END_OBJECT = COMPRESSED_FILE
END
