PDS_VERSION_ID = PDS3
/* FILE DATA ELEMENTS */
RECORD_TYPE = STREAM
/* POINTERS TO DATA OBJECTS */
^COMPRESSED_FILE = "H8659_0000_S13.JP2"
/* IDENTIFICATION DATA ELEMENTS */
DATA_SET_ID = "MEX-M-HRSC-5-REFDR-MAPPROJECTED-V3.0"
DATA_SET_NAME = "MARS EXPRESS HRSC MAP PROJECTED REFDR V3.0"
DETECTOR_ID = MEX_HRSC_S1
EVENT_TYPE = "MARS-REGIONAL-MAPPING-Im-Fl"
INSTRUMENT_HOST_ID = MEX
INSTRUMENT_HOST_NAME = "MARS EXPRESS"
INSTRUMENT_ID = HRSC
INSTRUMENT_NAME = "HIGH RESOLUTION STEREO CAMERA"
MISSION_NAME = "MARS EXPRESS"
MISSION_PHASE_NAME = ME_Phase_21
PROCESSING_LEVEL_ID = 3
PRODUCT_CREATION_TIME = 2016-10-25T23:07:55.000Z
PRODUCT_ID = "H8659_0000_S13.JP2"
RELEASE_ID = 0092
REVISION_ID = 0000
/* QUALITY DATA ELEMENTS */
DATA_QUALITY_ID = 1
DATA_QUALITY_DESC = "Data calculated based on original SPICE kernels"
/* TIME DATA ELEMENTS */
SPACECRAFT_CLOCK_START_COUNT = "1/0234726626.09037"
SPACECRAFT_CLOCK_STOP_COUNT = "1/0234726957.38031"
START_TIME = 2010-10-09T17:51:44.507Z
STOP_TIME = 2010-10-09T17:55:58.265Z
/* ORBITAL DATA ELEMENTS */
ASCENDING_NODE_LONGITUDE = 51.92
MAXIMUM_RESOLUTION = 36.4
FOOTPRINT_POINT_LATITUDE = (-56.7299,-56.7168,-56.6876,-56.7338, -56.3704,-55.9996,-55.7531,-55.5063, -55.2598,-55.0085,-54.7565,-54.3784, -54.1259,-53.7517,-53.4945,-53.1067, -52.8451,-52.5841,-52.1885,-51.9226, -51.6614,-51.3944,-51.1251,-50.7196, -50.4482,-50.1764,-49.8996,-49.6216, -49.3421,-49.0641,-48.7927,-48.5084, -48.225,-47.9372,-47.6443,-47.3468, -46.9085,-46.6153,-46.1681,-45.7181, -45.4188,-45.1129,-44.6512,-44.1889, -43.8803,-43.5684,-43.2536,-42.9356, -42.8891,-42.9003,-42.9075,-42.9114, -42.9147,-42.9192,-43.2406,-43.5554, -43.8722,-44.1826,-44.647,-45.1243, -45.431,-45.7336,-46.0322,-46.4704, -46.7701,-47.0606,-47.3549,-47.649, -47.9396,-48.2265,-48.5124,-48.7977, -49.2212,-49.6424,-49.9193,-50.1972, -50.4702,-50.7441,-51.152,-51.4215, -51.6914,-51.9566,-52.2214,-52.4867, -52.748,-53.0099,-53.2701,-53.5267, -53.7837,-54.0398,-54.2974,-54.5514, -54.8044,-55.1812,-55.4303,-55.8026, -56.0458,-56.2951,-56.6613,-56.7299)
FOOTPRINT_POINT_LONGITUDE = (336.57,336.159,335.339,334.465,334.506 ,334.547,334.574,334.6,334.624,334.65, 334.676,334.71,334.732,334.761,334.783, 334.815,334.836,334.855,334.885,334.904 ,334.92,334.937,334.954,334.979,334.994 ,335.009,335.023,335.039,335.053, 335.065,335.073,335.085,335.097,335.108 ,335.122,335.135,335.15,335.159,335.172 ,335.184,335.191,335.198,335.208, 335.215,335.219,335.222,335.225,335.228 ,335.666,336.28,336.748,337.099,337.655 ,338.037,338.237,338.219,338.202, 338.184,338.157,338.138,338.121,338.103 ,338.084,338.052,338.035,338.014, 337.997,337.979,337.961,337.941,337.922 ,337.903,337.874,337.845,337.825, 337.805,337.784,337.763,337.733,337.712 ,337.69,337.669,337.647,337.625,337.603 ,337.58,337.557,337.534,337.511,337.487 ,337.466,337.442,337.417,337.382, 337.357,337.318,337.292,337.265,337.224 ,336.57)
ORBIT_NUMBER = 8659
ORBITAL_ECCENTRICITY = 0.578
ORBITAL_INCLINATION = 86.84
ORBITAL_SEMIMAJOR_AXIS = 8763.13
PERIAPSIS_ALTITUDE = 320.33
PERIAPSIS_ARGUMENT_ANGLE = 282.43
PERIAPSIS_TIME = 2010-10-09T17:45:48.000Z
SPACECRAFT_ORIENTATION = (0.0,1.0,0.0)
^MEX_ORIENTATION_DESC = "MEX_ORIENTATION_DESC.TXT"
SPACECRAFT_POINTING_MODE = ACROSSTRACK
^MEX_POINTING_DESC = "MEX_POINTING_DESC.TXT"
RIGHT_ASCENSION = -1e+32
DECLINATION = -1e+32
OFFSET_ANGLE = -0.12
SPACECRAFT_SOLAR_DISTANCE = 2.25843e+08
TARGET_NAME = MARS
/* CAMERA DATA ELEMENTS */
DETECTOR_TEMPERATURE = 17.5549
FOCAL_PLANE_TEMPERATURE = 8.7872
INST_CMPRS_NAME = "DISCRETE COSINE TRANSFORMATION (DCT)"
INST_CMPRS_RATIO = 10.4127
INST_CMPRS_QUALITY = 0
INST_CMPRS_QUANTZ_TBL_ID = 0
INSTRUMENT_TEMPERATURE = 11.4379
LENS_TEMPERATURE = 10.4184
MACROPIXEL_SIZE = 2
MISSING_FRAMES = 1
PIXEL_SUBSAMPLING_FLAG = N
SIGNAL_CHAIN_ID = 1
/* RADIOMETRIC DATA ELEMENTS */
BANDWIDTH = 180.0
CENTER_FILTER_WAVELENGTH = 677.0
RADIANCE_OFFSET = 3.98425
RADIANCE_SCALING_FACTOR = 0.0145829
REFLECTANCE_SCALING_FACTOR = 0.000388056
MEX:REFLECTANCE_OFFSET = 0.106022
/* IMAGE OBJECT DEFINITIONS */
OBJECT = IMAGE
  INTERCHANGE_FORMAT = BINARY
  LINES = 33037
  LINE_SAMPLES = 5573
  SAMPLE_TYPE = UNSIGNED_INTEGER
  SAMPLE_BITS = 8
  BANDS = 1
  BAND_STORAGE_TYPE = BAND_SEQUENTIAL
  MAXIMUM = 255
  MEAN = 149.358
  MINIMUM = 1
  STANDARD_DEVIATION = 28.4347
END_OBJECT = IMAGE
/* MAP OBJECT DEFINITIONS */
OBJECT = IMAGE_MAP_PROJECTION
  ^DATA_SET_MAP_PROJECTION_CATALOG= "DSMAP.CAT"
  A_AXIS_RADIUS = 3396.0
  B_AXIS_RADIUS = 3396.0
  C_AXIS_RADIUS = 3396.0
  CENTER_LATITUDE = 0.0
  CENTER_LONGITUDE = 336.0
  COORDINATE_SYSTEM_NAME = PLANETOGRAPHIC
  COORDINATE_SYSTEM_TYPE = "BODY-FIXED ROTATING"
  EASTERNMOST_LONGITUDE = 338.237
  FIRST_STANDARD_PARALLEL = "N/A"
  LINE_FIRST_PIXEL = 1
  LINE_LAST_PIXEL = 33037
  LINE_PROJECTION_OFFSET = -101706.25
  MAP_PROJECTION_ROTATION = 0.0
  MAP_PROJECTION_TYPE = SINUSOIDAL
  MAP_RESOLUTION = 2370.85521546667
  MAP_SCALE = 0.025
  MAXIMUM_LATITUDE = -42.8891
  MINIMUM_LATITUDE = -56.7338
  POSITIVE_LONGITUDE_DIRECTION = EAST
  REFERENCE_LATITUDE = "N/A"
  REFERENCE_LONGITUDE = "N/A"
  SAMPLE_FIRST_PIXEL = 1
  SAMPLE_LAST_PIXEL = 5573
  SAMPLE_PROJECTION_OFFSET = 1911.75
  SECOND_STANDARD_PARALLEL = "N/A"
  WESTERNMOST_LONGITUDE = 334.465
END_OBJECT = IMAGE_MAP_PROJECTION
/* The JPEG2000 image data file associated with this label. */
OBJECT = COMPRESSED_FILE
  FILE_NAME = "H8659_0000_S13.JP2"
  RECORD_TYPE = UNDEFINED
  FILE_RECORDS = UNK
  ENCODING_TYPE = "JP2"
  INTERCHANGE_FORMAT = BINARY
  UNCOMPRESSED_FILE_NAME = "H8659_0000_S13.IMG"
  REQUIRED_STORAGE_BYTES = "184143066"
  ^DESCRIPTION = "JP2INFO.TXT"
END_OBJECT = COMPRESSED_FILE
END
