PDS_VERSION_ID = PDS3
/* FILE DATA ELEMENTS */
RECORD_TYPE = STREAM
/* POINTERS TO DATA OBJECTS */
^COMPRESSED_FILE = "H8666_0000_GR3.JP2"
/* IDENTIFICATION DATA ELEMENTS */
DATA_SET_ID = "MEX-M-HRSC-5-REFDR-MAPPROJECTED-V3.0"
DATA_SET_NAME = "MARS EXPRESS HRSC MAP PROJECTED REFDR V3.0"
DETECTOR_ID = MEX_HRSC_GREEN
EVENT_TYPE = "MARS-REGIONAL-MAPPING-Im-Fl"
INSTRUMENT_HOST_ID = MEX
INSTRUMENT_HOST_NAME = "MARS EXPRESS"
INSTRUMENT_ID = HRSC
INSTRUMENT_NAME = "HIGH RESOLUTION STEREO CAMERA"
MISSION_NAME = "MARS EXPRESS"
MISSION_PHASE_NAME = ME_Phase_21
PROCESSING_LEVEL_ID = 3
PRODUCT_CREATION_TIME = 2016-10-25T23:07:55.000Z
PRODUCT_ID = "H8666_0000_GR3.JP2"
RELEASE_ID = 0092
REVISION_ID = 0000
/* QUALITY DATA ELEMENTS */
DATA_QUALITY_ID = 1
DATA_QUALITY_DESC = "Data calculated based on original SPICE kernels"
/* TIME DATA ELEMENTS */
SPACECRAFT_CLOCK_START_COUNT = "1/0234902866.09038"
SPACECRAFT_CLOCK_STOP_COUNT = "1/0234903161.34063"
START_TIME = 2010-10-11T18:48:30.214Z
STOP_TIME = 2010-10-11T18:51:52.766Z
/* ORBITAL DATA ELEMENTS */
ASCENDING_NODE_LONGITUDE = 51.79
MAXIMUM_RESOLUTION = 127.3
FOOTPRINT_POINT_LATITUDE = (-58.9391,-58.9256,-58.8973,-58.8686, -58.5436,-58.3273,-58.0031,-57.7876, -57.5682,-57.2368,-57.0159,-56.7959, -56.4606,-56.2352,-55.8974,-55.6726, -55.3291,-55.0991,-54.8692,-54.6394, -54.4051,-54.1706,-53.9364,-53.7025, -53.3445,-53.1058,-52.8673,-52.5038, -52.2607,-52.0178,-51.6481,-51.4007, -51.1536,-50.9027,-50.6507,-50.3994, -50.1449,-49.8885,-49.6327,-49.3738, -49.1136,-48.8546,-48.4587,-48.1946, -47.9272,-47.6581,-47.3901,-47.1172, -46.8449,-46.674,-46.6923,-46.7072, -46.7153,-46.72,-46.8629,-47.1361, -47.5452,-47.8143,-48.2177,-48.4825, -48.8797,-49.1409,-49.402,-49.6624, -49.9185,-50.1756,-50.4318,-50.684, -50.9366,-51.1892,-51.437,-51.6852, -52.057,-52.3006,-52.5445,-52.91, -53.1492,-53.3886,-53.6285,-53.9833, -54.2183,-54.4536,-54.8041,-55.0342, -55.2645,-55.4951,-55.7257,-55.9527, -56.1789,-56.5184,-56.7446,-56.9657, -57.2978,-57.5195,-57.8518,-58.1763, -58.3928,-58.7169,-58.9342,-58.9391)
FOOTPRINT_POINT_LONGITUDE = (339.937,339.55,338.826,337.973,338.023 ,338.055,338.101,338.13,338.16,338.203, 338.232,338.258,338.302,338.328,338.366 ,338.391,338.428,338.453,338.477, 338.502,338.526,338.549,338.571,338.593 ,338.625,338.645,338.666,338.695, 338.714,338.733,338.761,338.779,338.796 ,338.813,338.83,338.846,338.862,338.878 ,338.894,338.909,338.923,338.934, 338.954,338.967,338.981,338.995,339.006 ,339.018,339.029,339.437,340.069, 340.729,341.186,341.491,341.729,341.713 ,341.688,341.672,341.646,341.628, 341.599,341.583,341.566,341.547,341.528 ,341.51,341.491,341.472,341.453,341.434 ,341.414,341.394,341.364,341.344, 341.324,341.292,341.271,341.25,341.228, 341.195,341.173,341.15,341.115,341.092, 341.067,341.042,341.019,341.0,340.976, 340.939,340.914,340.888,340.85,340.823, 340.784,340.742,340.714,340.667,340.638 ,339.937)
ORBIT_NUMBER = 8666
ORBITAL_ECCENTRICITY = 0.578
ORBITAL_INCLINATION = 86.84
ORBITAL_SEMIMAJOR_AXIS = 8762.56
PERIAPSIS_ALTITUDE = 320.4
PERIAPSIS_ARGUMENT_ANGLE = 281.24
PERIAPSIS_TIME = 2010-10-11T18:43:23.000Z
SPACECRAFT_ORIENTATION = (0.0,1.0,0.0)
^MEX_ORIENTATION_DESC = "MEX_ORIENTATION_DESC.TXT"
SPACECRAFT_POINTING_MODE = NADIR
^MEX_POINTING_DESC = "MEX_POINTING_DESC.TXT"
RIGHT_ASCENSION = -1e+32
DECLINATION = -1e+32
OFFSET_ANGLE = -1e+32
SPACECRAFT_SOLAR_DISTANCE = 2.25444e+08
TARGET_NAME = MARS
/* CAMERA DATA ELEMENTS */
DETECTOR_TEMPERATURE = 18.1666
FOCAL_PLANE_TEMPERATURE = 8.3794
INST_CMPRS_NAME = "DISCRETE COSINE TRANSFORMATION (DCT)"
INST_CMPRS_RATIO = 10.1219
INST_CMPRS_QUALITY = 0
INST_CMPRS_QUANTZ_TBL_ID = 0
INSTRUMENT_TEMPERATURE = 11.234
LENS_TEMPERATURE = 8.7872
MACROPIXEL_SIZE = 8
MISSING_FRAMES = 0
PIXEL_SUBSAMPLING_FLAG = N
SIGNAL_CHAIN_ID = 2
/* RADIOMETRIC DATA ELEMENTS */
BANDWIDTH = 88.0
CENTER_FILTER_WAVELENGTH = 538.0
RADIANCE_OFFSET = 1.58452
RADIANCE_SCALING_FACTOR = 0.00580501
REFLECTANCE_SCALING_FACTOR = 0.00025402
MEX:REFLECTANCE_OFFSET = 0.0693366
/* IMAGE OBJECT DEFINITIONS */
OBJECT = IMAGE
  INTERCHANGE_FORMAT = BINARY
  LINES = 7304
  LINE_SAMPLES = 1329
  SAMPLE_TYPE = UNSIGNED_INTEGER
  SAMPLE_BITS = 8
  BANDS = 1
  BAND_STORAGE_TYPE = BAND_SEQUENTIAL
  MAXIMUM = 255
  MEAN = 173.174
  MINIMUM = 1
  STANDARD_DEVIATION = 56.7369
END_OBJECT = IMAGE
/* MAP OBJECT DEFINITIONS */
OBJECT = IMAGE_MAP_PROJECTION
  ^DATA_SET_MAP_PROJECTION_CATALOG= "DSMAP.CAT"
  A_AXIS_RADIUS = 3396.0
  B_AXIS_RADIUS = 3396.0
  C_AXIS_RADIUS = 3396.0
  CENTER_LATITUDE = 0.0
  CENTER_LONGITUDE = 340.0
  COORDINATE_SYSTEM_NAME = PLANETOGRAPHIC
  COORDINATE_SYSTEM_TYPE = "BODY-FIXED ROTATING"
  EASTERNMOST_LONGITUDE = 341.729
  FIRST_STANDARD_PARALLEL = "N/A"
  LINE_FIRST_PIXEL = 1
  LINE_LAST_PIXEL = 7304
  LINE_PROJECTION_OFFSET = -27658.9375
  MAP_PROJECTION_ROTATION = 0.0
  MAP_PROJECTION_TYPE = SINUSOIDAL
  MAP_RESOLUTION = 592.713803866667
  MAP_SCALE = 0.1
  MAXIMUM_LATITUDE = -46.674
  MINIMUM_LATITUDE = -58.9391
  POSITIVE_LONGITUDE_DIRECTION = EAST
  REFERENCE_LATITUDE = "N/A"
  REFERENCE_LONGITUDE = "N/A"
  SAMPLE_FIRST_PIXEL = 1
  SAMPLE_LAST_PIXEL = 1329
  SAMPLE_PROJECTION_OFFSET = 626.1875
  SECOND_STANDARD_PARALLEL = "N/A"
  WESTERNMOST_LONGITUDE = 337.973
END_OBJECT = IMAGE_MAP_PROJECTION
/* The JPEG2000 image data file associated with this label. */
OBJECT = COMPRESSED_FILE
  FILE_NAME = "H8666_0000_GR3.JP2"
  RECORD_TYPE = UNDEFINED
  FILE_RECORDS = UNK
  ENCODING_TYPE = "JP2"
  INTERCHANGE_FORMAT = BINARY
  UNCOMPRESSED_FILE_NAME = "H8666_0000_GR3.IMG"
  REQUIRED_STORAGE_BYTES = "9726951"
  ^DESCRIPTION = "JP2INFO.TXT"
END_OBJECT = COMPRESSED_FILE
END
