PDS_VERSION_ID = PDS3
/* FILE DATA ELEMENTS */
RECORD_TYPE = STREAM
/* POINTERS TO DATA OBJECTS */
^COMPRESSED_FILE = "H8669_0000_P13.JP2"
/* IDENTIFICATION DATA ELEMENTS */
DATA_SET_ID = "MEX-M-HRSC-5-REFDR-MAPPROJECTED-V3.0"
DATA_SET_NAME = "MARS EXPRESS HRSC MAP PROJECTED REFDR V3.0"
DETECTOR_ID = MEX_HRSC_P1
EVENT_TYPE = "MARS-REGIONAL-MAPPING-Im-Fl"
INSTRUMENT_HOST_ID = MEX
INSTRUMENT_HOST_NAME = "MARS EXPRESS"
INSTRUMENT_ID = HRSC
INSTRUMENT_NAME = "HIGH RESOLUTION STEREO CAMERA"
MISSION_NAME = "MARS EXPRESS"
MISSION_PHASE_NAME = ME_Phase_21
PROCESSING_LEVEL_ID = 3
PRODUCT_CREATION_TIME = 2016-10-25T23:07:55.000Z
PRODUCT_ID = "H8669_0000_P13.JP2"
RELEASE_ID = 0092
REVISION_ID = 0000
/* QUALITY DATA ELEMENTS */
DATA_QUALITY_ID = 1
DATA_QUALITY_DESC = "Data calculated based on original SPICE kernels"
/* TIME DATA ELEMENTS */
SPACECRAFT_CLOCK_START_COUNT = "1/0234978678.09122"
SPACECRAFT_CLOCK_STOP_COUNT = "1/0234979112.57412"
START_TIME = 2010-10-12T15:53:04.287Z
STOP_TIME = 2010-10-12T15:57:42.265Z
/* ORBITAL DATA ELEMENTS */
ASCENDING_NODE_LONGITUDE = 51.73
MAXIMUM_RESOLUTION = 54.3
FOOTPRINT_POINT_LATITUDE = (-41.564,-41.5607,-41.5541,-41.5475, -41.541,-41.5574,-41.214,-40.7508, -40.2831,-39.8121,-39.4532,-39.2139, -38.9725,-38.6084,-38.3644,-37.99, -37.7415,-37.4927,-37.2422,-36.9901, -36.7399,-36.4855,-36.2267,-35.9705, -35.7121,-35.4507,-35.1914,-34.9296, -34.6654,-34.3991,-34.1378,-33.869, -33.593,-33.1835,-32.9107,-32.6354, -32.3585,-31.9427,-31.6685,-31.2411, -30.9491,-30.6693,-30.2499,-29.8326, -29.5564,-29.2815,-29.0075,-28.7345, -28.5389,-28.5322,-28.5262,-28.5215, -28.5144,-28.5065,-28.4947,-28.4838, -28.7592,-29.1731,-29.4501,-29.7296, -30.0096,-30.2904,-30.5729,-30.8604, -31.1446,-31.4312,-31.7162,-32.1409, -32.4253,-32.7041,-32.9753,-33.2509, -33.5252,-33.7985,-34.0699,-34.34, -34.6073,-34.8746,-35.2724,-35.5348, -35.796,-36.0558,-36.3139,-36.6982, -36.953,-37.2065,-37.4584,-37.8335, -38.0891,-38.3373,-38.5832,-38.8281, -39.0711,-39.4334,-39.6738,-39.9118, -40.5011,-40.9715,-41.5499,-41.564)
FOOTPRINT_POINT_LONGITUDE = (34.5291,34.0854,33.4647,32.9921, 32.6075,32.1364,32.1375,32.139,32.1394, 32.1375,32.1372,32.1359,32.1343,32.1316 ,32.1296,32.1252,32.1225,32.1192, 32.1158,32.1121,32.1064,32.102,32.0989, 32.0933,32.0881,32.083,32.0756,32.0688, 32.0623,32.0553,32.0444,32.0368,32.0321 ,32.0198,32.0102,32.0007,31.9909, 31.9737,31.9591,31.9438,31.9371,31.9242 ,31.9054,31.8866,31.8734,31.8601, 31.8467,31.8331,32.3911,32.9595,33.4131 ,33.7533,34.2449,34.6611,35.2283, 35.7342,35.7258,35.7122,35.7028,35.694, 35.6846,35.6749,35.6654,35.6579,35.6476 ,35.638,35.6284,35.6145,35.607,35.597, 35.5835,35.5738,35.5641,35.5547,35.5451 ,35.5354,35.5251,35.5159,35.5015, 35.4914,35.4812,35.4709,35.461,35.4453, 35.4351,35.4245,35.4144,35.3986,35.3883 ,35.3782,35.368,35.3572,35.3467,35.3306 ,35.3197,35.3086,35.2793,35.2587, 35.2311,34.5291)
ORBIT_NUMBER = 8669
ORBITAL_ECCENTRICITY = 0.578
ORBITAL_INCLINATION = 86.83
ORBITAL_SEMIMAJOR_AXIS = 8764.22
PERIAPSIS_ALTITUDE = 320.7
PERIAPSIS_ARGUMENT_ANGLE = 280.73
PERIAPSIS_TIME = 2010-10-12T15:42:21.000Z
SPACECRAFT_ORIENTATION = (0.0,1.0,0.0)
^MEX_ORIENTATION_DESC = "MEX_ORIENTATION_DESC.TXT"
SPACECRAFT_POINTING_MODE = NADIR
^MEX_POINTING_DESC = "MEX_POINTING_DESC.TXT"
RIGHT_ASCENSION = -1e+32
DECLINATION = -1e+32
OFFSET_ANGLE = -1e+32
SPACECRAFT_SOLAR_DISTANCE = 2.25273e+08
TARGET_NAME = MARS
/* CAMERA DATA ELEMENTS */
DETECTOR_TEMPERATURE = 16.9432
FOCAL_PLANE_TEMPERATURE = 7.5638
INST_CMPRS_NAME = "DISCRETE COSINE TRANSFORMATION (DCT)"
INST_CMPRS_RATIO = 13.3032
INST_CMPRS_QUALITY = 0
INST_CMPRS_QUANTZ_TBL_ID = 0
INSTRUMENT_TEMPERATURE = 11.0301
LENS_TEMPERATURE = 6.9521
MACROPIXEL_SIZE = 2
MISSING_FRAMES = 0
PIXEL_SUBSAMPLING_FLAG = N
SIGNAL_CHAIN_ID = 3
/* RADIOMETRIC DATA ELEMENTS */
BANDWIDTH = 174.0
CENTER_FILTER_WAVELENGTH = 675.0
RADIANCE_OFFSET = 3.14226
RADIANCE_SCALING_FACTOR = 0.0134008
REFLECTANCE_SCALING_FACTOR = 0.000365789
MEX:REFLECTANCE_OFFSET = 0.0857712
/* IMAGE OBJECT DEFINITIONS */
OBJECT = IMAGE
  INTERCHANGE_FORMAT = BINARY
  LINES = 15540
  LINE_SAMPLES = 3706
  SAMPLE_TYPE = UNSIGNED_INTEGER
  SAMPLE_BITS = 8
  BANDS = 1
  BAND_STORAGE_TYPE = BAND_SEQUENTIAL
  MAXIMUM = 255
  MEAN = 128.326
  MINIMUM = 1
  STANDARD_DEVIATION = 29.9335
END_OBJECT = IMAGE
/* MAP OBJECT DEFINITIONS */
OBJECT = IMAGE_MAP_PROJECTION
  ^DATA_SET_MAP_PROJECTION_CATALOG= "DSMAP.CAT"
  A_AXIS_RADIUS = 3396.0
  B_AXIS_RADIUS = 3396.0
  C_AXIS_RADIUS = 3396.0
  CENTER_LATITUDE = 0.0
  CENTER_LONGITUDE = 34.0
  COORDINATE_SYSTEM_NAME = PLANETOGRAPHIC
  COORDINATE_SYSTEM_TYPE = "BODY-FIXED ROTATING"
  EASTERNMOST_LONGITUDE = 35.7342
  FIRST_STANDARD_PARALLEL = "N/A"
  LINE_FIRST_PIXEL = 1
  LINE_LAST_PIXEL = 15540
  LINE_PROJECTION_OFFSET = -33798.75
  MAP_PROJECTION_ROTATION = 0.0
  MAP_PROJECTION_TYPE = SINUSOIDAL
  MAP_RESOLUTION = 1185.42760773333
  MAP_SCALE = 0.05
  MAXIMUM_LATITUDE = -28.4838
  MINIMUM_LATITUDE = -41.564
  POSITIVE_LONGITUDE_DIRECTION = EAST
  REFERENCE_LATITUDE = "N/A"
  REFERENCE_LONGITUDE = "N/A"
  SAMPLE_FIRST_PIXEL = 1
  SAMPLE_LAST_PIXEL = 3706
  SAMPLE_PROJECTION_OFFSET = 2089.75
  SECOND_STANDARD_PARALLEL = "N/A"
  WESTERNMOST_LONGITUDE = 31.8331
END_OBJECT = IMAGE_MAP_PROJECTION
/* The JPEG2000 image data file associated with this label. */
OBJECT = COMPRESSED_FILE
  FILE_NAME = "H8669_0000_P13.JP2"
  RECORD_TYPE = UNDEFINED
  FILE_RECORDS = UNK
  ENCODING_TYPE = "JP2"
  INTERCHANGE_FORMAT = BINARY
  UNCOMPRESSED_FILE_NAME = "H8669_0000_P13.IMG"
  REQUIRED_STORAGE_BYTES = "57613476"
  ^DESCRIPTION = "JP2INFO.TXT"
END_OBJECT = COMPRESSED_FILE
END
