PDS_VERSION_ID = PDS3
/* FILE DATA ELEMENTS */
RECORD_TYPE = STREAM
/* POINTERS TO DATA OBJECTS */
^COMPRESSED_FILE = "H8677_0000_GR3.JP2"
/* IDENTIFICATION DATA ELEMENTS */
DATA_SET_ID = "MEX-M-HRSC-5-REFDR-MAPPROJECTED-V3.0"
DATA_SET_NAME = "MARS EXPRESS HRSC MAP PROJECTED REFDR V3.0"
DETECTOR_ID = MEX_HRSC_GREEN
EVENT_TYPE = "MARS-REGIONAL-MAPPING-Vo-Te-Fl"
INSTRUMENT_HOST_ID = MEX
INSTRUMENT_HOST_NAME = "MARS EXPRESS"
INSTRUMENT_ID = HRSC
INSTRUMENT_NAME = "HIGH RESOLUTION STEREO CAMERA"
MISSION_NAME = "MARS EXPRESS"
MISSION_PHASE_NAME = ME_Phase_21
PROCESSING_LEVEL_ID = 3
PRODUCT_CREATION_TIME = 2016-10-25T23:07:55.000Z
PRODUCT_ID = "H8677_0000_GR3.JP2"
RELEASE_ID = 0092
REVISION_ID = 0000
/* QUALITY DATA ELEMENTS */
DATA_QUALITY_ID = 1
DATA_QUALITY_DESC = "Data calculated based on original SPICE kernels"
/* TIME DATA ELEMENTS */
SPACECRAFT_CLOCK_START_COUNT = "1/0235180070.09059"
SPACECRAFT_CLOCK_STOP_COUNT = "1/0235180402.00879"
START_TIME = 2010-10-14T23:48:54.968Z
STOP_TIME = 2010-10-14T23:52:00.140Z
/* ORBITAL DATA ELEMENTS */
ASCENDING_NODE_LONGITUDE = 51.58
MAXIMUM_RESOLUTION = 91.4
FOOTPRINT_POINT_LATITUDE = (-46.1793,-46.1747,-46.1687,-46.1564, -46.1466,-46.1384,-46.1326,-45.862, -45.3177,-44.766,-44.3953,-43.9251, -43.736,-43.546,-43.3564,-43.165, -42.9725,-42.7803,-42.4886,-42.2938, -41.9991,-41.8024,-41.6042,-41.4049, -41.2068,-41.0057,-40.8046,-40.6018, -40.3972,-40.1932,-39.9876,-39.7823, -39.5743,-39.3667,-39.1572,-38.9475, -38.736,-38.5242,-38.2038,-37.99, -37.7736,-37.5578,-37.3402,-37.011, -36.791,-36.5691,-36.3472,-36.1014, -36.1055,-36.1098,-36.1118,-36.1143, -36.1151,-36.1161,-36.1149,-36.1139, -36.1125,-36.1112,-36.3368,-36.5601, -36.7832,-37.0045,-37.2254,-37.4446, -37.7715,-38.0965,-38.3114,-38.5258, -38.7386,-38.9514,-39.1623,-39.3734, -39.582,-39.8946,-40.1013,-40.3078, -40.512,-40.8181,-41.0203,-41.3243, -41.5241,-41.7238,-41.9204,-42.118, -42.3155,-42.511,-42.8039,-42.9968, -43.1903,-43.3828,-43.5735,-43.7645, -44.0483,-44.2368,-44.5187,-44.8912, -45.1688,-45.6268,-45.9894,-46.1793)
FOOTPRINT_POINT_LONGITUDE = (296.83,296.405,295.98,295.321,294.9, 294.585,294.169,294.175,294.186,294.197 ,294.202,294.21,294.213,294.214,294.216 ,294.217,294.219,294.22,294.222,294.224 ,294.225,294.225,294.226,294.226, 294.224,294.223,294.222,294.222,294.223 ,294.223,294.221,294.219,294.218, 294.216,294.214,294.212,294.209,294.207 ,294.202,294.2,294.197,294.193,294.188, 294.184,294.179,294.175,294.17,294.253, 294.556,294.949,295.191,295.615,295.888 ,296.162,296.588,296.832,297.076, 297.423,297.416,297.41,297.404,297.397, 297.391,297.384,297.374,297.364,297.357 ,297.349,297.342,297.335,297.329, 297.323,297.316,297.306,297.299,297.292 ,297.285,297.274,297.267,297.26,297.253 ,297.243,297.231,297.223,297.216, 297.209,297.197,297.189,297.182,297.174 ,297.166,297.158,297.146,297.137, 297.125,297.108,297.098,297.074,297.056 ,296.83)
ORBIT_NUMBER = 8677
ORBITAL_ECCENTRICITY = 0.578
ORBITAL_INCLINATION = 86.83
ORBITAL_SEMIMAJOR_AXIS = 8762.44
PERIAPSIS_ALTITUDE = 320.72
PERIAPSIS_ARGUMENT_ANGLE = 279.4
PERIAPSIS_TIME = 2010-10-14T23:39:44.000Z
SPACECRAFT_ORIENTATION = (0.0,1.0,0.0)
^MEX_ORIENTATION_DESC = "MEX_ORIENTATION_DESC.TXT"
SPACECRAFT_POINTING_MODE = ACROSSTRACK
^MEX_POINTING_DESC = "MEX_POINTING_DESC.TXT"
RIGHT_ASCENSION = -1e+32
DECLINATION = -1e+32
OFFSET_ANGLE = -0.3
SPACECRAFT_SOLAR_DISTANCE = 2.24818e+08
TARGET_NAME = MARS
/* CAMERA DATA ELEMENTS */
DETECTOR_TEMPERATURE = 17.9627
FOCAL_PLANE_TEMPERATURE = 7.5638
INST_CMPRS_NAME = "DISCRETE COSINE TRANSFORMATION (DCT)"
INST_CMPRS_RATIO = 19.7236
INST_CMPRS_QUALITY = 0
INST_CMPRS_QUANTZ_TBL_ID = 0
INSTRUMENT_TEMPERATURE = 10.0106
LENS_TEMPERATURE = 7.9716
MACROPIXEL_SIZE = 4
MISSING_FRAMES = 0
PIXEL_SUBSAMPLING_FLAG = N
SIGNAL_CHAIN_ID = 2
/* RADIOMETRIC DATA ELEMENTS */
BANDWIDTH = 88.0
CENTER_FILTER_WAVELENGTH = 538.0
RADIANCE_OFFSET = 1.25944
RADIANCE_SCALING_FACTOR = 0.00280486
REFLECTANCE_SCALING_FACTOR = 0.000122056
MEX:REFLECTANCE_OFFSET = 0.0548059
/* IMAGE OBJECT DEFINITIONS */
OBJECT = IMAGE
  INTERCHANGE_FORMAT = BINARY
  LINES = 5983
  LINE_SAMPLES = 1563
  SAMPLE_TYPE = UNSIGNED_INTEGER
  SAMPLE_BITS = 8
  BANDS = 1
  BAND_STORAGE_TYPE = BAND_SEQUENTIAL
  MAXIMUM = 255
  MEAN = 138.77
  MINIMUM = 1
  STANDARD_DEVIATION = 28.3085
END_OBJECT = IMAGE
/* MAP OBJECT DEFINITIONS */
OBJECT = IMAGE_MAP_PROJECTION
  ^DATA_SET_MAP_PROJECTION_CATALOG= "DSMAP.CAT"
  A_AXIS_RADIUS = 3396.0
  B_AXIS_RADIUS = 3396.0
  C_AXIS_RADIUS = 3396.0
  CENTER_LATITUDE = 0.0
  CENTER_LONGITUDE = 296.0
  COORDINATE_SYSTEM_NAME = PLANETOGRAPHIC
  COORDINATE_SYSTEM_TYPE = "BODY-FIXED ROTATING"
  EASTERNMOST_LONGITUDE = 297.423
  FIRST_STANDARD_PARALLEL = "N/A"
  LINE_FIRST_PIXEL = 1
  LINE_LAST_PIXEL = 5983
  LINE_PROJECTION_OFFSET = -21400.125
  MAP_PROJECTION_ROTATION = 0.0
  MAP_PROJECTION_TYPE = SINUSOIDAL
  MAP_RESOLUTION = 592.713803866667
  MAP_SCALE = 0.1
  MAXIMUM_LATITUDE = -36.1014
  MINIMUM_LATITUDE = -46.1793
  POSITIVE_LONGITUDE_DIRECTION = EAST
  REFERENCE_LATITUDE = "N/A"
  REFERENCE_LONGITUDE = "N/A"
  SAMPLE_FIRST_PIXEL = 1
  SAMPLE_LAST_PIXEL = 1563
  SAMPLE_PROJECTION_OFFSET = 878.625
  SECOND_STANDARD_PARALLEL = "N/A"
  WESTERNMOST_LONGITUDE = 294.169
END_OBJECT = IMAGE_MAP_PROJECTION
/* The JPEG2000 image data file associated with this label. */
OBJECT = COMPRESSED_FILE
  FILE_NAME = "H8677_0000_GR3.JP2"
  RECORD_TYPE = UNDEFINED
  FILE_RECORDS = UNK
  ENCODING_TYPE = "JP2"
  INTERCHANGE_FORMAT = BINARY
  UNCOMPRESSED_FILE_NAME = "H8677_0000_GR3.IMG"
  REQUIRED_STORAGE_BYTES = "9371748"
  ^DESCRIPTION = "JP2INFO.TXT"
END_OBJECT = COMPRESSED_FILE
END
