PDS_VERSION_ID = PDS3
/* FILE DATA ELEMENTS */
RECORD_TYPE = STREAM
/* POINTERS TO DATA OBJECTS */
^COMPRESSED_FILE = "H8687_0000_IR3.JP2"
/* IDENTIFICATION DATA ELEMENTS */
DATA_SET_ID = "MEX-M-HRSC-5-REFDR-MAPPROJECTED-V3.0"
DATA_SET_NAME = "MARS EXPRESS HRSC MAP PROJECTED REFDR V3.0"
DETECTOR_ID = MEX_HRSC_IR
EVENT_TYPE = "MARS-REGIONAL-MAPPING-Im-Fl-Gl"
INSTRUMENT_HOST_ID = MEX
INSTRUMENT_HOST_NAME = "MARS EXPRESS"
INSTRUMENT_ID = HRSC
INSTRUMENT_NAME = "HIGH RESOLUTION STEREO CAMERA"
MISSION_NAME = "MARS EXPRESS"
MISSION_PHASE_NAME = ME_Phase_21
PROCESSING_LEVEL_ID = 3
PRODUCT_CREATION_TIME = 2016-10-25T23:07:55.000Z
PRODUCT_ID = "H8687_0000_IR3.JP2"
RELEASE_ID = 0092
REVISION_ID = 0000
/* QUALITY DATA ELEMENTS */
DATA_QUALITY_ID = 1
DATA_QUALITY_DESC = "Data calculated based on original SPICE kernels"
/* TIME DATA ELEMENTS */
SPACECRAFT_CLOCK_START_COUNT = "1/0235432017.07294"
SPACECRAFT_CLOCK_STOP_COUNT = "1/0235432470.19608"
START_TIME = 2010-10-17T21:49:26.806Z
STOP_TIME = 2010-10-17T21:53:56.954Z
/* ORBITAL DATA ELEMENTS */
ASCENDING_NODE_LONGITUDE = 51.39
MAXIMUM_RESOLUTION = 137
FOOTPRINT_POINT_LATITUDE = (-38.3812,-38.3811,-38.3807,-38.3799, -38.3772,-38.3731,-38.3676,-38.364, -38.393,-38.1482,-37.7797,-37.5372, -37.2963,-37.0562,-36.6982,-36.4604, -36.104,-35.7511,-35.5163,-35.2831, -35.0504,-34.8186,-34.5881,-34.2466, -34.0188,-33.791,-33.5652,-33.3406, -33.1164,-32.8933,-32.6709,-32.4498, -32.23,-31.9006,-31.5736,-31.3564, -31.1405,-30.9249,-30.4985,-30.0741, -29.6538,-29.1344,-28.7231,-28.3146, -27.7077,-27.31,-27.2778,-27.2702, -27.264,-27.2582,-27.2527,-27.246, -27.2396,-27.2308,-27.2197,-27.2126, -27.2054,-27.2963,-27.7018,-28.0066, -28.4176,-28.8327,-29.2499,-29.6709, -29.8847,-30.0982,-30.312,-30.5268, -30.7428,-30.9593,-31.1764,-31.3947, -31.7264,-31.9524,-32.1732,-32.3906, -32.6147,-32.9514,-33.1776,-33.4045, -33.6319,-33.8599,-34.0895,-34.32, -34.5514,-34.784,-35.017,-35.3689, -35.604,-35.8408,-36.0785,-36.317, -36.5554,-36.7957,-37.1585,-37.5231, -37.767,-38.0138,-38.26,-38.3812)
FOOTPRINT_POINT_LONGITUDE = (354.464,354.191,353.919,353.647, 353.104,352.564,352.025,351.722,351.264 ,351.257,351.248,351.241,351.234, 351.227,351.215,351.207,351.195,351.182 ,351.174,351.165,351.156,351.146, 351.137,351.122,351.112,351.102,351.091 ,351.081,351.07,351.059,351.048,351.037 ,351.025,351.008,350.991,350.979, 350.967,350.955,350.93,350.905,350.879, 350.846,350.819,350.792,350.75,350.721, 351.058,351.528,351.913,352.212,352.554 ,352.939,353.239,353.582,354.097, 354.442,354.787,355.319,355.305,355.293 ,355.279,355.265,355.25,355.235,355.229 ,355.222,355.215,355.207,355.2,355.193, 355.185,355.177,355.167,355.163,355.155 ,355.144,355.137,355.125,355.118,355.11 ,355.102,355.094,355.086,355.078,355.07 ,355.062,355.054,355.042,355.033, 355.025,355.017,355.008,354.999,354.99, 354.977,354.964,354.955,354.947,354.938 ,354.464)
ORBIT_NUMBER = 8687
ORBITAL_ECCENTRICITY = 0.578
ORBITAL_INCLINATION = 86.84
ORBITAL_SEMIMAJOR_AXIS = 8761.27
PERIAPSIS_ALTITUDE = 320.69
PERIAPSIS_ARGUMENT_ANGLE = 277.68
PERIAPSIS_TIME = 2010-10-17T21:36:20.000Z
SPACECRAFT_ORIENTATION = (0.0,1.0,0.0)
^MEX_ORIENTATION_DESC = "MEX_ORIENTATION_DESC.TXT"
SPACECRAFT_POINTING_MODE = ACROSSTRACK
^MEX_POINTING_DESC = "MEX_POINTING_DESC.TXT"
RIGHT_ASCENSION = -1e+32
DECLINATION = -1e+32
OFFSET_ANGLE = -0.458
SPACECRAFT_SOLAR_DISTANCE = 2.2425e+08
TARGET_NAME = MARS
/* CAMERA DATA ELEMENTS */
DETECTOR_TEMPERATURE = 17.1471
FOCAL_PLANE_TEMPERATURE = 7.5638
INST_CMPRS_NAME = "DISCRETE COSINE TRANSFORMATION (DCT)"
INST_CMPRS_RATIO = 14.0023
INST_CMPRS_QUALITY = 0
INST_CMPRS_QUANTZ_TBL_ID = 0
INSTRUMENT_TEMPERATURE = 10.8262
LENS_TEMPERATURE = 8.1755
MACROPIXEL_SIZE = 4
MISSING_FRAMES = 0
PIXEL_SUBSAMPLING_FLAG = N
SIGNAL_CHAIN_ID = 2
/* RADIOMETRIC DATA ELEMENTS */
BANDWIDTH = 81.0
CENTER_FILTER_WAVELENGTH = 955.5
RADIANCE_OFFSET = 0.912164
RADIANCE_SCALING_FACTOR = 0.00408813
REFLECTANCE_SCALING_FACTOR = 0.000443517
MEX:REFLECTANCE_OFFSET = 0.0989598
/* IMAGE OBJECT DEFINITIONS */
OBJECT = IMAGE
  INTERCHANGE_FORMAT = BINARY
  LINES = 6651
  LINE_SAMPLES = 2094
  SAMPLE_TYPE = UNSIGNED_INTEGER
  SAMPLE_BITS = 8
  BANDS = 1
  BAND_STORAGE_TYPE = BAND_SEQUENTIAL
  MAXIMUM = 255
  MEAN = 116.92
  MINIMUM = 1
  STANDARD_DEVIATION = 32.3175
END_OBJECT = IMAGE
/* MAP OBJECT DEFINITIONS */
OBJECT = IMAGE_MAP_PROJECTION
  ^DATA_SET_MAP_PROJECTION_CATALOG= "DSMAP.CAT"
  A_AXIS_RADIUS = 3396.0
  B_AXIS_RADIUS = 3396.0
  C_AXIS_RADIUS = 3396.0
  CENTER_LATITUDE = 0.0
  CENTER_LONGITUDE = 353.0
  COORDINATE_SYSTEM_NAME = PLANETOGRAPHIC
  COORDINATE_SYSTEM_TYPE = "BODY-FIXED ROTATING"
  EASTERNMOST_LONGITUDE = 355.319
  FIRST_STANDARD_PARALLEL = "N/A"
  LINE_FIRST_PIXEL = 1
  LINE_LAST_PIXEL = 6651
  LINE_PROJECTION_OFFSET = -16128.875
  MAP_PROJECTION_ROTATION = 0.0
  MAP_PROJECTION_TYPE = SINUSOIDAL
  MAP_RESOLUTION = 592.713803866667
  MAP_SCALE = 0.1
  MAXIMUM_LATITUDE = -27.2054
  MINIMUM_LATITUDE = -38.393
  POSITIVE_LONGITUDE_DIRECTION = EAST
  REFERENCE_LATITUDE = "N/A"
  REFERENCE_LONGITUDE = "N/A"
  SAMPLE_FIRST_PIXEL = 1
  SAMPLE_LAST_PIXEL = 2094
  SAMPLE_PROJECTION_OFFSET = 1056.375
  SECOND_STANDARD_PARALLEL = "N/A"
  WESTERNMOST_LONGITUDE = 350.721
END_OBJECT = IMAGE_MAP_PROJECTION
/* The JPEG2000 image data file associated with this label. */
OBJECT = COMPRESSED_FILE
  FILE_NAME = "H8687_0000_IR3.JP2"
  RECORD_TYPE = UNDEFINED
  FILE_RECORDS = UNK
  ENCODING_TYPE = "JP2"
  INTERCHANGE_FORMAT = BINARY
  UNCOMPRESSED_FILE_NAME = "H8687_0000_IR3.IMG"
  REQUIRED_STORAGE_BYTES = "13948134"
  ^DESCRIPTION = "JP2INFO.TXT"
END_OBJECT = COMPRESSED_FILE
END
