PDS_VERSION_ID = PDS3
/* FILE DATA ELEMENTS */
RECORD_TYPE = STREAM
/* POINTERS TO DATA OBJECTS */
^COMPRESSED_FILE = "H8699_0000_RE3.JP2"
/* IDENTIFICATION DATA ELEMENTS */
DATA_SET_ID = "MEX-M-HRSC-5-REFDR-MAPPROJECTED-V3.0"
DATA_SET_NAME = "MARS EXPRESS HRSC MAP PROJECTED REFDR V3.0"
DETECTOR_ID = MEX_HRSC_RED
EVENT_TYPE = "MARS-REGIONAL-MAPPING-Te-Im-Fl"
INSTRUMENT_HOST_ID = MEX
INSTRUMENT_HOST_NAME = "MARS EXPRESS"
INSTRUMENT_ID = HRSC
INSTRUMENT_NAME = "HIGH RESOLUTION STEREO CAMERA"
MISSION_NAME = "MARS EXPRESS"
MISSION_PHASE_NAME = ME_Phase_21
PROCESSING_LEVEL_ID = 3
PRODUCT_CREATION_TIME = 2016-10-25T23:07:55.000Z
PRODUCT_ID = "H8699_0000_RE3.JP2"
RELEASE_ID = 0092
REVISION_ID = 0000
/* QUALITY DATA ELEMENTS */
DATA_QUALITY_ID = 2
DATA_QUALITY_DESC = "Data calculated based on photogrammetrically improved orbit and attitude data"
/* TIME DATA ELEMENTS */
SPACECRAFT_CLOCK_START_COUNT = "1/0235734033.07288"
SPACECRAFT_CLOCK_STOP_COUNT = "1/0235734586.49317"
START_TIME = 2010-10-21T09:40:44.201Z
STOP_TIME = 2010-10-21T09:45:56.805Z
/* ORBITAL DATA ELEMENTS */
ASCENDING_NODE_LONGITUDE = 51.16
MAXIMUM_RESOLUTION = 88.9
FOOTPRINT_POINT_LATITUDE = (-49.5877,-49.5913,-49.5869,-49.529, -49.0674,-48.603,-47.9849,-47.3559, -47.0305,-46.7085,-46.3805,-46.0552, -45.7245,-45.2282,-44.895,-44.5551, -44.0415,-43.6965,-43.3479,-42.8217, -42.4693,-42.1008,-41.7362,-41.3722, -41.0048,-40.6348,-40.2625,-39.8887, -39.5102,-39.1321,-38.7447,-38.1409, -37.7465,-37.3481,-36.9473,-36.5333, -35.9229,-35.5048,-35.0837,-34.6614, -34.2337,-33.801,-33.3647,-32.9246, -32.481,-32.0351,-31.584,-31.1279, -30.8654,-30.8596,-30.8496,-30.8398, -30.8216,-30.803,-30.79,-31.2505, -31.709,-32.1626,-32.6125,-33.0565, -33.4965,-33.9324,-34.3637,-34.7909, -35.2154,-35.6355,-36.0498,-36.4621, -36.8702,-37.2748,-37.6778,-38.0762, -38.6991,-39.0831,-39.4653,-39.8466, -40.2252,-40.5992,-40.9705,-41.3384, -41.7031,-42.2464,-42.7844,-43.1407, -43.4918,-44.0033,-44.3569,-44.6957, -45.2004,-45.7019,-46.0356,-46.3577, -46.6838,-47.0067,-47.3279,-47.6472, -47.972,-48.5945,-49.2087,-49.5877)
FOOTPRINT_POINT_LONGITUDE = (206.654,205.798,204.953,204.211, 204.225,204.238,204.254,204.268,204.274 ,204.279,204.284,204.289,204.293, 204.299,204.302,204.304,204.307,204.308 ,204.309,204.309,204.308,204.306, 204.304,204.301,204.298,204.295,204.291 ,204.287,204.282,204.277,204.27,204.261 ,204.253,204.245,204.236,204.225,204.21 ,204.198,204.186,204.173,204.16,204.145 ,204.13,204.114,204.098,204.081,204.064 ,204.045,204.644,205.096,205.646, 206.264,206.755,207.151,207.525,207.521 ,207.518,207.514,207.509,207.505, 207.501,207.496,207.491,207.486,207.48, 207.474,207.469,207.463,207.456,207.45, 207.442,207.435,207.419,207.415,207.409 ,207.401,207.394,207.386,207.378,207.37 ,207.362,207.348,207.333,207.322, 207.312,207.305,207.288,207.28,207.266, 207.25,207.237,207.23,207.22,207.208, 207.197,207.184,207.165,207.144,207.121 ,206.654)
ORBIT_NUMBER = 8699
ORBITAL_ECCENTRICITY = 0.578
ORBITAL_INCLINATION = 86.84
ORBITAL_SEMIMAJOR_AXIS = 8760.99
PERIAPSIS_ALTITUDE = 320.21
PERIAPSIS_ARGUMENT_ANGLE = 275.67
PERIAPSIS_TIME = 2010-10-21T09:32:21.000Z
SPACECRAFT_ORIENTATION = (0.0,1.0,0.0)
^MEX_ORIENTATION_DESC = "MEX_ORIENTATION_DESC.TXT"
SPACECRAFT_POINTING_MODE = ACROSSTRACK
^MEX_POINTING_DESC = "MEX_POINTING_DESC.TXT"
RIGHT_ASCENSION = -1e+32
DECLINATION = -1e+32
OFFSET_ANGLE = -0.687
SPACECRAFT_SOLAR_DISTANCE = 2.23569e+08
TARGET_NAME = MARS
/* CAMERA DATA ELEMENTS */
DETECTOR_TEMPERATURE = 19.39
FOCAL_PLANE_TEMPERATURE = 7.3599
INST_CMPRS_NAME = "DISCRETE COSINE TRANSFORMATION (DCT)"
INST_CMPRS_RATIO = 16.5651
INST_CMPRS_QUALITY = 0
INST_CMPRS_QUANTZ_TBL_ID = 0
INSTRUMENT_TEMPERATURE = 10.0106
LENS_TEMPERATURE = 7.9716
MACROPIXEL_SIZE = 4
MISSING_FRAMES = 2
PIXEL_SUBSAMPLING_FLAG = N
SIGNAL_CHAIN_ID = 2
/* RADIOMETRIC DATA ELEMENTS */
BANDWIDTH = 48.0
CENTER_FILTER_WAVELENGTH = 748.0
RADIANCE_OFFSET = 1.02097
RADIANCE_SCALING_FACTOR = 0.00350334
REFLECTANCE_SCALING_FACTOR = 0.000399605
MEX:REFLECTANCE_OFFSET = 0.116456
/* IMAGE OBJECT DEFINITIONS */
OBJECT = IMAGE
  INTERCHANGE_FORMAT = BINARY
  LINES = 11109
  LINE_SAMPLES = 2012
  SAMPLE_TYPE = UNSIGNED_INTEGER
  SAMPLE_BITS = 8
  BANDS = 1
  BAND_STORAGE_TYPE = BAND_SEQUENTIAL
  MAXIMUM = 255
  MEAN = 114.044
  MINIMUM = 1
  STANDARD_DEVIATION = 26.4069
END_OBJECT = IMAGE
/* MAP OBJECT DEFINITIONS */
OBJECT = IMAGE_MAP_PROJECTION
  ^DATA_SET_MAP_PROJECTION_CATALOG= "DSMAP.CAT"
  A_AXIS_RADIUS = 3396.0
  B_AXIS_RADIUS = 3396.0
  C_AXIS_RADIUS = 3396.0
  CENTER_LATITUDE = 0.0
  CENTER_LONGITUDE = 206.0
  COORDINATE_SYSTEM_NAME = PLANETOGRAPHIC
  COORDINATE_SYSTEM_TYPE = "BODY-FIXED ROTATING"
  EASTERNMOST_LONGITUDE = 207.525
  FIRST_STANDARD_PARALLEL = "N/A"
  LINE_FIRST_PIXEL = 1
  LINE_LAST_PIXEL = 11109
  LINE_PROJECTION_OFFSET = -18253.125
  MAP_PROJECTION_ROTATION = 0.0
  MAP_PROJECTION_TYPE = SINUSOIDAL
  MAP_RESOLUTION = 592.713803866667
  MAP_SCALE = 0.1
  MAXIMUM_LATITUDE = -30.79
  MINIMUM_LATITUDE = -49.5913
  POSITIVE_LONGITUDE_DIRECTION = EAST
  REFERENCE_LATITUDE = "N/A"
  REFERENCE_LONGITUDE = "N/A"
  SAMPLE_FIRST_PIXEL = 1
  SAMPLE_LAST_PIXEL = 2012
  SAMPLE_PROJECTION_OFFSET = 1122.625
  SECOND_STANDARD_PARALLEL = "N/A"
  WESTERNMOST_LONGITUDE = 204.045
END_OBJECT = IMAGE_MAP_PROJECTION
/* The JPEG2000 image data file associated with this label. */
OBJECT = COMPRESSED_FILE
  FILE_NAME = "H8699_0000_RE3.JP2"
  RECORD_TYPE = UNDEFINED
  FILE_RECORDS = UNK
  ENCODING_TYPE = "JP2"
  INTERCHANGE_FORMAT = BINARY
  UNCOMPRESSED_FILE_NAME = "H8699_0000_RE3.IMG"
  REQUIRED_STORAGE_BYTES = "22371428"
  ^DESCRIPTION = "JP2INFO.TXT"
END_OBJECT = COMPRESSED_FILE
END
