PDS_VERSION_ID = PDS3
/* FILE DATA ELEMENTS */
RECORD_TYPE = STREAM
/* POINTERS TO DATA OBJECTS */
^COMPRESSED_FILE = "H8704_0000_S13.JP2"
/* IDENTIFICATION DATA ELEMENTS */
DATA_SET_ID = "MEX-M-HRSC-5-REFDR-MAPPROJECTED-V3.0"
DATA_SET_NAME = "MARS EXPRESS HRSC MAP PROJECTED REFDR V3.0"
DETECTOR_ID = MEX_HRSC_S1
EVENT_TYPE = "MARS-REGIONAL-VARIABLE-Fl-Gl"
INSTRUMENT_HOST_ID = MEX
INSTRUMENT_HOST_NAME = "MARS EXPRESS"
INSTRUMENT_ID = HRSC
INSTRUMENT_NAME = "HIGH RESOLUTION STEREO CAMERA"
MISSION_NAME = "MARS EXPRESS"
MISSION_PHASE_NAME = ME_Phase_21
PROCESSING_LEVEL_ID = 3
PRODUCT_CREATION_TIME = 2016-10-26T07:44:53.000Z
PRODUCT_ID = "H8704_0000_S13.JP2"
RELEASE_ID = 0093
REVISION_ID = 0000
/* QUALITY DATA ELEMENTS */
DATA_QUALITY_ID = 1
DATA_QUALITY_DESC = "Data calculated based on original SPICE kernels"
/* TIME DATA ELEMENTS */
SPACECRAFT_CLOCK_START_COUNT = "1/0235859988.08243"
SPACECRAFT_CLOCK_STOP_COUNT = "1/0235860518.39618"
START_TIME = 2010-10-22T20:42:05.201Z
STOP_TIME = 2010-10-22T20:48:39.311Z
/* ORBITAL DATA ELEMENTS */
ASCENDING_NODE_LONGITUDE = 51.06
MAXIMUM_RESOLUTION = 60.7
FOOTPRINT_POINT_LATITUDE = (-46.8151,-46.8105,-46.8042,-46.7898, -46.779,-46.6829,-46.3099,-45.938, -45.5726,-45.0244,-44.662,-44.301, -43.9428,-43.5857,-43.2317,-42.8793, -42.5287,-42.1799,-41.8334,-41.4891, -41.1467,-40.8068,-40.3005,-39.9672, -39.6353,-39.1396,-38.812,-38.4873, -38.1655,-37.8445,-37.5259,-37.0505, -36.7361,-36.4232,-36.1131,-35.8059, -35.3399,-35.0268,-34.725,-34.2774, -33.9782,-33.3887,-32.9468,-32.2212, -31.6604,-31.2378,-30.6348,-30.6197, -30.6259,-30.6127,-30.6006,-30.5877, -30.5794,-30.5698,-30.5585,-30.5499, -31.1202,-31.6813,-32.2608,-32.5601, -33.0012,-33.2957,-33.5907,-33.8885, -34.1882,-34.49,-34.7945,-35.1,-35.4068 ,-35.7165,-36.029,-36.3424,-36.6575, -36.9743,-37.2942,-37.6141,-37.9403, -38.2643,-38.5858,-38.9177,-39.2451, -39.5776,-39.9127,-40.251,-40.5909, -41.1031,-41.6209,-41.9701,-42.3204, -42.6717,-43.0238,-43.5597,-43.9195, -44.2777,-44.8274,-45.1976,-45.744, -46.1216,-46.4951,-46.8151)
FOOTPRINT_POINT_LONGITUDE = (54.7546,54.2004,53.6466,52.713,52.1596 ,51.4042,51.4124,51.4201,51.4248,51.432 ,51.4356,51.4387,51.4407,51.4424, 51.4428,51.4428,51.4422,51.4411,51.4391 ,51.4365,51.4333,51.4293,51.4224, 51.4163,51.41,51.4003,51.393,51.3849, 51.3759,51.367,51.3574,51.3428,51.3325, 51.322,51.3107,51.2987,51.2834,51.2745, 51.2618,51.2414,51.2286,51.2008,51.1808 ,51.1455,51.1119,51.0885,51.2423, 51.6738,52.3849,53.0041,53.6708,54.0996 ,54.7207,55.1508,55.5329,55.9822, 55.9595,55.9297,55.904,55.8939,55.8738, 55.8595,55.8444,55.8296,55.8147,55.7997 ,55.785,55.7697,55.7539,55.7385,55.7231 ,55.7072,55.691,55.6745,55.6583,55.641, 55.6254,55.6077,55.5879,55.5714,55.5519 ,55.5335,55.515,55.4967,55.478,55.4487, 55.4191,55.3996,55.3792,55.3581,55.336, 55.3039,55.2819,55.2579,55.2247,55.2024 ,55.1625,55.14,55.1142,54.7546)
ORBIT_NUMBER = 8704
ORBITAL_ECCENTRICITY = 0.578
ORBITAL_INCLINATION = 86.83
ORBITAL_SEMIMAJOR_AXIS = 8761.25
PERIAPSIS_ALTITUDE = 320.43
PERIAPSIS_ARGUMENT_ANGLE = 274.82
PERIAPSIS_TIME = 2010-10-22T20:30:41.000Z
SPACECRAFT_ORIENTATION = (0.0,1.0,0.0)
^MEX_ORIENTATION_DESC = "MEX_ORIENTATION_DESC.TXT"
SPACECRAFT_POINTING_MODE = NADIR
^MEX_POINTING_DESC = "MEX_POINTING_DESC.TXT"
RIGHT_ASCENSION = -1e+32
DECLINATION = -1e+32
OFFSET_ANGLE = -1e+32
SPACECRAFT_SOLAR_DISTANCE = 2.23287e+08
TARGET_NAME = MARS
/* CAMERA DATA ELEMENTS */
DETECTOR_TEMPERATURE = 16.9432
FOCAL_PLANE_TEMPERATURE = 7.5638
INST_CMPRS_NAME = "DISCRETE COSINE TRANSFORMATION (DCT)"
INST_CMPRS_RATIO = 12.5241
INST_CMPRS_QUALITY = 0
INST_CMPRS_QUANTZ_TBL_ID = 0
INSTRUMENT_TEMPERATURE = 11.0301
LENS_TEMPERATURE = 7.9716
MACROPIXEL_SIZE = 2
MISSING_FRAMES = 0
PIXEL_SUBSAMPLING_FLAG = N
SIGNAL_CHAIN_ID = 1
/* RADIOMETRIC DATA ELEMENTS */
BANDWIDTH = 180.0
CENTER_FILTER_WAVELENGTH = 677.0
RADIANCE_OFFSET = 5.90795
RADIANCE_SCALING_FACTOR = 0.0145419
REFLECTANCE_SCALING_FACTOR = 0.000378255
MEX:REFLECTANCE_OFFSET = 0.153674
/* IMAGE OBJECT DEFINITIONS */
OBJECT = IMAGE
  INTERCHANGE_FORMAT = BINARY
  LINES = 19360
  LINE_SAMPLES = 4105
  SAMPLE_TYPE = UNSIGNED_INTEGER
  SAMPLE_BITS = 8
  BANDS = 1
  BAND_STORAGE_TYPE = BAND_SEQUENTIAL
  MAXIMUM = 255
  MEAN = 152.992
  MINIMUM = 1
  STANDARD_DEVIATION = 41.8993
END_OBJECT = IMAGE
/* MAP OBJECT DEFINITIONS */
OBJECT = IMAGE_MAP_PROJECTION
  ^DATA_SET_MAP_PROJECTION_CATALOG= "DSMAP.CAT"
  A_AXIS_RADIUS = 3396.0
  B_AXIS_RADIUS = 3396.0
  C_AXIS_RADIUS = 3396.0
  CENTER_LATITUDE = 0.0
  CENTER_LONGITUDE = 53.0
  COORDINATE_SYSTEM_NAME = PLANETOGRAPHIC
  COORDINATE_SYSTEM_TYPE = "BODY-FIXED ROTATING"
  EASTERNMOST_LONGITUDE = 55.9822
  FIRST_STANDARD_PARALLEL = "N/A"
  LINE_FIRST_PIXEL = 1
  LINE_LAST_PIXEL = 19360
  LINE_PROJECTION_OFFSET = -36247.25
  MAP_PROJECTION_ROTATION = 0.0
  MAP_PROJECTION_TYPE = SINUSOIDAL
  MAP_RESOLUTION = 1185.42760773333
  MAP_SCALE = 0.05
  MAXIMUM_LATITUDE = -30.5499
  MINIMUM_LATITUDE = -46.8151
  POSITIVE_LONGITUDE_DIRECTION = EAST
  REFERENCE_LATITUDE = "N/A"
  REFERENCE_LONGITUDE = "N/A"
  SAMPLE_FIRST_PIXEL = 1
  SAMPLE_LAST_PIXEL = 4105
  SAMPLE_PROJECTION_OFFSET = 1600.25
  SECOND_STANDARD_PARALLEL = "N/A"
  WESTERNMOST_LONGITUDE = 51.0885
END_OBJECT = IMAGE_MAP_PROJECTION
/* The JPEG2000 image data file associated with this label. */
OBJECT = COMPRESSED_FILE
  FILE_NAME = "H8704_0000_S13.JP2"
  RECORD_TYPE = UNDEFINED
  FILE_RECORDS = UNK
  ENCODING_TYPE = "JP2"
  INTERCHANGE_FORMAT = BINARY
  UNCOMPRESSED_FILE_NAME = "H8704_0000_S13.IMG"
  REQUIRED_STORAGE_BYTES = "79497430"
  ^DESCRIPTION = "JP2INFO.TXT"
END_OBJECT = COMPRESSED_FILE
END
