PDS_VERSION_ID = PDS3
/* FILE DATA ELEMENTS */
RECORD_TYPE = STREAM
/* POINTERS TO DATA OBJECTS */
^COMPRESSED_FILE = "H8708_0000_S13.JP2"
/* IDENTIFICATION DATA ELEMENTS */
DATA_SET_ID = "MEX-M-HRSC-5-REFDR-MAPPROJECTED-V3.0"
DATA_SET_NAME = "MARS EXPRESS HRSC MAP PROJECTED REFDR V3.0"
DETECTOR_ID = MEX_HRSC_S1
EVENT_TYPE = "MARS-REGIONAL-MAPPING-Im-Fl-Gl"
INSTRUMENT_HOST_ID = MEX
INSTRUMENT_HOST_NAME = "MARS EXPRESS"
INSTRUMENT_ID = HRSC
INSTRUMENT_NAME = "HIGH RESOLUTION STEREO CAMERA"
MISSION_NAME = "MARS EXPRESS"
MISSION_PHASE_NAME = ME_Phase_21
PROCESSING_LEVEL_ID = 3
PRODUCT_CREATION_TIME = 2016-10-26T07:44:53.000Z
PRODUCT_ID = "H8708_0000_S13.JP2"
RELEASE_ID = 0093
REVISION_ID = 0000
/* QUALITY DATA ELEMENTS */
DATA_QUALITY_ID = 1
DATA_QUALITY_DESC = "Data calculated based on original SPICE kernels"
/* TIME DATA ELEMENTS */
SPACECRAFT_CLOCK_START_COUNT = "1/0235960781.07302"
SPACECRAFT_CLOCK_STOP_COUNT = "1/0235961372.03368"
START_TIME = 2010-10-24T00:42:24.279Z
STOP_TIME = 2010-10-24T00:49:32.770Z
/* ORBITAL DATA ELEMENTS */
ASCENDING_NODE_LONGITUDE = 50.99
MAXIMUM_RESOLUTION = 69.8
FOOTPRINT_POINT_LATITUDE = (-42.8351,-42.8348,-42.8327,-42.8263, -42.8199,-42.8117,-42.4864,-42.1204, -41.7436,-41.3636,-40.9973,-40.6331, -40.2712,-39.9136,-39.5568,-39.2033, -38.8508,-38.5016,-38.1541,-37.8091, -37.4665,-37.1263,-36.7876,-36.4531, -36.1206,-35.7899,-35.461,-35.1347, -34.8102,-34.4893,-34.17,-33.8525, -33.3787,-33.071,-32.6091,-32.3038, -32.0003,-31.6997,-31.4021,-31.1062, -30.6649,-30.0864,-29.6704,-29.0969, -28.5423,-27.9975,-27.459,-26.9284, -26.891,-26.865,-26.8374,-26.8164, -26.7915,-26.7638,-26.7475,-26.7225, -26.7019,-27.2446,-27.6584,-28.2259, -28.7816,-29.3519,-29.6404,-29.9324, -30.2257,-30.5209,-30.8185,-31.1182, -31.5714,-32.0299,-32.3394,-32.6507, -32.9641,-33.2791,-33.7518,-34.0709, -34.3961,-34.7219,-35.0517,-35.382, -35.7144,-36.0494,-36.3868,-36.7263, -37.0677,-37.4115,-37.7567,-38.1051, -38.4555,-38.8098,-39.1657,-39.7029, -40.0621,-40.4238,-40.9762,-41.3466, -41.7215,-42.285,-42.664,-42.8351)
FOOTPRINT_POINT_LONGITUDE = (5.7309,5.20309,4.56255,3.65914,3.05642 ,2.45266,2.26258,2.25649,2.25567, 2.25658,2.25172,2.2463,2.24031,2.23285, 2.22548,2.21711,2.20873,2.19943,2.1898, 2.17966,2.16891,2.15771,2.14629,2.1337, 2.12075,2.10757,2.09416,2.08017,2.06599 ,2.05088,2.03565,2.02021,1.99698, 1.97911,1.9533,1.93574,1.918,1.89969, 1.88077,1.86173,1.83317,1.79332,1.75861 ,1.72025,1.67741,1.63319,1.58871,1.5435 ,2.02345,2.77379,3.52203,4.10865, 4.80252,5.54998,5.97719,6.56453,7.06502 ,7.0361,7.01499,6.99037,6.95732,6.92677 ,6.91151,6.89674,6.88164,6.86632,6.8511 ,6.83574,6.81242,6.78907,6.7738,6.7583, 6.74263,6.72659,6.70063,6.68363,6.66809 ,6.65173,6.63591,6.61919,6.6022,6.58515 ,6.56792,6.5504,6.5325,6.5144,6.49567, 6.47701,6.458,6.43934,6.42005,6.39007, 6.36886,6.34739,6.3168,6.29558,6.27485, 6.24153,6.21893,5.7309)
ORBIT_NUMBER = 8708
ORBITAL_ECCENTRICITY = 0.578
ORBITAL_INCLINATION = 86.84
ORBITAL_SEMIMAJOR_AXIS = 8760.51
PERIAPSIS_ALTITUDE = 320.87
PERIAPSIS_ARGUMENT_ANGLE = 274.13
PERIAPSIS_TIME = 2010-10-24T00:29:19.000Z
SPACECRAFT_ORIENTATION = (0.0,1.0,0.0)
^MEX_ORIENTATION_DESC = "MEX_ORIENTATION_DESC.TXT"
SPACECRAFT_POINTING_MODE = NADIR
^MEX_POINTING_DESC = "MEX_POINTING_DESC.TXT"
RIGHT_ASCENSION = -1e+32
DECLINATION = -1e+32
OFFSET_ANGLE = -1e+32
SPACECRAFT_SOLAR_DISTANCE = 2.23061e+08
TARGET_NAME = MARS
/* CAMERA DATA ELEMENTS */
DETECTOR_TEMPERATURE = 17.1471
FOCAL_PLANE_TEMPERATURE = 7.5638
INST_CMPRS_NAME = "DISCRETE COSINE TRANSFORMATION (DCT)"
INST_CMPRS_RATIO = 11.5583
INST_CMPRS_QUALITY = 0
INST_CMPRS_QUANTZ_TBL_ID = 0
INSTRUMENT_TEMPERATURE = 11.0301
LENS_TEMPERATURE = 7.9716
MACROPIXEL_SIZE = 2
MISSING_FRAMES = 0
PIXEL_SUBSAMPLING_FLAG = N
SIGNAL_CHAIN_ID = 1
/* RADIOMETRIC DATA ELEMENTS */
BANDWIDTH = 180.0
CENTER_FILTER_WAVELENGTH = 677.0
RADIANCE_OFFSET = 5.15717
RADIANCE_SCALING_FACTOR = 0.0186854
REFLECTANCE_SCALING_FACTOR = 0.00048505
MEX:REFLECTANCE_OFFSET = 0.133874
/* IMAGE OBJECT DEFINITIONS */
OBJECT = IMAGE
  INTERCHANGE_FORMAT = BINARY
  LINES = 19128
  LINE_SAMPLES = 4671
  SAMPLE_TYPE = UNSIGNED_INTEGER
  SAMPLE_BITS = 8
  BANDS = 1
  BAND_STORAGE_TYPE = BAND_SEQUENTIAL
  MAXIMUM = 255
  MEAN = 126.003
  MINIMUM = 1
  STANDARD_DEVIATION = 54.1123
END_OBJECT = IMAGE
/* MAP OBJECT DEFINITIONS */
OBJECT = IMAGE_MAP_PROJECTION
  ^DATA_SET_MAP_PROJECTION_CATALOG= "DSMAP.CAT"
  A_AXIS_RADIUS = 3396.0
  B_AXIS_RADIUS = 3396.0
  C_AXIS_RADIUS = 3396.0
  CENTER_LATITUDE = 0.0
  CENTER_LONGITUDE = 4.0
  COORDINATE_SYSTEM_NAME = PLANETOGRAPHIC
  COORDINATE_SYSTEM_TYPE = "BODY-FIXED ROTATING"
  EASTERNMOST_LONGITUDE = 7.06502
  FIRST_STANDARD_PARALLEL = "N/A"
  LINE_FIRST_PIXEL = 1
  LINE_LAST_PIXEL = 19128
  LINE_PROJECTION_OFFSET = -31740.75
  MAP_PROJECTION_ROTATION = 0.0
  MAP_PROJECTION_TYPE = SINUSOIDAL
  MAP_RESOLUTION = 1185.42760773333
  MAP_SCALE = 0.05
  MAXIMUM_LATITUDE = -26.7019
  MINIMUM_LATITUDE = -42.8351
  POSITIVE_LONGITUDE_DIRECTION = EAST
  REFERENCE_LATITUDE = "N/A"
  REFERENCE_LONGITUDE = "N/A"
  SAMPLE_FIRST_PIXEL = 1
  SAMPLE_LAST_PIXEL = 4671
  SAMPLE_PROJECTION_OFFSET = 2112.75
  SECOND_STANDARD_PARALLEL = "N/A"
  WESTERNMOST_LONGITUDE = 1.5435
END_OBJECT = IMAGE_MAP_PROJECTION
/* The JPEG2000 image data file associated with this label. */
OBJECT = COMPRESSED_FILE
  FILE_NAME = "H8708_0000_S13.JP2"
  RECORD_TYPE = UNDEFINED
  FILE_RECORDS = UNK
  ENCODING_TYPE = "JP2"
  INTERCHANGE_FORMAT = BINARY
  UNCOMPRESSED_FILE_NAME = "H8708_0000_S13.IMG"
  REQUIRED_STORAGE_BYTES = "89374914"
  ^DESCRIPTION = "JP2INFO.TXT"
END_OBJECT = COMPRESSED_FILE
END
