PDS_VERSION_ID = PDS3
/* FILE DATA ELEMENTS */
RECORD_TYPE = STREAM
/* POINTERS TO DATA OBJECTS */
^COMPRESSED_FILE = "H8714_0000_IR3.JP2"
/* IDENTIFICATION DATA ELEMENTS */
DATA_SET_ID = "MEX-M-HRSC-5-REFDR-MAPPROJECTED-V3.0"
DATA_SET_NAME = "MARS EXPRESS HRSC MAP PROJECTED REFDR V3.0"
DETECTOR_ID = MEX_HRSC_IR
EVENT_TYPE = "MARS-REGIONAL-MAPPING-Im-Fl-Mw"
INSTRUMENT_HOST_ID = MEX
INSTRUMENT_HOST_NAME = "MARS EXPRESS"
INSTRUMENT_ID = HRSC
INSTRUMENT_NAME = "HIGH RESOLUTION STEREO CAMERA"
MISSION_NAME = "MARS EXPRESS"
MISSION_PHASE_NAME = ME_Phase_21
PROCESSING_LEVEL_ID = 3
PRODUCT_CREATION_TIME = 2016-10-26T07:44:53.000Z
PRODUCT_ID = "H8714_0000_IR3.JP2"
RELEASE_ID = 0093
REVISION_ID = 0000
/* QUALITY DATA ELEMENTS */
DATA_QUALITY_ID = 1
DATA_QUALITY_DESC = "Data calculated based on original SPICE kernels"
/* TIME DATA ELEMENTS */
SPACECRAFT_CLOCK_START_COUNT = "1/0236111690.09051"
SPACECRAFT_CLOCK_STOP_COUNT = "1/0236112203.07596"
START_TIME = 2010-10-25T18:36:29.426Z
STOP_TIME = 2010-10-25T18:42:57.461Z
/* ORBITAL DATA ELEMENTS */
ASCENDING_NODE_LONGITUDE = 50.88
MAXIMUM_RESOLUTION = 95.6
FOOTPRINT_POINT_LATITUDE = (-54.6628,-54.6362,-54.6032,-54.578, -53.9743,-53.4901,-53.1598,-52.6568, -52.3201,-51.9815,-51.642,-51.1315, -50.7875,-50.4396,-50.0889,-49.5561, -49.1992,-48.8382,-48.4739,-48.1097, -47.7407,-47.3644,-46.9917,-46.6114, -46.2206,-45.841,-45.4566,-45.0658, -44.4723,-44.074,-43.6808,-43.0926, -42.5084,-41.7307,-41.3403,-40.7869, -40.4136,-40.035,-39.663,-39.1102, -38.7497,-38.3882,-38.0329,-37.6741, -37.3074,-36.7835,-36.4358,-36.4295, -36.4321,-36.4307,-36.4277,-36.421, -36.4158,-36.7666,-37.1219,-37.6595, -38.0177,-38.3912,-38.7565,-39.2988, -39.6704,-40.0432,-40.6119,-40.9928, -41.3742,-41.7585,-42.1527,-42.5358, -42.9212,-43.3216,-43.7184,-44.3177, -44.7183,-45.1157,-45.5063,-46.0938, -46.4767,-46.8609,-47.2429,-47.6191, -47.9921,-48.363,-48.7227,-49.0886, -49.4515,-49.8093,-50.1642,-50.5161, -50.8662,-51.2153,-51.5659,-51.914, -52.2548,-52.5934,-52.9288,-53.2632, -53.5925,-54.2417,-54.725,-54.6628)
FOOTPRINT_POINT_LONGITUDE = (111.317,110.3,109.289,108.627,108.512, 108.543,108.565,108.599,108.619,108.638 ,108.656,108.678,108.693,108.707, 108.721,108.74,108.752,108.763,108.773, 108.781,108.789,108.799,108.804,108.811 ,108.821,108.823,108.824,108.827, 108.829,108.829,108.827,108.824,108.82, 108.814,108.813,108.797,108.789,108.783 ,108.775,108.762,108.75,108.739,108.726 ,108.714,108.707,108.685,108.671, 109.364,110.179,110.831,111.404,112.306 ,112.799,113.045,113.029,113.006, 112.988,112.978,112.961,112.93,112.913, 112.895,112.87,112.852,112.833,112.814, 112.799,112.775,112.751,112.734,112.713 ,112.681,112.659,112.636,112.612, 112.579,112.555,112.532,112.51,112.486, 112.462,112.438,112.409,112.385,112.361 ,112.334,112.307,112.281,112.254, 112.228,112.205,112.181,112.154,112.126 ,112.099,112.07,112.04,111.977,111.931, 111.317)
ORBIT_NUMBER = 8714
ORBITAL_ECCENTRICITY = 0.578
ORBITAL_INCLINATION = 86.84
ORBITAL_SEMIMAJOR_AXIS = 8760.68
PERIAPSIS_ALTITUDE = 320.1
PERIAPSIS_ARGUMENT_ANGLE = 273.12
PERIAPSIS_TIME = 2010-10-25T18:27:19.000Z
SPACECRAFT_ORIENTATION = (0.0,1.0,0.0)
^MEX_ORIENTATION_DESC = "MEX_ORIENTATION_DESC.TXT"
SPACECRAFT_POINTING_MODE = ACROSSTRACK
^MEX_POINTING_DESC = "MEX_POINTING_DESC.TXT"
RIGHT_ASCENSION = -1e+32
DECLINATION = -1e+32
OFFSET_ANGLE = -0.229
SPACECRAFT_SOLAR_DISTANCE = 2.22723e+08
TARGET_NAME = MARS
/* CAMERA DATA ELEMENTS */
DETECTOR_TEMPERATURE = 16.9432
FOCAL_PLANE_TEMPERATURE = 7.3599
INST_CMPRS_NAME = "DISCRETE COSINE TRANSFORMATION (DCT)"
INST_CMPRS_RATIO = 15.1825
INST_CMPRS_QUALITY = 0
INST_CMPRS_QUANTZ_TBL_ID = 0
INSTRUMENT_TEMPERATURE = 10.8262
LENS_TEMPERATURE = 7.9716
MACROPIXEL_SIZE = 4
MISSING_FRAMES = 0
PIXEL_SUBSAMPLING_FLAG = N
SIGNAL_CHAIN_ID = 2
/* RADIOMETRIC DATA ELEMENTS */
BANDWIDTH = 81.0
CENTER_FILTER_WAVELENGTH = 955.5
RADIANCE_OFFSET = 1.25251
RADIANCE_SCALING_FACTOR = 0.00569324
REFLECTANCE_SCALING_FACTOR = 0.000609272
MEX:REFLECTANCE_OFFSET = 0.13404
/* IMAGE OBJECT DEFINITIONS */
OBJECT = IMAGE
  INTERCHANGE_FORMAT = BINARY
  LINES = 10853
  LINE_SAMPLES = 1850
  SAMPLE_TYPE = UNSIGNED_INTEGER
  SAMPLE_BITS = 8
  BANDS = 1
  BAND_STORAGE_TYPE = BAND_SEQUENTIAL
  MAXIMUM = 255
  MEAN = 89.7935
  MINIMUM = 1
  STANDARD_DEVIATION = 36.8655
END_OBJECT = IMAGE
/* MAP OBJECT DEFINITIONS */
OBJECT = IMAGE_MAP_PROJECTION
  ^DATA_SET_MAP_PROJECTION_CATALOG= "DSMAP.CAT"
  A_AXIS_RADIUS = 3396.0
  B_AXIS_RADIUS = 3396.0
  C_AXIS_RADIUS = 3396.0
  CENTER_LATITUDE = 0.0
  CENTER_LONGITUDE = 111.0
  COORDINATE_SYSTEM_NAME = PLANETOGRAPHIC
  COORDINATE_SYSTEM_TYPE = "BODY-FIXED ROTATING"
  EASTERNMOST_LONGITUDE = 113.045
  FIRST_STANDARD_PARALLEL = "N/A"
  LINE_FIRST_PIXEL = 1
  LINE_LAST_PIXEL = 10853
  LINE_PROJECTION_OFFSET = -21596.375
  MAP_PROJECTION_ROTATION = 0.0
  MAP_PROJECTION_TYPE = SINUSOIDAL
  MAP_RESOLUTION = 592.713803866667
  MAP_SCALE = 0.1
  MAXIMUM_LATITUDE = -36.4158
  MINIMUM_LATITUDE = -54.725
  POSITIVE_LONGITUDE_DIRECTION = EAST
  REFERENCE_LATITUDE = "N/A"
  REFERENCE_LONGITUDE = "N/A"
  SAMPLE_FIRST_PIXEL = 1
  SAMPLE_LAST_PIXEL = 1850
  SAMPLE_PROJECTION_OFFSET = 1007.875
  SECOND_STANDARD_PARALLEL = "N/A"
  WESTERNMOST_LONGITUDE = 108.512
END_OBJECT = IMAGE_MAP_PROJECTION
/* The JPEG2000 image data file associated with this label. */
OBJECT = COMPRESSED_FILE
  FILE_NAME = "H8714_0000_IR3.JP2"
  RECORD_TYPE = UNDEFINED
  FILE_RECORDS = UNK
  ENCODING_TYPE = "JP2"
  INTERCHANGE_FORMAT = BINARY
  UNCOMPRESSED_FILE_NAME = "H8714_0000_IR3.IMG"
  REQUIRED_STORAGE_BYTES = "20098400"
  ^DESCRIPTION = "JP2INFO.TXT"
END_OBJECT = COMPRESSED_FILE
END
