PDS_VERSION_ID = PDS3
/* FILE DATA ELEMENTS */
RECORD_TYPE = STREAM
/* POINTERS TO DATA OBJECTS */
^COMPRESSED_FILE = "H8714_0000_P23.JP2"
/* IDENTIFICATION DATA ELEMENTS */
DATA_SET_ID = "MEX-M-HRSC-5-REFDR-MAPPROJECTED-V3.0"
DATA_SET_NAME = "MARS EXPRESS HRSC MAP PROJECTED REFDR V3.0"
DETECTOR_ID = MEX_HRSC_P2
EVENT_TYPE = "MARS-REGIONAL-MAPPING-Im-Fl-Mw"
INSTRUMENT_HOST_ID = MEX
INSTRUMENT_HOST_NAME = "MARS EXPRESS"
INSTRUMENT_ID = HRSC
INSTRUMENT_NAME = "HIGH RESOLUTION STEREO CAMERA"
MISSION_NAME = "MARS EXPRESS"
MISSION_PHASE_NAME = ME_Phase_21
PROCESSING_LEVEL_ID = 3
PRODUCT_CREATION_TIME = 2016-10-26T07:44:53.000Z
PRODUCT_ID = "H8714_0000_P23.JP2"
RELEASE_ID = 0093
REVISION_ID = 0000
/* QUALITY DATA ELEMENTS */
DATA_QUALITY_ID = 1
DATA_QUALITY_DESC = "Data calculated based on original SPICE kernels"
/* TIME DATA ELEMENTS */
SPACECRAFT_CLOCK_START_COUNT = "1/0236111690.09051"
SPACECRAFT_CLOCK_STOP_COUNT = "1/0236112203.07596"
START_TIME = 2010-10-25T18:35:08.577Z
STOP_TIME = 2010-10-25T18:40:15.615Z
/* ORBITAL DATA ELEMENTS */
ASCENDING_NODE_LONGITUDE = 50.88
MAXIMUM_RESOLUTION = 41.4
FOOTPRINT_POINT_LATITUDE = (-54.7943,-54.7764,-54.7386,-54.3788, -53.9286,-53.4661,-53.1589,-52.6915, -52.3793,-52.064,-51.7513,-51.4324, -51.1068,-50.7784,-50.4511,-50.1201, -49.7889,-49.4527,-48.945,-48.6044, -48.2576,-47.7352,-47.388,-47.03, -46.4973,-45.9539,-45.4029,-45.033, -44.6585,-44.2858,-43.9056,-43.5202, -43.1336,-42.7388,-42.3499,-41.9545, -41.5608,-41.1462,-40.7366,-40.3232, -39.7014,-39.2787,-38.8524,-38.4238, -37.9852,-37.333,-36.8937,-36.4386, -36.4424,-36.4514,-36.4516,-36.4479, -36.4412,-36.435,-36.8748,-37.3168, -37.76,-38.2011,-38.6266,-39.0617, -39.4913,-39.9146,-40.3337,-40.7444, -41.3586,-41.7624,-42.1584,-42.5632, -42.9565,-43.3455,-43.732,-44.1157, -44.4965,-44.8725,-45.4319,-45.9845, -46.3519,-46.7133,-47.0677,-47.4232, -47.7752,-48.3004,-48.8218,-49.1636, -49.5005,-49.8388,-50.1712,-50.6709, -50.9975,-51.3195,-51.7969,-52.1147, -52.5901,-52.9016,-53.2139,-53.6765, -53.989,-54.2912,-54.7444,-54.7943)
FOOTPRINT_POINT_LONGITUDE = (111.079,110.263,109.075,108.67,108.707 ,108.741,108.763,108.796,108.816, 108.837,108.858,108.879,108.895,108.912 ,108.928,108.944,108.96,108.975,108.996 ,109.009,109.021,109.038,109.051,109.06 ,109.075,109.088,109.098,109.105, 109.111,109.118,109.122,109.125,109.129 ,109.129,109.133,109.134,109.138, 109.133,109.131,109.128,109.125,109.121 ,109.116,109.111,109.102,109.094, 109.085,109.312,109.888,110.499,110.94, 111.656,112.202,112.592,112.582,112.571 ,112.56,112.548,112.542,112.527,112.513 ,112.5,112.487,112.476,112.457,112.444, 112.433,112.414,112.4,112.386,112.371, 112.356,112.341,112.325,112.301,112.275 ,112.256,112.239,112.224,112.206, 112.188,112.159,112.126,112.107,112.088 ,112.067,112.047,112.012,111.991, 111.972,111.945,111.923,111.888,111.866 ,111.842,111.804,111.774,111.749, 111.711,111.079)
ORBIT_NUMBER = 8714
ORBITAL_ECCENTRICITY = 0.578
ORBITAL_INCLINATION = 86.84
ORBITAL_SEMIMAJOR_AXIS = 8760.68
PERIAPSIS_ALTITUDE = 320.1
PERIAPSIS_ARGUMENT_ANGLE = 273.12
PERIAPSIS_TIME = 2010-10-25T18:27:19.000Z
SPACECRAFT_ORIENTATION = (0.0,1.0,0.0)
^MEX_ORIENTATION_DESC = "MEX_ORIENTATION_DESC.TXT"
SPACECRAFT_POINTING_MODE = ACROSSTRACK
^MEX_POINTING_DESC = "MEX_POINTING_DESC.TXT"
RIGHT_ASCENSION = -1e+32
DECLINATION = -1e+32
OFFSET_ANGLE = -0.229
SPACECRAFT_SOLAR_DISTANCE = 2.22723e+08
TARGET_NAME = MARS
/* CAMERA DATA ELEMENTS */
DETECTOR_TEMPERATURE = 18.1666
FOCAL_PLANE_TEMPERATURE = 7.3599
INST_CMPRS_NAME = "DISCRETE COSINE TRANSFORMATION (DCT)"
INST_CMPRS_RATIO = 6.73116
INST_CMPRS_QUALITY = 0
INST_CMPRS_QUANTZ_TBL_ID = 0
INSTRUMENT_TEMPERATURE = 10.8262
LENS_TEMPERATURE = 7.9716
MACROPIXEL_SIZE = 2
MISSING_FRAMES = 0
PIXEL_SUBSAMPLING_FLAG = N
SIGNAL_CHAIN_ID = 3
/* RADIOMETRIC DATA ELEMENTS */
BANDWIDTH = 177.0
CENTER_FILTER_WAVELENGTH = 676.5
RADIANCE_OFFSET = 4.82391
RADIANCE_SCALING_FACTOR = 0.0194527
REFLECTANCE_SCALING_FACTOR = 0.000511637
MEX:REFLECTANCE_OFFSET = 0.126877
/* IMAGE OBJECT DEFINITIONS */
OBJECT = IMAGE
  INTERCHANGE_FORMAT = BINARY
  LINES = 21705
  LINE_SAMPLES = 3699
  SAMPLE_TYPE = UNSIGNED_INTEGER
  SAMPLE_BITS = 8
  BANDS = 1
  BAND_STORAGE_TYPE = BAND_SEQUENTIAL
  MAXIMUM = 255
  MEAN = 90.2193
  MINIMUM = 1
  STANDARD_DEVIATION = 34.0258
END_OBJECT = IMAGE
/* MAP OBJECT DEFINITIONS */
OBJECT = IMAGE_MAP_PROJECTION
  ^DATA_SET_MAP_PROJECTION_CATALOG= "DSMAP.CAT"
  A_AXIS_RADIUS = 3396.0
  B_AXIS_RADIUS = 3396.0
  C_AXIS_RADIUS = 3396.0
  CENTER_LATITUDE = 0.0
  CENTER_LONGITUDE = 111.0
  COORDINATE_SYSTEM_NAME = PLANETOGRAPHIC
  COORDINATE_SYSTEM_TYPE = "BODY-FIXED ROTATING"
  EASTERNMOST_LONGITUDE = 112.592
  FIRST_STANDARD_PARALLEL = "N/A"
  LINE_FIRST_PIXEL = 1
  LINE_LAST_PIXEL = 21705
  LINE_PROJECTION_OFFSET = -43192.25
  MAP_PROJECTION_ROTATION = 0.0
  MAP_PROJECTION_TYPE = SINUSOIDAL
  MAP_RESOLUTION = 1185.42760773333
  MAP_SCALE = 0.05
  MAXIMUM_LATITUDE = -36.435
  MINIMUM_LATITUDE = -54.7943
  POSITIVE_LONGITUDE_DIRECTION = EAST
  REFERENCE_LATITUDE = "N/A"
  REFERENCE_LONGITUDE = "N/A"
  SAMPLE_FIRST_PIXEL = 1
  SAMPLE_LAST_PIXEL = 3699
  SAMPLE_PROJECTION_OFFSET = 2016.25
  SECOND_STANDARD_PARALLEL = "N/A"
  WESTERNMOST_LONGITUDE = 108.67
END_OBJECT = IMAGE_MAP_PROJECTION
/* The JPEG2000 image data file associated with this label. */
OBJECT = COMPRESSED_FILE
  FILE_NAME = "H8714_0000_P23.JP2"
  RECORD_TYPE = UNDEFINED
  FILE_RECORDS = UNK
  ENCODING_TYPE = "JP2"
  INTERCHANGE_FORMAT = BINARY
  UNCOMPRESSED_FILE_NAME = "H8714_0000_P23.IMG"
  REQUIRED_STORAGE_BYTES = "80308989"
  ^DESCRIPTION = "JP2INFO.TXT"
END_OBJECT = COMPRESSED_FILE
END
