PDS_VERSION_ID = PDS3
/* FILE DATA ELEMENTS */
RECORD_TYPE = STREAM
/* POINTERS TO DATA OBJECTS */
^COMPRESSED_FILE = "H8734_0000_GR3.JP2"
/* IDENTIFICATION DATA ELEMENTS */
DATA_SET_ID = "MEX-M-HRSC-5-REFDR-MAPPROJECTED-V3.0"
DATA_SET_NAME = "MARS EXPRESS HRSC MAP PROJECTED REFDR V3.0"
DETECTOR_ID = MEX_HRSC_GREEN
EVENT_TYPE = "MARS-REGIONAL-MAPPING-Te-Im-Fl"
INSTRUMENT_HOST_ID = MEX
INSTRUMENT_HOST_NAME = "MARS EXPRESS"
INSTRUMENT_ID = HRSC
INSTRUMENT_NAME = "HIGH RESOLUTION STEREO CAMERA"
MISSION_NAME = "MARS EXPRESS"
MISSION_PHASE_NAME = ME_Phase_22
PROCESSING_LEVEL_ID = 3
PRODUCT_CREATION_TIME = 2016-10-26T07:44:53.000Z
PRODUCT_ID = "H8734_0000_GR3.JP2"
RELEASE_ID = 0093
REVISION_ID = 0000
/* QUALITY DATA ELEMENTS */
DATA_QUALITY_ID = 1
DATA_QUALITY_DESC = "Data calculated based on original SPICE kernels"
/* TIME DATA ELEMENTS */
SPACECRAFT_CLOCK_START_COUNT = "1/0236615394.09040"
SPACECRAFT_CLOCK_STOP_COUNT = "1/0236615875.40443"
START_TIME = 2010-10-31T14:31:11.333Z
STOP_TIME = 2010-10-31T14:35:47.889Z
/* ORBITAL DATA ELEMENTS */
ASCENDING_NODE_LONGITUDE = 50.5
MAXIMUM_RESOLUTION = 106.5
FOOTPRINT_POINT_LATITUDE = (-50.349,-50.3367,-50.3241,-50.3106, -50.293,-50.1624,-49.8053,-49.3251, -48.9619,-48.4721,-48.1016,-47.602, -47.224,-46.7153,-46.3305,-45.9418, -45.5498,-45.2872,-45.0223,-44.7556, -44.4879,-44.2183,-43.9473,-43.6743, -43.4001,-43.1236,-42.8457,-42.5666, -42.2867,-42.0031,-41.7184,-41.4323, -41.1441,-40.8544,-40.5635,-40.2703, -39.9754,-39.6779,-39.3788,-39.0779, -38.7747,-38.4703,-38.1646,-37.7056, -37.4011,-37.098,-36.7957,-36.4947, -36.4806,-36.4846,-36.4876,-36.4886, -36.4877,-36.4842,-36.4788,-36.4719, -36.9265,-37.2323,-37.5392,-37.8471, -38.1562,-38.4654,-38.7726,-39.0778, -39.3812,-39.6826,-39.982,-40.2794, -40.575,-40.8685,-41.1604,-41.4506, -41.7391,-42.0259,-42.3108,-42.5935, -42.8747,-43.1546,-43.4329,-43.7087, -44.1201,-44.3918,-44.6623,-44.9314, -45.1986,-45.4652,-45.7298,-45.9912, -46.2525,-46.5124,-46.7702,-47.282, -47.6616,-48.1639,-48.5363,-49.1509, -49.5139,-49.9959,-50.3539,-50.349)
FOOTPRINT_POINT_LONGITUDE = (225.149,224.548,224.048,223.582, 223.049,222.518,222.534,222.555,222.57, 222.589,222.602,222.619,222.63,222.642, 222.649,222.657,222.663,222.667,222.669 ,222.673,222.677,222.678,222.68,222.682 ,222.684,222.685,222.686,222.686, 222.683,222.684,222.682,222.68,222.678, 222.675,222.671,222.667,222.663,222.659 ,222.654,222.649,222.644,222.637, 222.628,222.615,222.607,222.598,222.589 ,222.579,223.093,223.491,224.167, 224.603,225.239,225.715,226.151,226.669 ,226.826,226.816,226.806,226.796, 226.785,226.774,226.763,226.751,226.74, 226.728,226.716,226.703,226.692,226.68, 226.667,226.655,226.642,226.629,226.616 ,226.603,226.59,226.577,226.564,226.55, 226.529,226.515,226.501,226.487,226.472 ,226.46,226.446,226.429,226.414,226.399 ,226.384,226.353,226.328,226.296, 226.271,226.228,226.201,226.167,226.141 ,225.149)
ORBIT_NUMBER = 8734
ORBITAL_ECCENTRICITY = 0.578
ORBITAL_INCLINATION = 86.85
ORBITAL_SEMIMAJOR_AXIS = 8759.87
PERIAPSIS_ALTITUDE = 319.78
PERIAPSIS_ARGUMENT_ANGLE = 269.74
PERIAPSIS_TIME = 2010-10-31T14:20:22.000Z
SPACECRAFT_ORIENTATION = (0.0,1.0,0.0)
^MEX_ORIENTATION_DESC = "MEX_ORIENTATION_DESC.TXT"
SPACECRAFT_POINTING_MODE = NADIR
^MEX_POINTING_DESC = "MEX_POINTING_DESC.TXT"
RIGHT_ASCENSION = -1e+32
DECLINATION = -1e+32
OFFSET_ANGLE = -1e+32
SPACECRAFT_SOLAR_DISTANCE = 2.21603e+08
TARGET_NAME = MARS
/* CAMERA DATA ELEMENTS */
DETECTOR_TEMPERATURE = 18.1666
FOCAL_PLANE_TEMPERATURE = 7.9716
INST_CMPRS_NAME = "DISCRETE COSINE TRANSFORMATION (DCT)"
INST_CMPRS_RATIO = 13.4926
INST_CMPRS_QUALITY = 0
INST_CMPRS_QUANTZ_TBL_ID = 0
INSTRUMENT_TEMPERATURE = 11.0301
LENS_TEMPERATURE = 8.3794
MACROPIXEL_SIZE = 4
MISSING_FRAMES = 0
PIXEL_SUBSAMPLING_FLAG = N
SIGNAL_CHAIN_ID = 2
/* RADIOMETRIC DATA ELEMENTS */
BANDWIDTH = 88.0
CENTER_FILTER_WAVELENGTH = 538.0
RADIANCE_OFFSET = 1.51014
RADIANCE_SCALING_FACTOR = 0.00345894
REFLECTANCE_SCALING_FACTOR = 0.000146244
MEX:REFLECTANCE_OFFSET = 0.0638488
/* IMAGE OBJECT DEFINITIONS */
OBJECT = IMAGE
  INTERCHANGE_FORMAT = BINARY
  LINES = 8241
  LINE_SAMPLES = 2027
  SAMPLE_TYPE = UNSIGNED_INTEGER
  SAMPLE_BITS = 8
  BANDS = 1
  BAND_STORAGE_TYPE = BAND_SEQUENTIAL
  MAXIMUM = 255
  MEAN = 126.081
  MINIMUM = 1
  STANDARD_DEVIATION = 33.8325
END_OBJECT = IMAGE
/* MAP OBJECT DEFINITIONS */
OBJECT = IMAGE_MAP_PROJECTION
  ^DATA_SET_MAP_PROJECTION_CATALOG= "DSMAP.CAT"
  A_AXIS_RADIUS = 3396.0
  B_AXIS_RADIUS = 3396.0
  C_AXIS_RADIUS = 3396.0
  CENTER_LATITUDE = 0.0
  CENTER_LONGITUDE = 225.0
  COORDINATE_SYSTEM_NAME = PLANETOGRAPHIC
  COORDINATE_SYSTEM_TYPE = "BODY-FIXED ROTATING"
  EASTERNMOST_LONGITUDE = 226.826
  FIRST_STANDARD_PARALLEL = "N/A"
  LINE_FIRST_PIXEL = 1
  LINE_LAST_PIXEL = 8241
  LINE_PROJECTION_OFFSET = -21626.125
  MAP_PROJECTION_ROTATION = 0.0
  MAP_PROJECTION_TYPE = SINUSOIDAL
  MAP_RESOLUTION = 592.713803866667
  MAP_SCALE = 0.1
  MAXIMUM_LATITUDE = -36.4719
  MINIMUM_LATITUDE = -50.3539
  POSITIVE_LONGITUDE_DIRECTION = EAST
  REFERENCE_LATITUDE = "N/A"
  REFERENCE_LONGITUDE = "N/A"
  SAMPLE_FIRST_PIXEL = 1
  SAMPLE_LAST_PIXEL = 2027
  SAMPLE_PROJECTION_OFFSET = 1156.625
  SECOND_STANDARD_PARALLEL = "N/A"
  WESTERNMOST_LONGITUDE = 222.518
END_OBJECT = IMAGE_MAP_PROJECTION
/* The JPEG2000 image data file associated with this label. */
OBJECT = COMPRESSED_FILE
  FILE_NAME = "H8734_0000_GR3.JP2"
  RECORD_TYPE = UNDEFINED
  FILE_RECORDS = UNK
  ENCODING_TYPE = "JP2"
  INTERCHANGE_FORMAT = BINARY
  UNCOMPRESSED_FILE_NAME = "H8734_0000_GR3.IMG"
  REQUIRED_STORAGE_BYTES = "16724777"
  ^DESCRIPTION = "JP2INFO.TXT"
END_OBJECT = COMPRESSED_FILE
END
