PDS_VERSION_ID = PDS3
/* FILE DATA ELEMENTS */
RECORD_TYPE = STREAM
/* POINTERS TO DATA OBJECTS */
^COMPRESSED_FILE = "H8734_0000_P23.JP2"
/* IDENTIFICATION DATA ELEMENTS */
DATA_SET_ID = "MEX-M-HRSC-5-REFDR-MAPPROJECTED-V3.0"
DATA_SET_NAME = "MARS EXPRESS HRSC MAP PROJECTED REFDR V3.0"
DETECTOR_ID = MEX_HRSC_P2
EVENT_TYPE = "MARS-REGIONAL-MAPPING-Te-Im-Fl"
INSTRUMENT_HOST_ID = MEX
INSTRUMENT_HOST_NAME = "MARS EXPRESS"
INSTRUMENT_ID = HRSC
INSTRUMENT_NAME = "HIGH RESOLUTION STEREO CAMERA"
MISSION_NAME = "MARS EXPRESS"
MISSION_PHASE_NAME = ME_Phase_22
PROCESSING_LEVEL_ID = 3
PRODUCT_CREATION_TIME = 2016-10-26T07:44:53.000Z
PRODUCT_ID = "H8734_0000_P23.JP2"
RELEASE_ID = 0093
REVISION_ID = 0000
/* QUALITY DATA ELEMENTS */
DATA_QUALITY_ID = 1
DATA_QUALITY_DESC = "Data calculated based on original SPICE kernels"
/* TIME DATA ELEMENTS */
SPACECRAFT_CLOCK_START_COUNT = "1/0236615394.09040"
SPACECRAFT_CLOCK_STOP_COUNT = "1/0236615875.40443"
START_TIME = 2010-10-31T14:30:16.674Z
STOP_TIME = 2010-10-31T14:34:18.167Z
/* ORBITAL DATA ELEMENTS */
ASCENDING_NODE_LONGITUDE = 50.5
MAXIMUM_RESOLUTION = 50.5
FOOTPRINT_POINT_LATITUDE = (-50.4462,-50.429,-50.4147,-50.3999, -50.375,-50.1978,-49.6012,-48.9972, -48.6304,-48.1375,-47.8896,-47.6396, -47.3883,-47.1343,-46.8796,-46.6218, -46.2322,-45.9719,-45.579,-45.1818, -44.9115,-44.6456,-44.2408,-43.9685, -43.6943,-43.4194,-43.1422,-42.8656, -42.4422,-42.1603,-41.8745,-41.583, -41.1509,-40.8591,-40.565,-40.2692, -39.9703,-39.5217,-39.2192,-38.9145, -38.4538,-38.1425,-37.8283,-37.5142, -37.037,-36.4839,-36.4966,-36.5071, -36.517,-36.5186,-36.5186,-36.5187, -36.5206,-36.6772,-36.9989,-37.3175, -37.6348,-37.951,-38.2637,-38.5748, -38.8839,-39.1913,-39.4964,-39.7991, -40.2511,-40.5481,-40.8443,-41.1389, -41.431,-41.7218,-42.0114,-42.2977, -42.5824,-42.8627,-43.1453,-43.4243, -43.7013,-43.9779,-44.2522,-44.6608, -44.9313,-45.1985,-45.4621,-45.8591, -46.1236,-46.3849,-46.6436,-47.031, -47.2867,-47.6686,-47.9218,-48.1713, -48.4218,-48.6677,-48.9173,-49.1637, -49.5329,-50.0096,-50.3668,-50.4462)
FOOTPRINT_POINT_LONGITUDE = (225.499,224.663,224.148,223.699, 223.056,222.643,222.673,222.702,222.718 ,222.739,222.748,222.758,222.767, 222.775,222.783,222.79,222.8,222.807, 222.816,222.824,222.827,222.833,222.84, 222.844,222.847,222.85,222.853,222.857, 222.858,222.861,222.861,222.859,222.86, 222.86,222.859,222.857,222.855,222.852, 222.849,222.846,222.84,222.834,222.828, 222.823,222.813,222.801,223.282,223.801 ,224.208,224.725,225.281,225.688,226.02 ,226.622,226.615,226.607,226.599,226.59 ,226.582,226.573,226.564,226.554, 226.545,226.535,226.519,226.51,226.499, 226.489,226.478,226.467,226.455,226.444 ,226.433,226.423,226.41,226.399,226.387 ,226.375,226.362,226.343,226.33,226.317 ,226.307,226.287,226.271,226.258, 226.244,226.223,226.208,226.186,226.171 ,226.156,226.14,226.126,226.108,226.091 ,226.065,226.036,226.011,225.499)
ORBIT_NUMBER = 8734
ORBITAL_ECCENTRICITY = 0.578
ORBITAL_INCLINATION = 86.85
ORBITAL_SEMIMAJOR_AXIS = 8759.87
PERIAPSIS_ALTITUDE = 319.78
PERIAPSIS_ARGUMENT_ANGLE = 269.74
PERIAPSIS_TIME = 2010-10-31T14:20:22.000Z
SPACECRAFT_ORIENTATION = (0.0,1.0,0.0)
^MEX_ORIENTATION_DESC = "MEX_ORIENTATION_DESC.TXT"
SPACECRAFT_POINTING_MODE = NADIR
^MEX_POINTING_DESC = "MEX_POINTING_DESC.TXT"
RIGHT_ASCENSION = -1e+32
DECLINATION = -1e+32
OFFSET_ANGLE = -1e+32
SPACECRAFT_SOLAR_DISTANCE = 2.21603e+08
TARGET_NAME = MARS
/* CAMERA DATA ELEMENTS */
DETECTOR_TEMPERATURE = 18.5744
FOCAL_PLANE_TEMPERATURE = 7.9716
INST_CMPRS_NAME = "DISCRETE COSINE TRANSFORMATION (DCT)"
INST_CMPRS_RATIO = 7.13141
INST_CMPRS_QUALITY = 0
INST_CMPRS_QUANTZ_TBL_ID = 0
INSTRUMENT_TEMPERATURE = 11.0301
LENS_TEMPERATURE = 8.3794
MACROPIXEL_SIZE = 2
MISSING_FRAMES = 0
PIXEL_SUBSAMPLING_FLAG = N
SIGNAL_CHAIN_ID = 3
/* RADIOMETRIC DATA ELEMENTS */
BANDWIDTH = 177.0
CENTER_FILTER_WAVELENGTH = 676.5
RADIANCE_OFFSET = 3.83077
RADIANCE_SCALING_FACTOR = 0.0119892
REFLECTANCE_SCALING_FACTOR = 0.000312172
MEX:REFLECTANCE_OFFSET = 0.0997445
/* IMAGE OBJECT DEFINITIONS */
OBJECT = IMAGE
  INTERCHANGE_FORMAT = BINARY
  LINES = 16481
  LINE_SAMPLES = 4054
  SAMPLE_TYPE = UNSIGNED_INTEGER
  SAMPLE_BITS = 8
  BANDS = 1
  BAND_STORAGE_TYPE = BAND_SEQUENTIAL
  MAXIMUM = 255
  MEAN = 118.561
  MINIMUM = 1
  STANDARD_DEVIATION = 31.3585
END_OBJECT = IMAGE
/* MAP OBJECT DEFINITIONS */
OBJECT = IMAGE_MAP_PROJECTION
  ^DATA_SET_MAP_PROJECTION_CATALOG= "DSMAP.CAT"
  A_AXIS_RADIUS = 3396.0
  B_AXIS_RADIUS = 3396.0
  C_AXIS_RADIUS = 3396.0
  CENTER_LATITUDE = 0.0
  CENTER_LONGITUDE = 225.0
  COORDINATE_SYSTEM_NAME = PLANETOGRAPHIC
  COORDINATE_SYSTEM_TYPE = "BODY-FIXED ROTATING"
  EASTERNMOST_LONGITUDE = 226.622
  FIRST_STANDARD_PARALLEL = "N/A"
  LINE_FIRST_PIXEL = 1
  LINE_LAST_PIXEL = 16481
  LINE_PROJECTION_OFFSET = -43251.75
  MAP_PROJECTION_ROTATION = 0.0
  MAP_PROJECTION_TYPE = SINUSOIDAL
  MAP_RESOLUTION = 1185.42760773333
  MAP_SCALE = 0.05
  MAXIMUM_LATITUDE = -36.4839
  MINIMUM_LATITUDE = -50.4462
  POSITIVE_LONGITUDE_DIRECTION = EAST
  REFERENCE_LATITUDE = "N/A"
  REFERENCE_LONGITUDE = "N/A"
  SAMPLE_FIRST_PIXEL = 1
  SAMPLE_LAST_PIXEL = 4054
  SAMPLE_PROJECTION_OFFSET = 2313.75
  SECOND_STANDARD_PARALLEL = "N/A"
  WESTERNMOST_LONGITUDE = 222.643
END_OBJECT = IMAGE_MAP_PROJECTION
/* The JPEG2000 image data file associated with this label. */
OBJECT = COMPRESSED_FILE
  FILE_NAME = "H8734_0000_P23.JP2"
  RECORD_TYPE = UNDEFINED
  FILE_RECORDS = UNK
  ENCODING_TYPE = "JP2"
  INTERCHANGE_FORMAT = BINARY
  UNCOMPRESSED_FILE_NAME = "H8734_0000_P23.IMG"
  REQUIRED_STORAGE_BYTES = "66838298"
  ^DESCRIPTION = "JP2INFO.TXT"
END_OBJECT = COMPRESSED_FILE
END
