PDS_VERSION_ID = PDS3
/* FILE DATA ELEMENTS */
RECORD_TYPE = STREAM
/* POINTERS TO DATA OBJECTS */
^COMPRESSED_FILE = "H8737_0000_ND3.JP2"
/* IDENTIFICATION DATA ELEMENTS */
DATA_SET_ID = "MEX-M-HRSC-5-REFDR-MAPPROJECTED-V3.0"
DATA_SET_NAME = "MARS EXPRESS HRSC MAP PROJECTED REFDR V3.0"
DETECTOR_ID = MEX_HRSC_NADIR
EVENT_TYPE = "MARS-REGIONAL-MAPPING-Im-Fl-Gl"
INSTRUMENT_HOST_ID = MEX
INSTRUMENT_HOST_NAME = "MARS EXPRESS"
INSTRUMENT_ID = HRSC
INSTRUMENT_NAME = "HIGH RESOLUTION STEREO CAMERA"
MISSION_NAME = "MARS EXPRESS"
MISSION_PHASE_NAME = ME_Phase_22
PROCESSING_LEVEL_ID = 3
PRODUCT_CREATION_TIME = 2016-10-26T07:44:53.000Z
PRODUCT_ID = "H8737_0000_ND3.JP2"
RELEASE_ID = 0093
REVISION_ID = 0000
/* QUALITY DATA ELEMENTS */
DATA_QUALITY_ID = 1
DATA_QUALITY_DESC = "Data calculated based on original SPICE kernels"
/* TIME DATA ELEMENTS */
SPACECRAFT_CLOCK_START_COUNT = "1/0236690818.09052"
SPACECRAFT_CLOCK_STOP_COUNT = "1/0236691365.63738"
START_TIME = 2010-11-01T11:27:50.315Z
STOP_TIME = 2010-11-01T11:33:50.264Z
/* ORBITAL DATA ELEMENTS */
ASCENDING_NODE_LONGITUDE = 50.44
MAXIMUM_RESOLUTION = 21.5
FOOTPRINT_POINT_LATITUDE = (-58.361,-58.3304,-58.2794,-57.4479, -56.793,-56.2955,-55.961,-55.6229, -55.1121,-54.7683,-54.4211,-54.0727, -53.7197,-53.3619,-52.8239,-52.2791, -51.9133,-51.5426,-51.1694,-50.7936, -50.4145,-50.0312,-49.6446,-49.2552, -48.8626,-48.4665,-48.0667,-47.6629, -47.2553,-46.8442,-46.4295,-46.0109, -45.5885,-45.162,-44.7315,-44.2972, -43.8583,-43.416,-42.9757,-42.5375, -42.1014,-41.6674,-41.2357,-40.8059, -40.3781,-39.9525,-39.5289,-39.1073, -38.8817,-38.8897,-38.8934,-38.8923, -38.8869,-39.3055,-39.7312,-40.1589, -40.5887,-41.0204,-41.4543,-41.8901, -42.328,-42.7679,-43.2099,-43.6539, -44.3187,-44.7561,-45.1894,-45.6186, -46.0437,-46.465,-46.8823,-47.296, -47.7061,-48.1121,-48.5141,-48.9126, -49.3075,-49.6992,-50.088,-50.4732, -50.8542,-51.2323,-51.6075,-51.9798, -52.3479,-52.8955,-53.4364,-53.7962, -54.1508,-54.501,-54.8501,-55.1954, -55.7087,-56.0487,-56.3846,-56.7191, -57.0504,-57.5429,-58.031,-58.361)
FOOTPRINT_POINT_LONGITUDE = (278.172,277.104,275.769,275.337,275.41 ,275.461,275.494,275.526,275.571,275.6, 275.627,275.655,275.682,275.708,275.743 ,275.777,275.8,275.82,275.84,275.86, 275.876,275.894,275.909,275.923,275.937 ,275.951,275.962,275.973,275.983, 275.992,276.001,276.009,276.014,276.019 ,276.023,276.026,276.028,276.028, 276.028,276.027,276.025,276.022,276.021 ,276.017,276.011,276.004,275.997, 275.987,276.663,277.345,277.986,278.991 ,279.637,280.049,280.034,280.02,280.005 ,279.99,279.974,279.958,279.941,279.924 ,279.906,279.887,279.859,279.839, 279.818,279.797,279.776,279.755,279.734 ,279.712,279.69,279.667,279.644,279.62, 279.596,279.571,279.545,279.521,279.501 ,279.475,279.451,279.426,279.399, 279.353,279.305,279.271,279.241,279.211 ,279.18,279.149,279.101,279.068,279.034 ,279.0,278.965,278.912,278.857,278.172)
ORBIT_NUMBER = 8737
ORBITAL_ECCENTRICITY = 0.578
ORBITAL_INCLINATION = 86.83
ORBITAL_SEMIMAJOR_AXIS = 8760.76
PERIAPSIS_ALTITUDE = 320.71
PERIAPSIS_ARGUMENT_ANGLE = 269.24
PERIAPSIS_TIME = 2010-11-01T11:19:24.000Z
SPACECRAFT_ORIENTATION = (0.0,1.0,0.0)
^MEX_ORIENTATION_DESC = "MEX_ORIENTATION_DESC.TXT"
SPACECRAFT_POINTING_MODE = ACROSSTRACK
^MEX_POINTING_DESC = "MEX_POINTING_DESC.TXT"
RIGHT_ASCENSION = -1e+32
DECLINATION = -1e+32
OFFSET_ANGLE = -0.18
SPACECRAFT_SOLAR_DISTANCE = 2.21436e+08
TARGET_NAME = MARS
/* CAMERA DATA ELEMENTS */
DETECTOR_TEMPERATURE = 18.1666
FOCAL_PLANE_TEMPERATURE = 7.7677
INST_CMPRS_NAME = "DISCRETE COSINE TRANSFORMATION (DCT)"
INST_CMPRS_RATIO = 7.01393
INST_CMPRS_QUALITY = 0
INST_CMPRS_QUANTZ_TBL_ID = 0
INSTRUMENT_TEMPERATURE = 11.0301
LENS_TEMPERATURE = 8.5833
MACROPIXEL_SIZE = 1
MISSING_FRAMES = 1
PIXEL_SUBSAMPLING_FLAG = N
SIGNAL_CHAIN_ID = 0
/* RADIOMETRIC DATA ELEMENTS */
BANDWIDTH = 177.0
CENTER_FILTER_WAVELENGTH = 677.5
RADIANCE_OFFSET = 3.47123
RADIANCE_SCALING_FACTOR = 0.0206386
REFLECTANCE_SCALING_FACTOR = 0.000537595
MEX:REFLECTANCE_OFFSET = 0.0904189
/* IMAGE OBJECT DEFINITIONS */
OBJECT = IMAGE
  INTERCHANGE_FORMAT = BINARY
  LINES = 46241
  LINE_SAMPLES = 7693
  SAMPLE_TYPE = UNSIGNED_INTEGER
  SAMPLE_BITS = 8
  BANDS = 1
  BAND_STORAGE_TYPE = BAND_SEQUENTIAL
  MAXIMUM = 255
  MEAN = 85.1092
  MINIMUM = 1
  STANDARD_DEVIATION = 47.5512
END_OBJECT = IMAGE
/* MAP OBJECT DEFINITIONS */
OBJECT = IMAGE_MAP_PROJECTION
  ^DATA_SET_MAP_PROJECTION_CATALOG= "DSMAP.CAT"
  A_AXIS_RADIUS = 3396.0
  B_AXIS_RADIUS = 3396.0
  C_AXIS_RADIUS = 3396.0
  CENTER_LATITUDE = 0.0
  CENTER_LONGITUDE = 278.0
  COORDINATE_SYSTEM_NAME = PLANETOGRAPHIC
  COORDINATE_SYSTEM_TYPE = "BODY-FIXED ROTATING"
  EASTERNMOST_LONGITUDE = 280.049
  FIRST_STANDARD_PARALLEL = "N/A"
  LINE_FIRST_PIXEL = 1
  LINE_LAST_PIXEL = 46241
  LINE_PROJECTION_OFFSET = -92157.0
  MAP_PROJECTION_ROTATION = 0.0
  MAP_PROJECTION_TYPE = SINUSOIDAL
  MAP_RESOLUTION = 2370.85521546667
  MAP_SCALE = 0.025
  MAXIMUM_LATITUDE = -38.8817
  MINIMUM_LATITUDE = -58.361
  POSITIVE_LONGITUDE_DIRECTION = EAST
  REFERENCE_LATITUDE = "N/A"
  REFERENCE_LONGITUDE = "N/A"
  SAMPLE_FIRST_PIXEL = 1
  SAMPLE_LAST_PIXEL = 7693
  SAMPLE_PROJECTION_OFFSET = 3799.0
  SECOND_STANDARD_PARALLEL = "N/A"
  WESTERNMOST_LONGITUDE = 275.337
END_OBJECT = IMAGE_MAP_PROJECTION
/* The JPEG2000 image data file associated with this label. */
OBJECT = COMPRESSED_FILE
  FILE_NAME = "H8737_0000_ND3.JP2"
  RECORD_TYPE = UNDEFINED
  FILE_RECORDS = UNK
  ENCODING_TYPE = "JP2"
  INTERCHANGE_FORMAT = BINARY
  UNCOMPRESSED_FILE_NAME = "H8737_0000_ND3.IMG"
  REQUIRED_STORAGE_BYTES = "355762785"
  ^DESCRIPTION = "JP2INFO.TXT"
END_OBJECT = COMPRESSED_FILE
END
