PDS_VERSION_ID = PDS3
/* FILE DATA ELEMENTS */
RECORD_TYPE = STREAM
/* POINTERS TO DATA OBJECTS */
^COMPRESSED_FILE = "H8748_0000_BL3.JP2"
/* IDENTIFICATION DATA ELEMENTS */
DATA_SET_ID = "MEX-M-HRSC-5-REFDR-MAPPROJECTED-V3.0"
DATA_SET_NAME = "MARS EXPRESS HRSC MAP PROJECTED REFDR V3.0"
DETECTOR_ID = MEX_HRSC_BLUE
EVENT_TYPE = "MARS-REGIONAL-MAPPING-Im-Fl"
INSTRUMENT_HOST_ID = MEX
INSTRUMENT_HOST_NAME = "MARS EXPRESS"
INSTRUMENT_ID = HRSC
INSTRUMENT_NAME = "HIGH RESOLUTION STEREO CAMERA"
MISSION_NAME = "MARS EXPRESS"
MISSION_PHASE_NAME = ME_Phase_22
PROCESSING_LEVEL_ID = 3
PRODUCT_CREATION_TIME = 2016-10-26T07:44:53.000Z
PRODUCT_ID = "H8748_0000_BL3.JP2"
RELEASE_ID = 0093
REVISION_ID = 0000
/* QUALITY DATA ELEMENTS */
DATA_QUALITY_ID = 1
DATA_QUALITY_DESC = "Data calculated based on original SPICE kernels"
/* TIME DATA ELEMENTS */
SPACECRAFT_CLOCK_START_COUNT = "1/0236967868.08270"
SPACECRAFT_CLOCK_STOP_COUNT = "1/0236968317.52023"
START_TIME = 2010-11-04T16:25:18.562Z
STOP_TIME = 2010-11-04T16:29:27.851Z
/* ORBITAL DATA ELEMENTS */
ASCENDING_NODE_LONGITUDE = 50.24
MAXIMUM_RESOLUTION = 97.3
FOOTPRINT_POINT_LATITUDE = (-54.9186,-54.8989,-54.8787,-54.8604, -54.8438,-54.8181,-54.5563,-54.085, -53.4893,-53.0077,-52.3971,-52.027, -51.7787,-51.5285,-51.2772,-50.897, -50.6434,-50.3871,-50.1288,-49.8695, -49.608,-49.3452,-49.0804,-48.6812, -48.4134,-48.143,-47.872,-47.5987, -47.3239,-46.9069,-46.6299,-46.3487, -46.0659,-45.7818,-45.4954,-45.2072, -44.9178,-44.6264,-44.3325,-44.0371, -43.7401,-43.4415,-43.1392,-42.6832, -42.3794,-42.0707,-41.7603,-41.4475, -41.2941,-41.3069,-41.3142,-41.3222, -41.3301,-41.3312,-41.3314,-41.3297, -41.8031,-42.1151,-42.425,-42.7332, -43.0394,-43.3437,-43.6459,-43.9464, -44.2446,-44.5407,-44.8352,-45.128, -45.4185,-45.707,-45.9946,-46.2802, -46.5627,-46.9841,-47.4018,-47.6782, -47.9529,-48.2253,-48.4971,-48.7663, -49.1676,-49.4336,-49.6972,-50.0903, -50.3513,-50.6097,-50.8672,-51.1227, -51.3768,-51.6292,-52.0048,-52.2547, -52.5018,-52.7485,-52.9915,-53.2353, -53.598,-54.0778,-54.4361,-54.9186)
FOOTPRINT_POINT_LONGITUDE = (233.585,232.677,231.972,231.435,231.0, 230.396,230.109,230.148,230.195,230.233 ,230.275,230.299,230.315,230.33,230.344 ,230.366,230.381,230.395,230.407,230.42 ,230.431,230.441,230.452,230.467, 230.477,230.485,230.494,230.502,230.51, 230.518,230.527,230.534,230.539,230.544 ,230.549,230.553,230.557,230.56,230.563 ,230.565,230.567,230.569,230.568, 230.568,230.572,230.571,230.57,230.568, 230.828,231.357,231.808,232.336,233.091 ,233.507,233.847,234.413,234.596, 234.586,234.574,234.562,234.549,234.535 ,234.522,234.508,234.494,234.48,234.466 ,234.451,234.436,234.421,234.406,234.39 ,234.375,234.352,234.329,234.312, 234.296,234.28,234.263,234.246,234.22, 234.202,234.185,234.157,234.139,234.119 ,234.1,234.08,234.062,234.043,234.015, 233.995,233.974,233.954,233.937,233.917 ,233.885,233.839,233.803,233.585)
ORBIT_NUMBER = 8748
ORBITAL_ECCENTRICITY = 0.578
ORBITAL_INCLINATION = 86.85
ORBITAL_SEMIMAJOR_AXIS = 8760.26
PERIAPSIS_ALTITUDE = 319.9
PERIAPSIS_ARGUMENT_ANGLE = 267.36
PERIAPSIS_TIME = 2010-11-04T16:15:30.000Z
SPACECRAFT_ORIENTATION = (0.0,1.0,0.0)
^MEX_ORIENTATION_DESC = "MEX_ORIENTATION_DESC.TXT"
SPACECRAFT_POINTING_MODE = NADIR
^MEX_POINTING_DESC = "MEX_POINTING_DESC.TXT"
RIGHT_ASCENSION = -1e+32
DECLINATION = -1e+32
OFFSET_ANGLE = -1e+32
SPACECRAFT_SOLAR_DISTANCE = 2.20827e+08
TARGET_NAME = MARS
/* CAMERA DATA ELEMENTS */
DETECTOR_TEMPERATURE = 17.9627
FOCAL_PLANE_TEMPERATURE = 7.7677
INST_CMPRS_NAME = "DISCRETE COSINE TRANSFORMATION (DCT)"
INST_CMPRS_RATIO = 13.2796
INST_CMPRS_QUALITY = 0
INST_CMPRS_QUANTZ_TBL_ID = 0
INSTRUMENT_TEMPERATURE = 10.8262
LENS_TEMPERATURE = 8.1755
MACROPIXEL_SIZE = 4
MISSING_FRAMES = 0
PIXEL_SUBSAMPLING_FLAG = N
SIGNAL_CHAIN_ID = 2
/* RADIOMETRIC DATA ELEMENTS */
BANDWIDTH = 76.0
CENTER_FILTER_WAVELENGTH = 444.0
RADIANCE_OFFSET = 0.702569
RADIANCE_SCALING_FACTOR = 0.00393238
REFLECTANCE_SCALING_FACTOR = 0.00019702
MEX:REFLECTANCE_OFFSET = 0.0352001
/* IMAGE OBJECT DEFINITIONS */
OBJECT = IMAGE
  INTERCHANGE_FORMAT = BINARY
  LINES = 8070
  LINE_SAMPLES = 1889
  SAMPLE_TYPE = UNSIGNED_INTEGER
  SAMPLE_BITS = 8
  BANDS = 1
  BAND_STORAGE_TYPE = BAND_SEQUENTIAL
  MAXIMUM = 255
  MEAN = 49.8538
  MINIMUM = 1
  STANDARD_DEVIATION = 25.0609
END_OBJECT = IMAGE
/* MAP OBJECT DEFINITIONS */
OBJECT = IMAGE_MAP_PROJECTION
  ^DATA_SET_MAP_PROJECTION_CATALOG= "DSMAP.CAT"
  A_AXIS_RADIUS = 3396.0
  B_AXIS_RADIUS = 3396.0
  C_AXIS_RADIUS = 3396.0
  CENTER_LATITUDE = 0.0
  CENTER_LONGITUDE = 232.0
  COORDINATE_SYSTEM_NAME = PLANETOGRAPHIC
  COORDINATE_SYSTEM_TYPE = "BODY-FIXED ROTATING"
  EASTERNMOST_LONGITUDE = 234.596
  FIRST_STANDARD_PARALLEL = "N/A"
  LINE_FIRST_PIXEL = 1
  LINE_LAST_PIXEL = 8070
  LINE_PROJECTION_OFFSET = -24475.875
  MAP_PROJECTION_ROTATION = 0.0
  MAP_PROJECTION_TYPE = SINUSOIDAL
  MAP_RESOLUTION = 592.713803866667
  MAP_SCALE = 0.1
  MAXIMUM_LATITUDE = -41.2941
  MINIMUM_LATITUDE = -54.9186
  POSITIVE_LONGITUDE_DIRECTION = EAST
  REFERENCE_LATITUDE = "N/A"
  REFERENCE_LONGITUDE = "N/A"
  SAMPLE_FIRST_PIXEL = 1
  SAMPLE_LAST_PIXEL = 1889
  SAMPLE_PROJECTION_OFFSET = 689.875
  SECOND_STANDARD_PARALLEL = "N/A"
  WESTERNMOST_LONGITUDE = 230.109
END_OBJECT = IMAGE_MAP_PROJECTION
/* The JPEG2000 image data file associated with this label. */
OBJECT = COMPRESSED_FILE
  FILE_NAME = "H8748_0000_BL3.JP2"
  RECORD_TYPE = UNDEFINED
  FILE_RECORDS = UNK
  ENCODING_TYPE = "JP2"
  INTERCHANGE_FORMAT = BINARY
  UNCOMPRESSED_FILE_NAME = "H8748_0000_BL3.IMG"
  REQUIRED_STORAGE_BYTES = "15263120"
  ^DESCRIPTION = "JP2INFO.TXT"
END_OBJECT = COMPRESSED_FILE
END
