PDS_VERSION_ID = PDS3
/* FILE DATA ELEMENTS */
RECORD_TYPE = STREAM
/* POINTERS TO DATA OBJECTS */
^COMPRESSED_FILE = "H8748_0000_IR3.JP2"
/* IDENTIFICATION DATA ELEMENTS */
DATA_SET_ID = "MEX-M-HRSC-5-REFDR-MAPPROJECTED-V3.0"
DATA_SET_NAME = "MARS EXPRESS HRSC MAP PROJECTED REFDR V3.0"
DETECTOR_ID = MEX_HRSC_IR
EVENT_TYPE = "MARS-REGIONAL-MAPPING-Im-Fl"
INSTRUMENT_HOST_ID = MEX
INSTRUMENT_HOST_NAME = "MARS EXPRESS"
INSTRUMENT_ID = HRSC
INSTRUMENT_NAME = "HIGH RESOLUTION STEREO CAMERA"
MISSION_NAME = "MARS EXPRESS"
MISSION_PHASE_NAME = ME_Phase_22
PROCESSING_LEVEL_ID = 3
PRODUCT_CREATION_TIME = 2016-10-26T07:44:53.000Z
PRODUCT_ID = "H8748_0000_IR3.JP2"
RELEASE_ID = 0093
REVISION_ID = 0000
/* QUALITY DATA ELEMENTS */
DATA_QUALITY_ID = 1
DATA_QUALITY_DESC = "Data calculated based on original SPICE kernels"
/* TIME DATA ELEMENTS */
SPACECRAFT_CLOCK_START_COUNT = "1/0236967868.08270"
SPACECRAFT_CLOCK_STOP_COUNT = "1/0236968317.52023"
START_TIME = 2010-11-04T16:26:28.954Z
STOP_TIME = 2010-11-04T16:31:30.733Z
/* ORBITAL DATA ELEMENTS */
ASCENDING_NODE_LONGITUDE = 50.24
MAXIMUM_RESOLUTION = 113.7
FOOTPRINT_POINT_LATITUDE = (-54.8097,-54.8021,-54.7898,-54.767, -54.7353,-54.7572,-54.2804,-53.7986, -53.3081,-52.9354,-52.6856,-52.4353, -52.0607,-51.6808,-51.4259,-51.169, -50.9101,-50.6448,-50.2523,-49.9899, -49.5957,-49.1957,-48.9281,-48.6576, -48.3859,-48.113,-47.8381,-47.5614, -47.2831,-47.0034,-46.721,-46.4391, -46.1551,-45.869,-45.5813,-45.2952, -45.0104,-44.7266,-44.4443,-44.0235, -43.7462,-43.4661,-43.0563,-42.7823, -42.3705,-42.0945,-41.8254,-41.4235, -41.2907,-41.2993,-41.3023,-41.3022, -41.2965,-41.2968,-41.2936,-41.2844, -41.281,-41.546,-41.8166,-42.2295, -42.5053,-42.7833,-43.0603,-43.3389, -43.6183,-43.8987,-44.1815,-44.4654, -44.7501,-45.0366,-45.3246,-45.7584, -46.0489,-46.479,-46.7655,-47.0499, -47.4741,-47.7542,-48.0326,-48.3093, -48.584,-48.8579,-49.1297,-49.4005, -49.6692,-49.9362,-50.2012,-50.4655, -50.7267,-51.1183,-51.3772,-51.7647, -52.1505,-52.4045,-52.654,-52.9091, -53.4123,-53.9038,-54.3843,-54.8097)
FOOTPRINT_POINT_LONGITUDE = (233.707,233.253,232.648,231.741, 230.723,229.879,229.916,229.951,229.986 ,230.012,230.028,230.043,230.063, 230.083,230.096,230.109,230.121,230.137 ,230.153,230.163,230.175,230.188, 230.195,230.203,230.209,230.215,230.221 ,230.227,230.231,230.236,230.24,230.243 ,230.245,230.247,230.248,230.249, 230.249,230.249,230.248,230.247,230.244 ,230.243,230.237,230.233,230.229, 230.228,230.223,230.215,231.021,231.56, 232.101,232.461,232.957,233.408,233.814 ,234.58,235.047,235.029,235.014,234.992 ,234.977,234.962,234.945,234.929, 234.911,234.894,234.876,234.858,234.84, 234.821,234.803,234.773,234.754,234.724 ,234.704,234.685,234.655,234.635, 234.614,234.594,234.573,234.553,234.532 ,234.51,234.489,234.468,234.446,234.423 ,234.4,234.367,234.345,234.311,234.278, 234.255,234.23,234.209,234.164,234.114, 234.06,233.707)
ORBIT_NUMBER = 8748
ORBITAL_ECCENTRICITY = 0.578
ORBITAL_INCLINATION = 86.85
ORBITAL_SEMIMAJOR_AXIS = 8760.26
PERIAPSIS_ALTITUDE = 319.9
PERIAPSIS_ARGUMENT_ANGLE = 267.36
PERIAPSIS_TIME = 2010-11-04T16:15:30.000Z
SPACECRAFT_ORIENTATION = (0.0,1.0,0.0)
^MEX_ORIENTATION_DESC = "MEX_ORIENTATION_DESC.TXT"
SPACECRAFT_POINTING_MODE = NADIR
^MEX_POINTING_DESC = "MEX_POINTING_DESC.TXT"
RIGHT_ASCENSION = -1e+32
DECLINATION = -1e+32
OFFSET_ANGLE = -1e+32
SPACECRAFT_SOLAR_DISTANCE = 2.20827e+08
TARGET_NAME = MARS
/* CAMERA DATA ELEMENTS */
DETECTOR_TEMPERATURE = 17.1471
FOCAL_PLANE_TEMPERATURE = 7.7677
INST_CMPRS_NAME = "DISCRETE COSINE TRANSFORMATION (DCT)"
INST_CMPRS_RATIO = 16.8649
INST_CMPRS_QUALITY = 0
INST_CMPRS_QUANTZ_TBL_ID = 0
INSTRUMENT_TEMPERATURE = 10.8262
LENS_TEMPERATURE = 8.1755
MACROPIXEL_SIZE = 4
MISSING_FRAMES = 0
PIXEL_SUBSAMPLING_FLAG = N
SIGNAL_CHAIN_ID = 2
/* RADIOMETRIC DATA ELEMENTS */
BANDWIDTH = 81.0
CENTER_FILTER_WAVELENGTH = 955.5
RADIANCE_OFFSET = 0.751328
RADIANCE_SCALING_FACTOR = 0.00465719
REFLECTANCE_SCALING_FACTOR = 0.00048995
MEX:REFLECTANCE_OFFSET = 0.0790419
/* IMAGE OBJECT DEFINITIONS */
OBJECT = IMAGE
  INTERCHANGE_FORMAT = BINARY
  LINES = 8070
  LINE_SAMPLES = 1889
  SAMPLE_TYPE = UNSIGNED_INTEGER
  SAMPLE_BITS = 8
  BANDS = 1
  BAND_STORAGE_TYPE = BAND_SEQUENTIAL
  MAXIMUM = 255
  MEAN = 102.959
  MINIMUM = 1
  STANDARD_DEVIATION = 36.2702
END_OBJECT = IMAGE
/* MAP OBJECT DEFINITIONS */
OBJECT = IMAGE_MAP_PROJECTION
  ^DATA_SET_MAP_PROJECTION_CATALOG= "DSMAP.CAT"
  A_AXIS_RADIUS = 3396.0
  B_AXIS_RADIUS = 3396.0
  C_AXIS_RADIUS = 3396.0
  CENTER_LATITUDE = 0.0
  CENTER_LONGITUDE = 232.0
  COORDINATE_SYSTEM_NAME = PLANETOGRAPHIC
  COORDINATE_SYSTEM_TYPE = "BODY-FIXED ROTATING"
  EASTERNMOST_LONGITUDE = 235.047
  FIRST_STANDARD_PARALLEL = "N/A"
  LINE_FIRST_PIXEL = 1
  LINE_LAST_PIXEL = 8070
  LINE_PROJECTION_OFFSET = -24475.875
  MAP_PROJECTION_ROTATION = 0.0
  MAP_PROJECTION_TYPE = SINUSOIDAL
  MAP_RESOLUTION = 592.713803866667
  MAP_SCALE = 0.1
  MAXIMUM_LATITUDE = -41.281
  MINIMUM_LATITUDE = -54.8097
  POSITIVE_LONGITUDE_DIRECTION = EAST
  REFERENCE_LATITUDE = "N/A"
  REFERENCE_LONGITUDE = "N/A"
  SAMPLE_FIRST_PIXEL = 1
  SAMPLE_LAST_PIXEL = 1889
  SAMPLE_PROJECTION_OFFSET = 689.875
  SECOND_STANDARD_PARALLEL = "N/A"
  WESTERNMOST_LONGITUDE = 229.879
END_OBJECT = IMAGE_MAP_PROJECTION
/* The JPEG2000 image data file associated with this label. */
OBJECT = COMPRESSED_FILE
  FILE_NAME = "H8748_0000_IR3.JP2"
  RECORD_TYPE = UNDEFINED
  FILE_RECORDS = UNK
  ENCODING_TYPE = "JP2"
  INTERCHANGE_FORMAT = BINARY
  UNCOMPRESSED_FILE_NAME = "H8748_0000_IR3.IMG"
  REQUIRED_STORAGE_BYTES = "15265009"
  ^DESCRIPTION = "JP2INFO.TXT"
END_OBJECT = COMPRESSED_FILE
END
