PDS_VERSION_ID = PDS3
/* FILE DATA ELEMENTS */
RECORD_TYPE = STREAM
/* POINTERS TO DATA OBJECTS */
^COMPRESSED_FILE = "H8756_0000_RE3.JP2"
/* IDENTIFICATION DATA ELEMENTS */
DATA_SET_ID = "MEX-M-HRSC-5-REFDR-MAPPROJECTED-V3.0"
DATA_SET_NAME = "MARS EXPRESS HRSC MAP PROJECTED REFDR V3.0"
DETECTOR_ID = MEX_HRSC_RED
EVENT_TYPE = "MARS-REGIONAL-VARIABLE-Gl-At"
INSTRUMENT_HOST_ID = MEX
INSTRUMENT_HOST_NAME = "MARS EXPRESS"
INSTRUMENT_ID = HRSC
INSTRUMENT_NAME = "HIGH RESOLUTION STEREO CAMERA"
MISSION_NAME = "MARS EXPRESS"
MISSION_PHASE_NAME = ME_Phase_22
PROCESSING_LEVEL_ID = 3
PRODUCT_CREATION_TIME = 2016-10-26T07:44:53.000Z
PRODUCT_ID = "H8756_0000_RE3.JP2"
RELEASE_ID = 0093
REVISION_ID = 0000
/* QUALITY DATA ELEMENTS */
DATA_QUALITY_ID = 1
DATA_QUALITY_DESC = "Data calculated based on original SPICE kernels"
/* TIME DATA ELEMENTS */
SPACECRAFT_CLOCK_START_COUNT = "1/0237168878.09133"
SPACECRAFT_CLOCK_STOP_COUNT = "1/0237169073.39026"
START_TIME = 2010-11-07T00:14:45.809Z
STOP_TIME = 2010-11-07T00:16:48.406Z
/* ORBITAL DATA ELEMENTS */
ASCENDING_NODE_LONGITUDE = 50.08
MAXIMUM_RESOLUTION = 55.1
FOOTPRINT_POINT_LATITUDE = (-84.1162,-84.0482,-83.9805,-83.9091, -83.8343,-83.7563,-83.6752,-83.413, -83.0076,-82.7335,-82.5927,-82.4495, -82.3056,-82.161,-82.0156,-81.8697, -81.7232,-81.5761,-81.4285,-81.2804, -81.132,-80.9834,-80.8339,-80.6839, -80.5333,-80.3829,-80.1574,-80.0065, -79.8551,-79.7034,-79.4758,-79.3237, -79.1711,-78.9422,-78.789,-78.6344, -78.4791,-78.3251,-78.0937,-77.9393, -77.785,-77.631,-77.4787,-77.3243, -77.093,-76.9373,-76.7819,-76.6077, -76.4219,-76.2363,-76.0511,-75.9311, -75.9767,-76.0189,-76.0543,-76.0937, -76.1357,-76.3324,-76.5211,-76.7094, -76.9886,-77.1456,-77.3041,-77.4643, -77.6206,-77.7785,-78.0893,-78.3268, -78.5622,-78.873,-79.0303,-79.1861, -79.3428,-79.5041,-79.7401,-79.8966, -80.0532,-80.2102,-80.3666,-80.6009, -80.7565,-80.9111,-81.0659,-81.2233, -81.3793,-81.5342,-81.6892,-81.8439, -81.9983,-82.1524,-82.3063,-82.4597, -82.6129,-82.8421,-82.9944,-83.2193, -83.5111,-83.7299,-83.8758,-84.1162)
FOOTPRINT_POINT_LONGITUDE = (117.085,115.499,114.049,112.636, 111.265,109.933,108.639,108.819,110.768 ,111.943,112.508,113.057,113.586, 114.095,114.585,115.058,115.513,115.953 ,116.376,116.785,117.18,117.561,117.93, 118.287,118.633,118.967,119.447,119.755 ,120.053,120.342,120.76,121.028,121.288 ,121.664,121.906,122.142,122.372, 122.594,122.916,123.124,123.326,123.522 ,123.712,123.898,124.169,124.344, 124.514,124.7,124.893,125.079,125.261, 125.828,126.702,127.584,128.375,129.376 ,130.478,130.57,130.438,130.303,130.094 ,129.975,129.848,129.711,129.584, 129.448,129.184,128.958,128.731,128.425 ,128.256,128.089,127.912,127.708, 127.417,127.219,127.014,126.799,126.579 ,126.236,126.0,125.76,125.51,125.234, 124.955,124.672,124.376,124.068,123.749 ,123.418,123.074,122.716,122.342, 121.752,121.336,120.688,119.777,119.025 ,118.487,117.085)
ORBIT_NUMBER = 8756
ORBITAL_ECCENTRICITY = 0.578
ORBITAL_INCLINATION = 86.84
ORBITAL_SEMIMAJOR_AXIS = 8760.89
PERIAPSIS_ALTITUDE = 321.23
PERIAPSIS_ARGUMENT_ANGLE = 266.01
PERIAPSIS_TIME = 2010-11-07T00:12:47.000Z
SPACECRAFT_ORIENTATION = (0.0,1.0,0.0)
^MEX_ORIENTATION_DESC = "MEX_ORIENTATION_DESC.TXT"
SPACECRAFT_POINTING_MODE = ACROSSTRACK
^MEX_POINTING_DESC = "MEX_POINTING_DESC.TXT"
RIGHT_ASCENSION = -1e+32
DECLINATION = -1e+32
OFFSET_ANGLE = -0.3
SPACECRAFT_SOLAR_DISTANCE = 2.20387e+08
TARGET_NAME = MARS
/* CAMERA DATA ELEMENTS */
DETECTOR_TEMPERATURE = 19.5939
FOCAL_PLANE_TEMPERATURE = 7.7677
INST_CMPRS_NAME = "DISCRETE COSINE TRANSFORMATION (DCT)"
INST_CMPRS_RATIO = 10.5671
INST_CMPRS_QUALITY = 0
INST_CMPRS_QUANTZ_TBL_ID = 0
INSTRUMENT_TEMPERATURE = 10.8262
LENS_TEMPERATURE = 7.9716
MACROPIXEL_SIZE = 4
MISSING_FRAMES = 0
PIXEL_SUBSAMPLING_FLAG = N
SIGNAL_CHAIN_ID = 2
/* RADIOMETRIC DATA ELEMENTS */
BANDWIDTH = 48.0
CENTER_FILTER_WAVELENGTH = 748.0
RADIANCE_OFFSET = 0.244758
RADIANCE_SCALING_FACTOR = 0.00435617
REFLECTANCE_SCALING_FACTOR = 0.000482839
MEX:REFLECTANCE_OFFSET = 0.027129
/* IMAGE OBJECT DEFINITIONS */
OBJECT = IMAGE
  INTERCHANGE_FORMAT = BINARY
  LINES = 9665
  LINE_SAMPLES = 4148
  SAMPLE_TYPE = UNSIGNED_INTEGER
  SAMPLE_BITS = 8
  BANDS = 1
  BAND_STORAGE_TYPE = BAND_SEQUENTIAL
  MAXIMUM = 255
  MEAN = 71.3506
  MINIMUM = 1
  STANDARD_DEVIATION = 55.8921
END_OBJECT = IMAGE
/* MAP OBJECT DEFINITIONS */
OBJECT = IMAGE_MAP_PROJECTION
  ^DATA_SET_MAP_PROJECTION_CATALOG= "DSMAP.CAT"
  A_AXIS_RADIUS = 3396.0
  B_AXIS_RADIUS = 3396.0
  C_AXIS_RADIUS = 3396.0
  CENTER_LATITUDE = 0.0
  CENTER_LONGITUDE = 123.0
  COORDINATE_SYSTEM_NAME = PLANETOGRAPHIC
  COORDINATE_SYSTEM_TYPE = "BODY-FIXED ROTATING"
  EASTERNMOST_LONGITUDE = 130.57
  FIRST_STANDARD_PARALLEL = "N/A"
  LINE_FIRST_PIXEL = 1
  LINE_LAST_PIXEL = 9665
  LINE_PROJECTION_OFFSET = -89948.375
  MAP_PROJECTION_ROTATION = 0.0
  MAP_PROJECTION_TYPE = SINUSOIDAL
  MAP_RESOLUTION = 1185.42760773333
  MAP_SCALE = 0.05
  MAXIMUM_LATITUDE = -75.9311
  MINIMUM_LATITUDE = -84.11620000000001
  POSITIVE_LONGITUDE_DIRECTION = EAST
  REFERENCE_LATITUDE = "N/A"
  REFERENCE_LONGITUDE = "N/A"
  SAMPLE_FIRST_PIXEL = 1
  SAMPLE_LAST_PIXEL = 4148
  SAMPLE_PROJECTION_OFFSET = 1986.125
  SECOND_STANDARD_PARALLEL = "N/A"
  WESTERNMOST_LONGITUDE = 108.639
END_OBJECT = IMAGE_MAP_PROJECTION
/* The JPEG2000 image data file associated with this label. */
OBJECT = COMPRESSED_FILE
  FILE_NAME = "H8756_0000_RE3.JP2"
  RECORD_TYPE = UNDEFINED
  FILE_RECORDS = UNK
  ENCODING_TYPE = "JP2"
  INTERCHANGE_FORMAT = BINARY
  UNCOMPRESSED_FILE_NAME = "H8756_0000_RE3.IMG"
  REQUIRED_STORAGE_BYTES = "40115308"
  ^DESCRIPTION = "JP2INFO.TXT"
END_OBJECT = COMPRESSED_FILE
END
