PDS_VERSION_ID = PDS3
/* FILE DATA ELEMENTS */
RECORD_TYPE = STREAM
/* POINTERS TO DATA OBJECTS */
^COMPRESSED_FILE = "H8771_0000_S13.JP2"
/* IDENTIFICATION DATA ELEMENTS */
DATA_SET_ID = "MEX-M-HRSC-5-REFDR-MAPPROJECTED-V3.0"
DATA_SET_NAME = "MARS EXPRESS HRSC MAP PROJECTED REFDR V3.0"
DETECTOR_ID = MEX_HRSC_S1
EVENT_TYPE = "MARS-REGIONAL-MAPPING-Im-Fl-Gl"
INSTRUMENT_HOST_ID = MEX
INSTRUMENT_HOST_NAME = "MARS EXPRESS"
INSTRUMENT_ID = HRSC
INSTRUMENT_NAME = "HIGH RESOLUTION STEREO CAMERA"
MISSION_NAME = "MARS EXPRESS"
MISSION_PHASE_NAME = ME_Phase_22
PROCESSING_LEVEL_ID = 3
PRODUCT_CREATION_TIME = 2016-10-26T07:44:53.000Z
PRODUCT_ID = "H8771_0000_S13.JP2"
RELEASE_ID = 0093
REVISION_ID = 0000
/* QUALITY DATA ELEMENTS */
DATA_QUALITY_ID = 1
DATA_QUALITY_DESC = "Data calculated based on original SPICE kernels"
/* TIME DATA ELEMENTS */
SPACECRAFT_CLOCK_START_COUNT = "1/0237547054.09141"
SPACECRAFT_CLOCK_STOP_COUNT = "1/0237547558.22992"
START_TIME = 2010-11-11T09:20:19.156Z
STOP_TIME = 2010-11-11T09:25:59.095Z
/* ORBITAL DATA ELEMENTS */
ASCENDING_NODE_LONGITUDE = 49.8
MAXIMUM_RESOLUTION = 70.4
FOOTPRINT_POINT_LATITUDE = (-53.4209,-53.4102,-53.3927,-53.3756, -53.3554,-53.4004,-53.1023,-52.8058, -52.5112,-52.2184,-51.9268,-51.6379, -51.3506,-51.0638,-50.7783,-50.4944, -50.2123,-49.9315,-49.6523,-49.3743, -49.0974,-48.8227,-48.55,-48.2786, -48.0085,-47.7398,-47.4738,-47.212, -46.944,-46.6822,-46.2907,-46.0317, -45.645,-45.2615,-45.0086,-44.7575, -44.507,-44.2554,-44.0068,-43.5177, -43.0337,-42.3177,-41.7307,-41.2686, -40.8073,-40.3544,-40.3198,-40.3175, -40.3141,-40.3077,-40.3083,-40.2981, -40.2892,-40.282,-40.2748,-40.2645, -40.2561,-40.4856,-40.9464,-41.4163, -41.8893,-42.3661,-42.8486,-43.0944, -43.465,-43.8381,-44.0866,-44.3395, -44.5945,-44.8504,-45.1127,-45.3646, -45.7545,-46.0156,-46.2765,-46.5401, -46.8051,-47.0723,-47.3396,-47.6012, -47.8741,-48.1526,-48.5698,-48.8462, -49.1235,-49.4035,-49.6834,-49.9654, -50.3913,-50.6751,-50.9591,-51.2519, -51.5427,-51.8344,-52.1268,-52.4206, -52.7156,-53.0132,-53.3121,-53.4209)
FOOTPRINT_POINT_LONGITUDE = (41.3027,40.4656,39.4899,38.7481, 38.0057,37.0133,37.0314,37.0484,37.0642 ,37.079,37.093,37.1055,37.1171,37.1285, 37.1391,37.149,37.1579,37.1662,37.1737, 37.1808,37.1873,37.1928,37.1974,37.2015 ,37.205,37.208,37.2099,37.2097,37.213, 37.2133,37.2136,37.213,37.2118,37.2095, 37.207,37.2038,37.2006,37.1982,37.1946, 37.1845,37.1731,37.1535,37.1349,37.118, 37.1019,37.0834,37.8238,38.2815,38.6246 ,39.1952,39.8785,40.2776,40.8479, 41.3043,41.7611,42.2754,42.7338,42.9699 ,42.9362,42.9037,42.8697,42.8343, 42.7984,42.7814,42.7552,42.7283,42.7092 ,42.6913,42.6736,42.6554,42.6394, 42.6174,42.5886,42.5688,42.5479,42.5273 ,42.5065,42.4857,42.4639,42.4384, 42.4174,42.398,42.3668,42.3437,42.32, 42.2965,42.2718,42.247,42.2091,42.1823, 42.1543,42.1295,42.1025,42.0747,42.0459 ,42.0164,41.9863,41.9561,41.9252, 41.3027)
ORBIT_NUMBER = 8771
ORBITAL_ECCENTRICITY = 0.578
ORBITAL_INCLINATION = 86.83
ORBITAL_SEMIMAJOR_AXIS = 8761.1
PERIAPSIS_ALTITUDE = 321.15
PERIAPSIS_ARGUMENT_ANGLE = 263.47
PERIAPSIS_TIME = 2010-11-11T09:07:12.000Z
SPACECRAFT_ORIENTATION = (0.0,1.0,0.0)
^MEX_ORIENTATION_DESC = "MEX_ORIENTATION_DESC.TXT"
SPACECRAFT_POINTING_MODE = NADIR
^MEX_POINTING_DESC = "MEX_POINTING_DESC.TXT"
RIGHT_ASCENSION = -1e+32
DECLINATION = -1e+32
OFFSET_ANGLE = -1e+32
SPACECRAFT_SOLAR_DISTANCE = 2.19569e+08
TARGET_NAME = MARS
/* CAMERA DATA ELEMENTS */
DETECTOR_TEMPERATURE = 16.9432
FOCAL_PLANE_TEMPERATURE = 7.3599
INST_CMPRS_NAME = "DISCRETE COSINE TRANSFORMATION (DCT)"
INST_CMPRS_RATIO = 11.3821
INST_CMPRS_QUALITY = 0
INST_CMPRS_QUANTZ_TBL_ID = 0
INSTRUMENT_TEMPERATURE = 10.8262
LENS_TEMPERATURE = 7.7677
MACROPIXEL_SIZE = 2
MISSING_FRAMES = 0
PIXEL_SUBSAMPLING_FLAG = N
SIGNAL_CHAIN_ID = 1
/* RADIOMETRIC DATA ELEMENTS */
BANDWIDTH = 180.0
CENTER_FILTER_WAVELENGTH = 677.0
RADIANCE_OFFSET = 4.47565
RADIANCE_SCALING_FACTOR = 0.0169094
REFLECTANCE_SCALING_FACTOR = 0.000425314
MEX:REFLECTANCE_OFFSET = 0.112574
/* IMAGE OBJECT DEFINITIONS */
OBJECT = IMAGE
  INTERCHANGE_FORMAT = BINARY
  LINES = 15703
  LINE_SAMPLES = 4318
  SAMPLE_TYPE = UNSIGNED_INTEGER
  SAMPLE_BITS = 8
  BANDS = 1
  BAND_STORAGE_TYPE = BAND_SEQUENTIAL
  MAXIMUM = 255
  MEAN = 114.65
  MINIMUM = 1
  STANDARD_DEVIATION = 26.3629
END_OBJECT = IMAGE
/* MAP OBJECT DEFINITIONS */
OBJECT = IMAGE_MAP_PROJECTION
  ^DATA_SET_MAP_PROJECTION_CATALOG= "DSMAP.CAT"
  A_AXIS_RADIUS = 3396.0
  B_AXIS_RADIUS = 3396.0
  C_AXIS_RADIUS = 3396.0
  CENTER_LATITUDE = 0.0
  CENTER_LONGITUDE = 40.0
  COORDINATE_SYSTEM_NAME = PLANETOGRAPHIC
  COORDINATE_SYSTEM_TYPE = "BODY-FIXED ROTATING"
  EASTERNMOST_LONGITUDE = 42.9699
  FIRST_STANDARD_PARALLEL = "N/A"
  LINE_FIRST_PIXEL = 1
  LINE_LAST_PIXEL = 15703
  LINE_PROJECTION_OFFSET = -47757.75
  MAP_PROJECTION_ROTATION = 0.0
  MAP_PROJECTION_TYPE = SINUSOIDAL
  MAP_RESOLUTION = 1185.42760773333
  MAP_SCALE = 0.05
  MAXIMUM_LATITUDE = -40.2561
  MINIMUM_LATITUDE = -53.4209
  POSITIVE_LONGITUDE_DIRECTION = EAST
  REFERENCE_LATITUDE = "N/A"
  REFERENCE_LONGITUDE = "N/A"
  SAMPLE_FIRST_PIXEL = 1
  SAMPLE_LAST_PIXEL = 4318
  SAMPLE_PROJECTION_OFFSET = 2227.75
  SECOND_STANDARD_PARALLEL = "N/A"
  WESTERNMOST_LONGITUDE = 37.0133
END_OBJECT = IMAGE_MAP_PROJECTION
/* The JPEG2000 image data file associated with this label. */
OBJECT = COMPRESSED_FILE
  FILE_NAME = "H8771_0000_S13.JP2"
  RECORD_TYPE = UNDEFINED
  FILE_RECORDS = UNK
  ENCODING_TYPE = "JP2"
  INTERCHANGE_FORMAT = BINARY
  UNCOMPRESSED_FILE_NAME = "H8771_0000_S13.IMG"
  REQUIRED_STORAGE_BYTES = "67831462"
  ^DESCRIPTION = "JP2INFO.TXT"
END_OBJECT = COMPRESSED_FILE
END
