PDS_VERSION_ID = PDS3
/* FILE DATA ELEMENTS */
RECORD_TYPE = STREAM
/* POINTERS TO DATA OBJECTS */
^COMPRESSED_FILE = "H8806_0000_P13.JP2"
/* IDENTIFICATION DATA ELEMENTS */
DATA_SET_ID = "MEX-M-HRSC-5-REFDR-MAPPROJECTED-V3.0"
DATA_SET_NAME = "MARS EXPRESS HRSC MAP PROJECTED REFDR V3.0"
DETECTOR_ID = MEX_HRSC_P1
EVENT_TYPE = "MARS-GLOBAL-VARIABLE-Gl-At"
INSTRUMENT_HOST_ID = MEX
INSTRUMENT_HOST_NAME = "MARS EXPRESS"
INSTRUMENT_ID = HRSC
INSTRUMENT_NAME = "HIGH RESOLUTION STEREO CAMERA"
MISSION_NAME = "MARS EXPRESS"
MISSION_PHASE_NAME = ME_Phase_22
PROCESSING_LEVEL_ID = 3
PRODUCT_CREATION_TIME = 2016-10-26T07:44:53.000Z
PRODUCT_ID = "H8806_0000_P13.JP2"
RELEASE_ID = 0093
REVISION_ID = 0000
/* QUALITY DATA ELEMENTS */
DATA_QUALITY_ID = 1
DATA_QUALITY_DESC = "Data calculated based on original SPICE kernels"
/* TIME DATA ELEMENTS */
SPACECRAFT_CLOCK_START_COUNT = "1/0238428152.08252"
SPACECRAFT_CLOCK_STOP_COUNT = "1/0238428538.12643"
START_TIME = 2010-11-21T14:04:09.212Z
STOP_TIME = 2010-11-21T14:08:16.604Z
/* ORBITAL DATA ELEMENTS */
ASCENDING_NODE_LONGITUDE = 49.13
MAXIMUM_RESOLUTION = 100.4
FOOTPRINT_POINT_LATITUDE = (-67.7881,-67.7627,-67.7375,-67.7073, -67.6574,-67.6168,-67.4836,-67.2241, -66.9657,-66.5791,-66.3233,-66.0679, -65.6851,-65.4313,-65.1778,-64.924, -64.6722,-64.4216,-64.0462,-63.7967, -63.5481,-63.2997,-62.9285,-62.5585, -62.3132,-62.0687,-61.825,-61.5817, -61.3396,-60.9767,-60.7368,-60.3777, -60.1389,-59.9012,-59.6644,-59.4278, -59.1924,-58.9585,-58.6081,-58.3762, -58.0292,-57.7989,-57.5688,-57.1126, -56.7728,-56.4342,-55.9867,-55.5417, -55.5613,-55.5856,-55.6131,-55.6368, -55.6479,-55.6608,-55.6691,-55.675, -55.7905,-56.2387,-56.6903,-57.1458, -57.604,-57.8343,-58.0659,-58.2989, -58.5329,-58.7677,-59.0028,-59.2385, -59.4755,-59.7134,-59.9523,-60.1947, -60.4403,-60.6818,-60.9243,-61.1689, -61.4107,-61.6544,-61.8972,-62.1348, -62.3838,-62.7554,-63.0036,-63.2522, -63.5016,-63.7518,-64.1287,-64.3802, -64.6335,-64.887,-65.1411,-65.5242, -65.7803,-66.0368,-66.295,-66.5543, -66.8134,-67.0734,-67.3339,-67.7881)
FOOTPRINT_POINT_LONGITUDE = (59.5995,58.7819,58.0687,57.3059, 56.1919,55.3844,54.2596,54.349,54.4351, 54.5594,54.6375,54.7135,54.8247,54.8952 ,54.964,55.0323,55.0967,55.1584,55.2487 ,55.3067,55.3628,55.4179,55.4973,55.574 ,55.6225,55.6695,55.715,55.7596,55.8022 ,55.8651,55.9042,55.9614,55.9984, 56.0339,56.0681,56.102,56.1341,56.1646, 56.2094,56.2373,56.278,56.3041,56.3298, 56.3769,56.4098,56.4416,56.4801,56.5163 ,57.0197,57.6799,58.5418,59.2518, 59.7093,60.4727,61.1341,61.5429,61.9554 ,61.902,61.847,61.7908,61.7322,61.7021, 61.6721,61.6419,61.6113,61.5803,61.5481 ,61.5153,61.4822,61.4486,61.4145, 61.3821,61.3512,61.3152,61.2787,61.2426 ,61.2025,61.1626,61.1202,61.0716, 61.0316,60.9669,60.9221,60.8759,60.8287 ,60.7804,60.7059,60.6542,60.6022, 60.5484,60.493,60.4079,60.3492,60.2886, 60.2273,60.1649,60.0998,60.0331,59.9644 ,59.5995)
ORBIT_NUMBER = 8806
ORBITAL_ECCENTRICITY = 0.578
ORBITAL_INCLINATION = 86.84
ORBITAL_SEMIMAJOR_AXIS = 8763.5
PERIAPSIS_ALTITUDE = 320.8
PERIAPSIS_ARGUMENT_ANGLE = 257.57
PERIAPSIS_TIME = 2010-11-21T13:54:25.000Z
SPACECRAFT_ORIENTATION = (0.0,1.0,0.0)
^MEX_ORIENTATION_DESC = "MEX_ORIENTATION_DESC.TXT"
SPACECRAFT_POINTING_MODE = NADIR
^MEX_POINTING_DESC = "MEX_POINTING_DESC.TXT"
RIGHT_ASCENSION = -1e+32
DECLINATION = -1e+32
OFFSET_ANGLE = -1e+32
SPACECRAFT_SOLAR_DISTANCE = 2.17709e+08
TARGET_NAME = MARS
/* CAMERA DATA ELEMENTS */
DETECTOR_TEMPERATURE = 17.5549
FOCAL_PLANE_TEMPERATURE = 8.1755
INST_CMPRS_NAME = "DISCRETE COSINE TRANSFORMATION (DCT)"
INST_CMPRS_RATIO = 10.9139
INST_CMPRS_QUALITY = 0
INST_CMPRS_QUANTZ_TBL_ID = 0
INSTRUMENT_TEMPERATURE = 11.234
LENS_TEMPERATURE = 8.5833
MACROPIXEL_SIZE = 4
MISSING_FRAMES = 0
PIXEL_SUBSAMPLING_FLAG = N
SIGNAL_CHAIN_ID = 1
/* RADIOMETRIC DATA ELEMENTS */
BANDWIDTH = 174.0
CENTER_FILTER_WAVELENGTH = 675.0
RADIANCE_OFFSET = 5.24617
RADIANCE_SCALING_FACTOR = 0.0304967
REFLECTANCE_SCALING_FACTOR = 0.000777479
MEX:REFLECTANCE_OFFSET = 0.133745
/* IMAGE OBJECT DEFINITIONS */
OBJECT = IMAGE
  INTERCHANGE_FORMAT = BINARY
  LINES = 7309
  LINE_SAMPLES = 2039
  SAMPLE_TYPE = UNSIGNED_INTEGER
  SAMPLE_BITS = 8
  BANDS = 1
  BAND_STORAGE_TYPE = BAND_SEQUENTIAL
  MAXIMUM = 255
  MEAN = 128.154
  MINIMUM = 1
  STANDARD_DEVIATION = 46.0503
END_OBJECT = IMAGE
/* MAP OBJECT DEFINITIONS */
OBJECT = IMAGE_MAP_PROJECTION
  ^DATA_SET_MAP_PROJECTION_CATALOG= "DSMAP.CAT"
  A_AXIS_RADIUS = 3396.0
  B_AXIS_RADIUS = 3396.0
  C_AXIS_RADIUS = 3396.0
  CENTER_LATITUDE = 0.0
  CENTER_LONGITUDE = 58.0
  COORDINATE_SYSTEM_NAME = PLANETOGRAPHIC
  COORDINATE_SYSTEM_TYPE = "BODY-FIXED ROTATING"
  EASTERNMOST_LONGITUDE = 61.9554
  FIRST_STANDARD_PARALLEL = "N/A"
  LINE_FIRST_PIXEL = 1
  LINE_LAST_PIXEL = 7309
  LINE_PROJECTION_OFFSET = -32919.25
  MAP_PROJECTION_ROTATION = 0.0
  MAP_PROJECTION_TYPE = SINUSOIDAL
  MAP_RESOLUTION = 592.713803866667
  MAP_SCALE = 0.1
  MAXIMUM_LATITUDE = -55.5417
  MINIMUM_LATITUDE = -67.7881
  POSITIVE_LONGITUDE_DIRECTION = EAST
  REFERENCE_LATITUDE = "N/A"
  REFERENCE_LONGITUDE = "N/A"
  SAMPLE_FIRST_PIXEL = 1
  SAMPLE_LAST_PIXEL = 2039
  SAMPLE_PROJECTION_OFFSET = 821.25
  SECOND_STANDARD_PARALLEL = "N/A"
  WESTERNMOST_LONGITUDE = 54.2596
END_OBJECT = IMAGE_MAP_PROJECTION
/* The JPEG2000 image data file associated with this label. */
OBJECT = COMPRESSED_FILE
  FILE_NAME = "H8806_0000_P13.JP2"
  RECORD_TYPE = UNDEFINED
  FILE_RECORDS = UNK
  ENCODING_TYPE = "JP2"
  INTERCHANGE_FORMAT = BINARY
  UNCOMPRESSED_FILE_NAME = "H8806_0000_P13.IMG"
  REQUIRED_STORAGE_BYTES = "14923441"
  ^DESCRIPTION = "JP2INFO.TXT"
END_OBJECT = COMPRESSED_FILE
END
