PDS_VERSION_ID = PDS3
/* FILE DATA ELEMENTS */
RECORD_TYPE = STREAM
/* POINTERS TO DATA OBJECTS */
^COMPRESSED_FILE = "H8841_0000_GR3.JP2"
/* IDENTIFICATION DATA ELEMENTS */
DATA_SET_ID = "MEX-M-HRSC-5-REFDR-MAPPROJECTED-V3.0"
DATA_SET_NAME = "MARS EXPRESS HRSC MAP PROJECTED REFDR V3.0"
DETECTOR_ID = MEX_HRSC_GREEN
EVENT_TYPE = "MARS-GLOBAL-VARIABLE-Gl-Ot-At"
INSTRUMENT_HOST_ID = MEX
INSTRUMENT_HOST_NAME = "MARS EXPRESS"
INSTRUMENT_ID = HRSC
INSTRUMENT_NAME = "HIGH RESOLUTION STEREO CAMERA"
MISSION_NAME = "MARS EXPRESS"
MISSION_PHASE_NAME = ME_Phase_22
PROCESSING_LEVEL_ID = 3
PRODUCT_CREATION_TIME = 2016-10-26T07:44:53.000Z
PRODUCT_ID = "H8841_0000_GR3.JP2"
RELEASE_ID = 0093
REVISION_ID = 0000
/* QUALITY DATA ELEMENTS */
DATA_QUALITY_ID = 1
DATA_QUALITY_DESC = "Data calculated based on original SPICE kernels"
/* TIME DATA ELEMENTS */
SPACECRAFT_CLOCK_START_COUNT = "1/0239309212.08258"
SPACECRAFT_CLOCK_STOP_COUNT = "1/0239309417.48521"
START_TIME = 2010-12-01T18:47:28.390Z
STOP_TIME = 2010-12-01T18:49:10.647Z
/* ORBITAL DATA ELEMENTS */
ASCENDING_NODE_LONGITUDE = 48.48
MAXIMUM_RESOLUTION = 142.7
FOOTPRINT_POINT_LATITUDE = (-82.4847,-82.6376,-82.7375,-82.8317, -82.9095,-82.9928,-82.9788,-82.8155, -82.5424,-82.3782,-82.2136,-82.0458, -81.8205,-81.5949,-81.369,-81.1956, -81.0797,-80.9059,-80.7899,-80.6163, -80.4405,-80.3218,-80.2031,-80.0844, -79.9658,-79.8471,-79.7284,-79.6072, -79.4859,-79.3645,-79.2432,-79.1219, -79.0006,-78.8777,-78.7538,-78.6299, -78.5061,-78.3824,-78.2585,-78.1348, -78.0111,-77.8874,-77.7638,-77.6402, -77.5167,-77.3932,-77.2698,-77.1464, -77.0231,-76.9521,-76.9052,-76.8318, -76.7979,-76.7664,-76.7154,-76.6719, -76.6354,-76.5925,-76.6927,-76.8134, -76.9339,-77.0545,-77.175,-77.2949, -77.4132,-77.5334,-77.6536,-77.7739, -77.894,-78.0141,-78.1343,-78.2545, -78.3746,-78.4943,-78.6117,-78.729, -78.8462,-78.9634,-79.0805,-79.2553, -79.3696,-79.4838,-79.5978,-79.7119, -79.8257,-79.9394,-80.0518,-80.2736, -80.4946,-80.6049,-80.715,-80.9317, -81.0922,-81.3054,-81.5704,-81.7765, -81.9813,-82.1341,-82.3364,-82.4847)
FOOTPRINT_POINT_LONGITUDE = (56.2432,58.4216,59.9907,61.5998, 63.0423,64.7317,66.1908,66.681,67.4525, 67.8859,68.3019,68.7054,69.2197,69.7053 ,70.1646,70.5006,70.7201,71.036,71.24, 71.5259,71.813,71.9995,72.182,72.3591, 72.5311,72.6996,72.8634,73.0273,73.1874 ,73.3434,73.496,73.6446,73.79,73.9337, 74.0754,74.2135,74.3487,74.4791,74.6095 ,74.7356,74.8592,74.9803,75.0981, 75.2133,75.3267,75.4378,75.5459,75.6525 ,75.7562,75.0622,73.9557,72.423,71.7722 ,71.1971,70.3373,69.6288,69.0653, 68.4331,67.9606,67.8146,67.664,67.5112, 67.3549,67.1926,67.0192,66.8517,66.6805 ,66.506,66.3272,66.1446,65.9583,65.7683 ,65.5737,65.3743,65.175,64.9711,64.7626 ,64.5493,64.3313,63.9953,63.769,63.5376 ,63.3004,63.058,62.8094,62.5549,62.2973 ,61.7692,61.2144,60.9267,60.6322, 60.0295,59.5609,58.9076,58.0425,57.326, 56.5708,55.9776,55.1475,56.2432)
ORBIT_NUMBER = 8841
ORBITAL_ECCENTRICITY = 0.578
ORBITAL_INCLINATION = 86.85
ORBITAL_SEMIMAJOR_AXIS = 8767.61
PERIAPSIS_ALTITUDE = 320.87
PERIAPSIS_ARGUMENT_ANGLE = 251.63
PERIAPSIS_TIME = 2010-12-01T18:41:09.000Z
SPACECRAFT_ORIENTATION = (0.0,-1.0,0.0)
^MEX_ORIENTATION_DESC = "MEX_ORIENTATION_DESC.TXT"
SPACECRAFT_POINTING_MODE = NADIR
^MEX_POINTING_DESC = "MEX_POINTING_DESC.TXT"
RIGHT_ASCENSION = -1e+32
DECLINATION = -1e+32
OFFSET_ANGLE = -1e+32
SPACECRAFT_SOLAR_DISTANCE = 2.15931e+08
TARGET_NAME = MARS
/* CAMERA DATA ELEMENTS */
DETECTOR_TEMPERATURE = 18.3705
FOCAL_PLANE_TEMPERATURE = 8.3794
INST_CMPRS_NAME = "DISCRETE COSINE TRANSFORMATION (DCT)"
INST_CMPRS_RATIO = 28.4615
INST_CMPRS_QUALITY = 0
INST_CMPRS_QUANTZ_TBL_ID = 0
INSTRUMENT_TEMPERATURE = 11.0301
LENS_TEMPERATURE = 8.3794
MACROPIXEL_SIZE = 8
MISSING_FRAMES = 0
PIXEL_SUBSAMPLING_FLAG = N
SIGNAL_CHAIN_ID = 2
/* RADIOMETRIC DATA ELEMENTS */
BANDWIDTH = 88.0
CENTER_FILTER_WAVELENGTH = 538.0
RADIANCE_OFFSET = 0.906761
RADIANCE_SCALING_FACTOR = 0.0117453
REFLECTANCE_SCALING_FACTOR = 0.0004715
MEX:REFLECTANCE_OFFSET = 0.0364006
/* IMAGE OBJECT DEFINITIONS */
OBJECT = IMAGE
  INTERCHANGE_FORMAT = BINARY
  LINES = 3838
  LINE_SAMPLES = 2073
  SAMPLE_TYPE = UNSIGNED_INTEGER
  SAMPLE_BITS = 8
  BANDS = 1
  BAND_STORAGE_TYPE = BAND_SEQUENTIAL
  MAXIMUM = 255
  MEAN = 53.1506
  MINIMUM = 1
  STANDARD_DEVIATION = 30.285
END_OBJECT = IMAGE
/* MAP OBJECT DEFINITIONS */
OBJECT = IMAGE_MAP_PROJECTION
  ^DATA_SET_MAP_PROJECTION_CATALOG= "DSMAP.CAT"
  A_AXIS_RADIUS = 3396.0
  B_AXIS_RADIUS = 3396.0
  C_AXIS_RADIUS = 3396.0
  CENTER_LATITUDE = 0.0
  CENTER_LONGITUDE = 68.0
  COORDINATE_SYSTEM_NAME = PLANETOGRAPHIC
  COORDINATE_SYSTEM_TYPE = "BODY-FIXED ROTATING"
  EASTERNMOST_LONGITUDE = 75.75620000000001
  FIRST_STANDARD_PARALLEL = "N/A"
  LINE_FIRST_PIXEL = 1
  LINE_LAST_PIXEL = 3838
  LINE_PROJECTION_OFFSET = -45384.5625
  MAP_PROJECTION_ROTATION = 0.0
  MAP_PROJECTION_TYPE = SINUSOIDAL
  MAP_RESOLUTION = 592.713803866667
  MAP_SCALE = 0.1
  MAXIMUM_LATITUDE = -76.5925
  MINIMUM_LATITUDE = -82.9928
  POSITIVE_LONGITUDE_DIRECTION = EAST
  REFERENCE_LATITUDE = "N/A"
  REFERENCE_LONGITUDE = "N/A"
  SAMPLE_FIRST_PIXEL = 1
  SAMPLE_LAST_PIXEL = 2073
  SAMPLE_PROJECTION_OFFSET = 1011.3125
  SECOND_STANDARD_PARALLEL = "N/A"
  WESTERNMOST_LONGITUDE = 55.1475
END_OBJECT = IMAGE_MAP_PROJECTION
/* The JPEG2000 image data file associated with this label. */
OBJECT = COMPRESSED_FILE
  FILE_NAME = "H8841_0000_GR3.JP2"
  RECORD_TYPE = UNDEFINED
  FILE_RECORDS = UNK
  ENCODING_TYPE = "JP2"
  INTERCHANGE_FORMAT = BINARY
  UNCOMPRESSED_FILE_NAME = "H8841_0000_GR3.IMG"
  REQUIRED_STORAGE_BYTES = "7976904"
  ^DESCRIPTION = "JP2INFO.TXT"
END_OBJECT = COMPRESSED_FILE
END
